BEGIN:VCALENDAR
VERSION:2.0
PRODID:-//Harvard Law School//NONSGML Events//EN
CALSCALE:GREGORIAN
X-WR-CALNAME:Harvard Law School - Events
X-ORIGINAL-URL:https://hls.harvard.edu/calendar/
X-WR-CALDESC:Harvard Law School - Events
BEGIN:VEVENT
UID:20250915T1657Z-1757955430.402-EO-721622-1@10.73.5.249
STATUS:CONFIRMED
DTSTAMP:20260424T040941Z
CREATED:20250910T132421Z
LAST-MODIFIED:20250915T152719Z
DTSTART;TZID=America/New_York:20251001T123000
DTEND;TZID=America/New_York:20251001T133000
SUMMARY: Traphagen Distinguished Alumni Speaker Series with Norm Champ J.D.
  ’89
DESCRIPTION: Norm Champ is a partner in the New York office of Kirkland & E
 llis LLP\, where he heads up the regulatory solutions practice in the Inves
 tment Funds Group. Previously\, Norm was the director of the Division of In
 vestment Management at the U.S. Securities and Exchange Commission (SEC). P
 rior to that he was the Deputy Director of the SEC’s Office of Compliance\,
  Inspections and Examinations (OCIE) and the Associate Regional Director fo
 r Examinations in the SEC’s New York Regional Office. In these capacities h
 e supervised SEC examinations of investment advisers and other market parti
 cipants. Click to register.
X-ALT-DESC;FMTTYPE=text/html: <p>The HLS Alumni Center presents a lunchtime
  talk with Norm Champ J.D. '89. This event is part of the <a href="https://
 hls.harvard.edu/traphagen-speaker-series/">Traphagen Distinguished Alumni S
 peaker Series</a>\, where HLS alumni speak informally about their careers.<
 /p><p> </p><p>Norm Champ is a partner in the New York office of Kirkland & 
 Ellis LLP\, where he heads up the regulatory solutions practice in the Inve
 stment Funds Group. Previously\, Norm was the director of the Division of I
 nvestment Management at the U.S. Securities and Exchange Commission (SEC). 
 Prior to that he was the Deputy Director of the SEC’s Office of Compliance\
 , Inspections and Examinations (OCIE) and the Associate Regional Director f
 or Examinations in the SEC’s New York Regional Office. In these capacities 
 he supervised SEC examinations of investment advisers and other market part
 icipants.</p><p> </p><p>Norm counsels sophisticated private fund sponsors o
 n complying with the constantly changing regulatory environment in the Unit
 ed States and other countries. Private fund sponsors seek out Norm’s advice
  because he can bring to bear his perspective as a former regulator\, a for
 mer partner of a private fund manager and now a law firm partner. Norm’s la
 rge and wide-ranging practice\, including defending numerous SEC examinatio
 ns\, gives him unparalleled insight into the most pressing regulatory issue
 s in the market.</p><p> </p><p>Norm advises private fund sponsors in five m
 ain areas:</p><ul><li>Adviser Structuring — Counseling new sponsors and exi
 sting sponsors in structuring and registering investment advisers\, includi
 ng setting up compliance infrastructure.</li><li>Fundraising — Assisting pr
 ivate fund sponsors in fundraising to make sure disclosure meets regulators
 ’ expectations.</li><li>Transactions — Private fund sponsors often consult 
 Norm on deals to make sure that deal structures and related fees will withs
 tand regulatory scrutiny.</li><li>GP Strategic Matters — Assisting private 
 fund sponsors with regulatory issues regarding minority stake sales\, asset
  management mergers and acquisitions and secondary transactions.</li><li>Go
 vernment Interaction — Kirkland has represented private fund sponsors in nu
 merous examinations and enforcement actions\, including more than 175 SEC e
 xaminations since 2012.</li></ul><p> </p><p>Lunch will be served. All HLS s
 tudents are welcome. Please register in advance as space is limited. <a hre
 f="https://calendly.com/alumnicenter/traphagen-speaker-series-with-normcham
 p?month=2025-10">Click to register.</a></p><p><strong>Learn more about the 
 </strong><a href="https://hls.harvard.edu/traphagen-speaker-series/">Trapha
 gen Distinguished Alumni Speaker Series</a></p><p><strong>Questions? </stro
 ng><a href="mailto:alumnicenter@law.harvard.edu"><strong>alumnicenter@law.h
 arvard.edu</strong></a></p><p> </p>
LOCATION:Milstein East B
GEO:0.000000;0.000000
ORGANIZER;CN="Jeff Newton":MAILTO:jnewton@law.harvard.edu
URL;VALUE=URI:https://hls.harvard.edu/events/traphagen-distinguished-alumni
 -speaker-series-with-norm-champ-j-d-89/
ATTACH;FMTTYPE=image/jpeg:https://hls.harvard.edu/wp-content/uploads/2025/09/Norm-picture.jpg
END:VEVENT
BEGIN:VTIMEZONE
TZID:America/New_York
BEGIN:DAYLIGHT
TZOFFSETFROM:-0500
TZOFFSETTO:-0400
DTSTART:20250309T070000
TZNAME:EDT
END:DAYLIGHT
END:VTIMEZONE
END:VCALENDAR
