BEGIN:VCALENDAR
VERSION:2.0
PRODID:-//Harvard Law School//NONSGML Events//EN
CALSCALE:GREGORIAN
X-WR-CALNAME:Harvard Law School - Events
X-ORIGINAL-URL:https://hls.harvard.edu/calendar/
X-WR-CALDESC:Harvard Law School - Events
BEGIN:VEVENT
UID:20260307T1413Z-1772892821.7373-EO-742798-1@10.73.8.255
STATUS:CONFIRMED
DTSTAMP:20260424T001033Z
CREATED:20260306T163306Z
LAST-MODIFIED:20260323T151246Z
DTSTART;TZID=America/New_York:20260325T123000
DTEND;TZID=America/New_York:20260325T133000
SUMMARY: Women in M&A
DESCRIPTION: Join the American Bar Association (ABA)’s Women in M&A Subcomm
 ittee to hear from women who are blazing trails in Mergers & Acquisitions. 
 The panel will provide information on the day-to-day work and lifestyle of 
 an M&A lawyer and offer tips for building a successful career. Lunch from F
 lour provided by Morgan Lewis and Wilson Sonsini. […]
X-ALT-DESC;FMTTYPE=text/html: <p>Join the American Bar Association (ABA)’s 
 Women in M&A Subcommittee to hear from women who are blazing trails in Merg
 ers & Acquisitions. The panel will provide information on the day-to-day wo
 rk and lifestyle of an M&A lawyer and offer tips for building a successful 
 career.</p><p><span data-teams="true">Lunch from Flour provided by Morgan L
 ewis and Wilson Sonsini.</span></p><p>Please contact ocs@law.harvard.edu wi
 th any dietary restrictions at least three business days prior to the event
 .</p><p>Persons with disabilities who wish to request accommodations or who
  have questions about access\, please contact ocs@law.harvard.edu in advanc
 e of the event.</p>
CATEGORIES:Career Event
LOCATION:WCC 3016
GEO:0.000000;0.000000
ORGANIZER;CN="Ashli J Black":MAILTO:ablack@law.harvard.edu
URL;VALUE=URI:https://hls.harvard.edu/events/women-in-ma/
END:VEVENT
BEGIN:VTIMEZONE
TZID:America/New_York
BEGIN:DAYLIGHT
TZOFFSETFROM:-0500
TZOFFSETTO:-0400
DTSTART:20260308T070000
TZNAME:EDT
END:DAYLIGHT
END:VTIMEZONE
END:VCALENDAR
