BEGIN:VCALENDAR
VERSION:2.0
PRODID:-//Harvard Law School//NONSGML Events//EN
CALSCALE:GREGORIAN
X-WR-CALNAME:Harvard Law School - Events
X-ORIGINAL-URL:https://hls.harvard.edu/calendar/
X-WR-CALDESC:Harvard Law School - Events
BEGIN:VEVENT
UID:20260417T1310Z-1776431459.1639-EO-748445-1@10.73.0.38
STATUS:CONFIRMED
DTSTAMP:20260420T231918Z
CREATED:20260417T124954Z
LAST-MODIFIED:20260417T124954Z
DTSTART;TZID=America/New_York:20260421T122000
DTEND;TZID=America/New_York:20260421T131500
SUMMARY: WLA Book Giveaway
DESCRIPTION: Join WLA for a book giveaway on Tuesday\, April 21 from 12:20 
 – 1:15 (or until books run out) in WCC 1047!
X-ALT-DESC;FMTTYPE=text/html: <p>Join WLA for a book giveaway on Tuesday\, 
 April 21 from 12:20 - 1:15 (or until books run out) in WCC 1047!</p>
LOCATION:WCC 1047
GEO:0.000000;0.000000
ORGANIZER;CN="Elizabeth Messman":MAILTO:emessman@jd26.law.harvard.edu
URL;VALUE=URI:https://hls.harvard.edu/events/wla-book-giveaway/
END:VEVENT
BEGIN:VTIMEZONE
TZID:America/New_York
BEGIN:DAYLIGHT
TZOFFSETFROM:-0500
TZOFFSETTO:-0400
DTSTART:20260308T070000
TZNAME:EDT
END:DAYLIGHT
END:VTIMEZONE
END:VCALENDAR
