BEGIN:VCALENDAR
VERSION:2.0
PRODID:-//Harvard Law School//NONSGML Events//EN
CALSCALE:GREGORIAN
X-WR-CALNAME:Harvard Law School - Events
X-ORIGINAL-URL:https://hls.harvard.edu/calendar/
X-WR-CALDESC:Harvard Law School - Events
BEGIN:VEVENT
UID:20251028T1330Z-1761658212.7991-EO-730232-1@10.73.7.213
STATUS:CONFIRMED
DTSTAMP:20260423T205424Z
CREATED:20251028T130203Z
LAST-MODIFIED:20251028T130203Z
DTSTART;TZID=America/New_York:20251029T121500
DTEND;TZID=America/New_York:20251029T131500
SUMMARY: Will Harvard Protect Workers?
DESCRIPTION: On November 7th\, many Venezuelans with TPS will lose their st
 atus based on a shadow docket decision from the Supreme Court that has left
  them with no explanation and no recourse. This is an issue that is close t
 o home for us – we have staff members in our community on TPS and it’s our 
 […]
X-ALT-DESC;FMTTYPE=text/html: <p>On November 7th\, many Venezuelans with TP
 S will lose their status based on a shadow docket decision from the Supreme
  Court that has left them with no explanation and no recourse. This is an i
 ssue that is close to home for us - we have staff members in our community 
 on TPS and it’s our responsibility to show out to support them. Join us Wed
 nesday at lunch to learn more about what’s happening with TPS and hear from
  a former Harvard staff member and current TPS alliance member about how to
  get plugged in with the movement.</p>
CATEGORIES:Speaker/Panel
LOCATION:Austin Hall\; 111 Classroom - West
GEO:0;0
ORGANIZER;CN="Reilly Johnson":MAILTO:rjohnson@jd27.law.harvard.edu
URL;VALUE=URI:https://hls.harvard.edu/events/will-harvard-protect-workers/
ATTACH;FMTTYPE=image/png:https://hls.harvard.edu/wp-content/uploads/2025/10/protect-tps-lunch.png
END:VEVENT
BEGIN:VTIMEZONE
TZID:America/New_York
BEGIN:DAYLIGHT
TZOFFSETFROM:-0500
TZOFFSETTO:-0400
DTSTART:20250309T070000
TZNAME:EDT
END:DAYLIGHT
END:VTIMEZONE
END:VCALENDAR
