BEGIN:VCALENDAR
VERSION:2.0
PRODID:-//Harvard Law School//NONSGML Events//EN
CALSCALE:GREGORIAN
X-WR-CALNAME:Harvard Law School - Events
X-ORIGINAL-URL:https://hls.harvard.edu/calendar/
X-WR-CALDESC:Harvard Law School - Events
BEGIN:VEVENT
UID:20250914T2102Z-1757883745.2336-EO-721883-1@10.73.0.12
STATUS:CONFIRMED
DTSTAMP:20260423T142602Z
CREATED:20250910T130957Z
LAST-MODIFIED:20250910T130957Z
DTSTART;TZID=America/New_York:20250922T122000
DTEND;TZID=America/New_York:20250922T132000
SUMMARY: Where Can International Legal Studies Take You? An Introduction fo
 r 1Ls
DESCRIPTION: Welcome\, 1Ls! In this special session\, come learn about the 
 wide range of opportunities to engage with international\, foreign and comp
 arative law available during your time at HLS. We’ll discuss how you can bu
 ild a meaningful and enriching program through courses\, seminars and readi
 ng groups at HLS\; studying abroad for a semester or a joint J.D./LL.M. […]
X-ALT-DESC;FMTTYPE=text/html: <div class="js-hang-punc gutenberg-content"><
 p><a href="https://hls.harvard.edu/ils/welcome-1ls/">Welcome\, 1Ls!</a> In 
 this special session\, come learn about the wide range of opportunities to 
 engage with international\, foreign and comparative law available during yo
 ur time at HLS. We’ll discuss how you can build a meaningful and enriching 
 program through courses\, seminars and reading groups at HLS\; studying abr
 oad for a semester or a joint J.D./LL.M. degree\; Winter Term projects and 
 summer work in another country\; and more.</p><p>Lunch will be served.</p><
 /div>
CATEGORIES:Information Session
LOCATION:WCC\, Milstein East C
GEO:0.000000;0.000000
ORGANIZER;CN="Andre Barbic":MAILTO:abarbic@law.harvard.edu
URL;VALUE=URI:https://hls.harvard.edu/events/where-can-international-legal-
 studies-take-you-an-introduction-for-1ls/
END:VEVENT
BEGIN:VTIMEZONE
TZID:America/New_York
BEGIN:DAYLIGHT
TZOFFSETFROM:-0500
TZOFFSETTO:-0400
DTSTART:20250309T070000
TZNAME:EDT
END:DAYLIGHT
END:VTIMEZONE
END:VCALENDAR
