BEGIN:VCALENDAR
VERSION:2.0
PRODID:-//Harvard Law School//NONSGML Events//EN
CALSCALE:GREGORIAN
X-WR-CALNAME:Harvard Law School - Events
X-ORIGINAL-URL:https://hls.harvard.edu/calendar/
X-WR-CALDESC:Harvard Law School - Events
BEGIN:VEVENT
UID:20260307T0120Z-1772846429.9552-EO-742755-1@10.73.6.187
STATUS:CONFIRMED
DTSTAMP:20260424T201845Z
CREATED:20260306T155902Z
LAST-MODIFIED:20260306T155902Z
DTSTART;TZID=America/New_York:20260309T123000
DTEND;TZID=America/New_York:20260309T131500
SUMMARY: When Crypto Goes to Court: The Rise of Digital Asset Litigation
DESCRIPTION: Digital asset disputes are rewriting the playbook for securiti
 es litigation\, regulatory enforcement\, and white collar defense. This pan
 el brings together top litigators from DLA Piper\, Morrison Cohen\, and Jen
 ner & Block to examine the evolving theories driving crypto enforcement\, t
 he procedural complexities unique to blockchain cases\, and how practitione
 rs navigate parallel civil\, criminal\, and regulatory […]
X-ALT-DESC;FMTTYPE=text/html: <p>Digital asset disputes are rewriting the p
 laybook for securities litigation\, regulatory enforcement\, and white coll
 ar defense. This panel brings together top litigators from DLA Piper\, Morr
 ison Cohen\, and Jenner & Block to examine the evolving theories driving cr
 ypto enforcement\, the procedural complexities unique to blockchain cases\,
  and how practitioners navigate parallel civil\, criminal\, and regulatory 
 exposure. Students will gain insight into the strategic and doctrinal quest
 ions at the center of the industry’s most high-profile disputes.</p>
CATEGORIES:Speaker/Panel
LOCATION:WCC B010
GEO:0.000000;0.000000
ORGANIZER;CN="Aviva Wang":MAILTO:aviva_wang@hsph.harvard.edu
URL;VALUE=URI:https://hls.harvard.edu/events/when-crypto-goes-to-court-the-
 rise-of-digital-asset-litigation/
ATTACH;FMTTYPE=image/jpeg:https://hls.harvard.edu/wp-content/uploads/2026/03/WhatsApp-Image-2026-03-05-at-20.53.37-scaled.jpeg
END:VEVENT
BEGIN:VTIMEZONE
TZID:America/New_York
BEGIN:DAYLIGHT
TZOFFSETFROM:-0500
TZOFFSETTO:-0400
DTSTART:20260308T070000
TZNAME:EDT
END:DAYLIGHT
END:VTIMEZONE
END:VCALENDAR
