BEGIN:VCALENDAR
VERSION:2.0
PRODID:-//Harvard Law School//NONSGML Events//EN
CALSCALE:GREGORIAN
X-WR-CALNAME:Harvard Law School - Events
X-ORIGINAL-URL:https://hls.harvard.edu/calendar/
X-WR-CALDESC:Harvard Law School - Events
BEGIN:VEVENT
UID:20250912T1745Z-1757699149.5561-EO-721527-1@10.73.8.255
STATUS:CONFIRMED
DTSTAMP:20260423T175109Z
CREATED:20250908T141947Z
LAST-MODIFIED:20250908T141947Z
DTSTART;TZID=America/New_York:20250924T123000
DTEND;TZID=America/New_York:20250924T133000
SUMMARY: What Is Intelligence?
DESCRIPTION: “Life” and “intelligence” are terms with heavily contested mea
 nings. This discussion will offer a novel\, unified perspective on both\, a
 s described in Blaise Agüera y Arcas’ new book\, What Is Intelligence?: Les
 sons from AI About Evolution\, Computing\, and Minds (MIT Press and Antikyt
 hera\, September 2025). We begin with the striking idea first put forward b
 y John […]
X-ALT-DESC;FMTTYPE=text/html: <p>“Life” and “intelligence” are terms with h
 eavily contested meanings.</p><p>This discussion will offer a novel\, unifi
 ed perspective on both\, as described in Blaise Agüera y Arcas’ new book\, 
 <a href="https://mitpress.mit.edu/9780262049955/what-is-intelligence/">What
  Is Intelligence?</a>: Lessons from AI About Evolution\, Computing\, and Mi
 nds (MIT Press and Antikythera\, September 2025). We begin with the strikin
 g idea first put forward by John von Neumann around 1950: that general comp
 utation is at the heart of any living system.</p><p>Experiments in artifici
 al life (ALife) have now allowed us to observe how life can emerge from ran
 domness (abiogenesis)\, and suggest that “symbiogenesis” can play a central
  role in evolution. When computational entities enter into symbiotic relati
 onships\, they must model each other\, and when they merge\, “computational
  parallelism” enables them to become both more complex to model and more po
 werful as modelers.</p><p>Recent research from our group on multi-agent rei
 nforcement learning sheds additional light on how this form of modeling res
 ults in greater cooperation\, as opposed to the selfish dynamics of classic
 al game theory. These cooperative dynamics can spark “intelligence explosio
 ns\,” which are familiar to evolutionary neurobiologists who have explored 
 the relationships between troop size and brain scaling among highly social 
 animals.</p><p>Join us to learn how the evolution of life\, the major evolu
 tionary transitions (including the emergence of nervous systems and brains)
 \, intelligence explosions among highly intelligent species\, and even the 
 development of advanced technologies like AI\, can be understood as stages 
 in an ongoing process: computational symbiogenesis.</p><p><strong>In this i
 nteractive event\, your input will be essential to our conversation\, so ph
 ones are encouraged!</strong></p>
CATEGORIES:Book Talk
ORGANIZER;CN="Jessica Weaver":MAILTO:jweaver@law.harvard.edu
URL;VALUE=URI:https://hls.harvard.edu/events/what-is-intelligence/
ATTACH;FMTTYPE=image/png:https://hls.harvard.edu/wp-content/uploads/2025/09/BArcas_16x9-2.png
END:VEVENT
BEGIN:VTIMEZONE
TZID:America/New_York
BEGIN:DAYLIGHT
TZOFFSETFROM:-0500
TZOFFSETTO:-0400
DTSTART:20250309T070000
TZNAME:EDT
END:DAYLIGHT
END:VTIMEZONE
END:VCALENDAR
