BEGIN:VCALENDAR
VERSION:2.0
PRODID:-//Harvard Law School//NONSGML Events//EN
CALSCALE:GREGORIAN
X-WR-CALNAME:Harvard Law School - Events
X-ORIGINAL-URL:https://hls.harvard.edu/calendar/
X-WR-CALDESC:Harvard Law School - Events
BEGIN:VEVENT
UID:20250924T2310Z-1758755444.5655-EO-724566-1@10.73.9.45
STATUS:CONFIRMED
DTSTAMP:20260424T144610Z
CREATED:20250924T191541Z
LAST-MODIFIED:20251014T134100Z
DTSTART;TZID=America/New_York:20251015T122000
DTEND;TZID=America/New_York:20251015T132000
SUMMARY: Resilience and Recovery: Careers in Disaster Legal Services
DESCRIPTION: What is Disaster Lawyering? As climate change exacerbates envi
 ronmental disasters across the country\, lawyers play an increasingly impor
 tant role to help survivors recover from these devastating events. Hear fro
 m legal aid attorneys working in Texas\, Oklahoma\, and North Carolina disc
 uss their work\, including direct client services\, strategic litigation\, 
 and legislative advocacy\, and learn how young […]
X-ALT-DESC;FMTTYPE=text/html: <p class="elementtoproof"><b><span style="col
 or: black\;">What is Disaster Lawyering?</span></b></p><p class="elementtop
 roof"><span style="color: black\;">As climate change exacerbates environmen
 tal disasters across the country\, lawyers play an increasingly important r
 ole to help survivors recover from these devastating events. Hear from lega
 l aid attorneys working in Texas\, Oklahoma\, and North Carolina discuss th
 eir work\, including direct client services\, strategic litigation\, and le
 gislative advocacy\, and learn how young lawyers can start a career or get 
 involved pro bono in this critical work. </span></p><p><strong>Panelists:</
 strong></p><p>Lesley Albritton\, Chief Operations Officer <a href="https://
 legalaidnc.org/">Legal Aid North Carolina</a></p><p>Brian Candelaria\, Staf
 f Attorney <a href="https://oilsonline.org/">Oklahoma Indian Legal Services
 </a></p><p>Ana Laurel\, Staff Attorney <a href="https://www.trla.org/">Texa
 s Rio Grande Legal Aid</a></p><p>Moderated by <a href="https://eelp.law.har
 vard.edu/c_author/hannah-perls/">Hannah Perls</a>\, Senior Staff Attorney i
 n HLS Environmental Law and Energy Program (EELP)</p><p> </p><p>This event 
 is part of HLS’s Office of Clinical and Pro Bono Program's <a href="https:/
 /hls.harvard.edu/pro-bono/pro-bono-week/">annual celebration of pro bono</a
 >.  Co-sponsored by the Environmental Law and Energy Program\, Office of Pu
 blic Interest Advising\, and the HLS Texas Club.</p><p><a href="https://for
 ms.office.com/r/ZdCXumHfrx">RSVP</a> to help us plan for lunch. BBQ lunch f
 rom SmokeShop provided.</p><p>If you or an event participant requires disab
 ility-related accommodations\, please contact HLS Accessibility Services at
  <a href="mailto:accessibility@law.harvard.edu">accessibility@law.harvard.e
 du</a> two weeks in advance of the event.</p>
CATEGORIES:Speaker/Panel
LOCATION:WCC 3019
GEO:0.000000;0.000000
ORGANIZER;CN="Lee Mestre":MAILTO:lmestre@law.harvard.edu
URL;VALUE=URI:https://hls.harvard.edu/events/what-is-disaster-legal-service
 s/
ATTACH;FMTTYPE=image/jpeg:https://hls.harvard.edu/wp-content/uploads/2025/10/Disaster-Legal-Services-Event-poster-scaled.jpg
END:VEVENT
BEGIN:VTIMEZONE
TZID:America/New_York
BEGIN:DAYLIGHT
TZOFFSETFROM:-0500
TZOFFSETTO:-0400
DTSTART:20250309T070000
TZNAME:EDT
END:DAYLIGHT
END:VTIMEZONE
END:VCALENDAR
