BEGIN:VCALENDAR
VERSION:2.0
PRODID:-//Harvard Law School//NONSGML Events//EN
CALSCALE:GREGORIAN
X-WR-CALNAME:Harvard Law School - Events
X-ORIGINAL-URL:https://hls.harvard.edu/calendar/
X-WR-CALDESC:Harvard Law School - Events
BEGIN:VEVENT
UID:20251014T1333Z-1760448825.3919-EO-727758-1@10.73.0.4
STATUS:CONFIRMED
DTSTAMP:20260424T171605Z
CREATED:20251014T131046Z
LAST-MODIFIED:20251014T131046Z
DTSTART;TZID=America/New_York:20251103T122000
DTEND;TZID=America/New_York:20251103T132000
SUMMARY: Virtual Q&A with Brian Broderick
DESCRIPTION: Join us for a special virtual Q&A session with Brian Broderick
  (HLS ’25)\, a current law clerk for the Supreme Court of Pennsylvania. Thi
 s informal Zoom event is an opportunity for students and recent graduates t
 o ask questions and gain firsthand insight into the clerkship experience. B
 rian will share his perspective on the application process\, […]
X-ALT-DESC;FMTTYPE=text/html: <p>Join us for a special virtual Q&A session 
 with Brian Broderick (HLS ’25)\, a current law clerk for the Supreme Court 
 of Pennsylvania. This informal Zoom event is an opportunity for students an
 d recent graduates to ask questions and gain firsthand insight into the cle
 rkship experience. Brian will share his perspective on the application proc
 ess\, what life as a clerk is really like\, and how a clerkship can shape a
  legal career.</p>
CATEGORIES:Speaker/Panel
LOCATION:Zoom
GEO:40.712728;-74.006015
ORGANIZER;CN="Kent Vo":MAILTO:kvo@jd27.law.harvard.edu
URL;VALUE=URI:https://hls.harvard.edu/events/virtual-qa-with-brian-broderic
 k/
END:VEVENT
BEGIN:VTIMEZONE
TZID:America/New_York
BEGIN:STANDARD
TZOFFSETFROM:-0400
TZOFFSETTO:-0500
DTSTART:20251102T060000
TZNAME:EST
END:STANDARD
END:VTIMEZONE
END:VCALENDAR
