BEGIN:VCALENDAR
VERSION:2.0
PRODID:-//Harvard Law School//NONSGML Events//EN
CALSCALE:GREGORIAN
X-WR-CALNAME:Harvard Law School - Events
X-ORIGINAL-URL:https://hls.harvard.edu/calendar/
X-WR-CALDESC:Harvard Law School - Events
BEGIN:VEVENT
UID:20260421T1817Z-1776795437.3671-EO-749356-1@10.73.6.51
STATUS:CONFIRMED
DTSTAMP:20260421T141717Z
CREATED:20260421T135914Z
LAST-MODIFIED:20260421T135914Z
DTSTART;TZID=America/New_York:20260428T090000
DTEND;TZID=America/New_York:20260428T103000
SUMMARY: Virtual Book Launch — Emancipating International Law: Confronting 
 the Violence of Racialized Boundaries
DESCRIPTION: What role can international law play in confronting the racial
 ised effects of rising fascism? Join the Institute for Global Law and Polic
 y for the Virtual Launch of Emancipating International Law: Confronting the
  Violence of Racialized Boundaries (OUP 2026)\, edited by Mohsen al Attar a
 nd Claire Smith.
X-ALT-DESC;FMTTYPE=text/html: <div data-olk-copy-source="MessageBody">What 
 role can international law play in confronting the racialised effects of ri
 sing fascism?</div><div data-olk-copy-source="MessageBody"></div><div>Join 
 the Institute for Global Law and Policy for the <b>Virtual Launch</b> of <i
 >Emancipating International Law: Confronting the Violence of Racialized Bou
 ndaries</i> (OUP 2026)\, edited by Mohsen al Attar and Claire Smith.</div><
 div></div><div><b>Tuesday\, 28 April | 9:00 AM EST / 2:00 PM GMT | Zoom</b>
 <br />Registration: <a id="OWAf41e4716-2293-f0b6-6165-da111843ab5e" title="
 https://harvard.zoom.us/meeting/register/rNtBWuOuRGGEYfpzPG2dCA#/registrati
 on" href="https://harvard.zoom.us/meeting/register/rNtBWuOuRGGEYfpzPG2dCA#/
 registration" target="_blank" rel="noopener noreferrer" data-auth="NotAppli
 cable" data-end="645" data-start="568" data-linkindex="0">https://harvard.z
 oom.us/meeting/register/rNtBWuOuRGGEYfpzPG2dCA#/registration</a></div><div>
 </div><div>The global resurgence of fascist narratives has been propelled b
 y the persistence of racist ideologies and practices. Paralleling historic 
 moments of crisis\, power today is being consolidated through racialised vi
 olence and subordination. This has manifested through the mainstreaming of 
 racist discourse\; the dispensability of non-white life in war and genocide
 \; hostile policies towards migrants and refugees\; and the suppression of 
 racial justice initiatives across civil society and academic spaces. The fa
 ult-lines in international law\, including the racial dynamics embedded in 
 its doctrines\, have become increasingly apparent\, raising questions about
  the framework’s silence and complicity in the face of evolving racial inju
 stice(s).</div><div></div><div>Is there a role for international law in con
 fronting the racialised effects of fascism? How have international legal sc
 holars responded? To answer these questions\, we invite you to the <b>Virtu
 al Launch</b> of <i>Emancipating International Law: Confronting the Violenc
 e of Racialised Boundaries</i> (OUP\, 2026)\, a collection of chapters that
  explores the dynamic relationship between race\, racism\, and internationa
 l law. Contributors speak to the racialised features that permeate the inte
 rnational law project\, and structures central to international law\, with 
 a view to interrogating both its potential and its limitations in addressin
 g today’s — and tomorrow’s — challenges.</div><div></div><div><b>Speakers a
 nd Facilitator</b></div><ul data-end="3732" data-start="2091"><li><b>Mohsen
  al Attar</b> is a Reader in International Law and Associate Dean for Learn
 ing and Teaching at Xi’an Jiaotong-Liverpool University. His research explo
 res power dynamics in international law and the emergence of alternative un
 iversals.</li><li><b>Dylan Asafo</b> is a Senior Lecturer of Law at the Uni
 versity of Auckland. His research focuses on race and the law\, climate jus
 tice in the Pacific\, constitutional and human rights law\, and criminal ju
 stice and abolition.</li><li><b>Christopher Gevers</b> is an Associate Prof
 essor and Director of the Centre for Applied Legal Studies at the Universit
 y of the Witwatersrand. His research interests include Pan-Africanism\, Dec
 olonisation\, Critical Race Theory\, and Third World Approaches to Internat
 ional Law.</li><li><b><span class="markhy1p1jy0q" data-markjs="true" data-o
 gac="" data-ogab="" data-ogsc="" data-ogsb="">Suraj</span> Girijashanker</b
 > is a Residential Fellow at the Institute for Global Law and Policy at Har
 vard Law School. His research examines the nexus between race\, empire\, an
 d law\, particularly in relation to migration.</li><li><b>Darryl Li</b> is 
 an Associate Professor of Anthropology and Associate Member of the Law Scho
 ol at the University of Chicago. His work thinks about questions of war\, l
 aw\, migration\, empire\, and racialisation across the Middle East\, South 
 Asia\, and the Balkans.</li><li><b>S. Priya Morley</b> is Director of the R
 acial Justice Initiative at the Bernstein Institute for Human Rights and a 
 Project Advisor at the Global Justice Clinic\, NYU School of Law. She leads
  academic\, advocacy\, and policy initiatives at the intersection of racial
  justice and critical approaches to international human rights\, with a par
 ticular focus on migration\, climate justice\, and reparations.</li></ul>
CATEGORIES:Book Talk
LOCATION:Zoom
GEO:40.712728;-74.006015
ORGANIZER;CN="Seamus Darby":MAILTO:sdarby@law.harvard.edu
URL;VALUE=URI:https://hls.harvard.edu/events/virtual-book-launch-emancipati
 ng-international-law-confronting-the-violence-of-racialized-boundaries/
ATTACH;FMTTYPE=image/png:https://hls.harvard.edu/wp-content/uploads/2026/04/poster_page_1-1-scaled.png
END:VEVENT
BEGIN:VTIMEZONE
TZID:America/New_York
BEGIN:DAYLIGHT
TZOFFSETFROM:-0500
TZOFFSETTO:-0400
DTSTART:20260308T070000
TZNAME:EDT
END:DAYLIGHT
END:VTIMEZONE
END:VCALENDAR
