BEGIN:VCALENDAR
VERSION:2.0
PRODID:-//Harvard Law School//NONSGML Events//EN
CALSCALE:GREGORIAN
X-WR-CALNAME:Harvard Law School - Events
X-ORIGINAL-URL:https://hls.harvard.edu/calendar/
X-WR-CALDESC:Harvard Law School - Events
BEGIN:VEVENT
UID:20250311T2134Z-1741728892.7946-EO-693263-1@10.73.8.218
STATUS:CONFIRMED
DTSTAMP:20260423T014557Z
CREATED:20250311T191615Z
LAST-MODIFIED:20250311T191615Z
DTSTART;TZID=America/New_York:20250408T123000
DTEND;TZID=America/New_York:20250408T131500
SUMMARY: Using AI Tools in Legal Practice: A Lunch & Learn with Quinn Emanu
 el
DESCRIPTION: RSVP Hot lunch will be provided! Please RSVP to chloetolderlun
 d@quinnemanuel.com About the Event AI tools are transforming how attorneys 
 work across the profession\, creating both opportunities for efficiency and
  questions about the future role of lawyers. This session will explore the 
 real-world integration of these technologies at Quinn Emanuel\, addressing 
 the concerns many law students […]
X-ALT-DESC;FMTTYPE=text/html: <p><strong>RSVP</strong></p><p><strong>Hot lu
 nch will be provided! Please RSVP to <a href="mailto:chloetolderlund@quinne
 manuel.com">chloetolderlund@quinnemanuel.com</a></strong></p><p><strong>Abo
 ut the Event</strong></p><p>AI tools are transforming how attorneys work ac
 ross the profession\, creating both opportunities for efficiency and questi
 ons about the future role of lawyers. This session will explore the real-wo
 rld integration of these technologies at Quinn Emanuel\, addressing the con
 cerns many law students have about how these changes might affect their car
 eer trajectories and the skills they should develop.</p><p>Join Partner Chr
 is Kercher and Manager of AI/ML Applications Attorney Jennifer Reeves for t
 his candid conversation designed for law students interested in understandi
 ng how AI is actually being used in practice today and what it means for th
 eir professional futures.</p><p>We'll cover:</p><ul><li>Current AI Applicat
 ions: How Quinn Emanuel is using these tools in everyday work</li><li>The R
 eality Check: Where AI excels and where attorney expertise remains essentia
 l</li><li>Career Evolution: How associate roles are changing and which skil
 ls maintain their value</li><li>Market Perspective: Trends in AI adoption a
 cross firms and what's likely coming next</li><li>Student Q&A: Addressing s
 pecific concerns about entering the profession during this technological tr
 ansition</li></ul>
CATEGORIES:Career Event,Meal Function,Speaker/Panel
LOCATION:WCC\; 2004 Classroom
GEO:0;0
ORGANIZER;CN="Kevin Wei":MAILTO:kwei@jd26.law.harvard.edu
URL;VALUE=URI:https://hls.harvard.edu/events/using-ai-tools-in-legal-practi
 ce-a-lunch-learn-with-quinn-emanuel/
ATTACH;FMTTYPE=image/png:https://hls.harvard.edu/wp-content/uploads/2025/03/Ai-Tools-Lunch-and-Learn-1.png
END:VEVENT
BEGIN:VTIMEZONE
TZID:America/New_York
BEGIN:DAYLIGHT
TZOFFSETFROM:-0500
TZOFFSETTO:-0400
DTSTART:20250309T070000
TZNAME:EDT
END:DAYLIGHT
END:VTIMEZONE
END:VCALENDAR
