BEGIN:VCALENDAR
VERSION:2.0
PRODID:-//Harvard Law School//NONSGML Events//EN
CALSCALE:GREGORIAN
X-WR-CALNAME:Harvard Law School - Events
X-ORIGINAL-URL:https://hls.harvard.edu/calendar/
X-WR-CALDESC:Harvard Law School - Events
BEGIN:VEVENT
UID:20250416T2305Z-1744844728.6252-EO-700968-1@10.73.10.96
STATUS:CONFIRMED
DTSTAMP:20260422T064917Z
CREATED:20250416T202230Z
LAST-MODIFIED:20250416T202230Z
DTSTART;TZID=America/New_York:20250513T120000
DTEND;TZID=America/New_York:20250513T130000
SUMMARY: Ukraine: Scenarios for the Future
DESCRIPTION: Alexandra Vacroux\, Vice President for Strategic Engagement\, 
 Kyiv School of Economics\, (on leave from Harvard’s Davis Center for Russia
 n and Eurasian Studies for 2024-2025)\, returns with an update on the war i
 n Ukraine. Three years in\, and the war in Ukraine continues. Russia is sen
 ding drones and ballistic missiles to hit both civilian and military […]
X-ALT-DESC;FMTTYPE=text/html: <p><strong>Alexandra Vacroux\, </strong>Vice 
 President for Strategic Engagement\, Kyiv School of Economics\, (on leave f
 rom Harvard’s Davis Center for Russian and Eurasian Studies for 2024-2025)\
 , returns with an update on the war in Ukraine.</p><p>Three years in\, and 
 the war in Ukraine continues. Russia is sending drones and ballistic missil
 es to hit both civilian and military targets across Ukraine nearly every da
 y. Ukraine has reciprocated by striking military sites and oil refineries. 
 On the ground\, the conflict is no closer to ending than it has been in the
  past 1\,000 days. Trump\, however\, would like to broker a ceasefire. Is t
 his realistic? Does Putin want the conflict to stop? How does this war end?
  This talk will address these questions within the larger context of where 
 the war is now.</p><p>Speaker bio at <a href="https://www.pon.harvard.edu/e
 vents/kelman-seminar-ukraine-scenarios-for-the-future/">pon.harvard.edu</a>
 </p>
CATEGORIES:Speaker/Panel
LOCATION:Zoom
GEO:40.712728;-74.006015
ORGANIZER;CN="Diane Long":MAILTO:dlong@law.harvard.edu
URL;VALUE=URI:https://hls.harvard.edu/events/ukraine-scenarios-for-the-futu
 re/
ATTACH;FMTTYPE=image/jpeg:https://hls.harvard.edu/wp-content/uploads/2025/04/Alexandra-Vacroux.jpg
END:VEVENT
BEGIN:VTIMEZONE
TZID:America/New_York
BEGIN:DAYLIGHT
TZOFFSETFROM:-0500
TZOFFSETTO:-0400
DTSTART:20250309T070000
TZNAME:EDT
END:DAYLIGHT
END:VTIMEZONE
END:VCALENDAR
