BEGIN:VCALENDAR
VERSION:2.0
PRODID:-//Harvard Law School//NONSGML Events//EN
CALSCALE:GREGORIAN
X-WR-CALNAME:Harvard Law School - Events
X-ORIGINAL-URL:https://hls.harvard.edu/calendar/
X-WR-CALDESC:Harvard Law School - Events
BEGIN:VEVENT
UID:20251023T2012Z-1761250358.3536-EO-729682-1@10.73.9.43
STATUS:CONFIRMED
DTSTAMP:20260422T124616Z
CREATED:20251023T184353Z
LAST-MODIFIED:20251023T184353Z
DTSTART;TZID=America/New_York:20251103T121500
DTEND;TZID=America/New_York:20251103T131500
SUMMARY: Translating Human Rights Scholarship into Justice
DESCRIPTION: Join us for an engaging panel with Harvard Law School S.J.D. c
 andidates whose diverse research is shaping the future of human rights law.
  Hear about their academic journeys and explore current scholarship on topi
 cs such as reimagining war-time reparations\, the evolution of Muslim famil
 y law in South Asia\, legal approaches to African economic integration and 
 […]
X-ALT-DESC;FMTTYPE=text/html: <p><span data-contrast="auto">Join us for an 
 engaging panel with Harvard Law School S.J.D. candidates whose diverse rese
 arch is shaping the future of human rights law. Hear about their academic j
 ourneys and explore current scholarship on topics such as reimagining war-t
 ime reparations\, the evolution of Muslim family law in South Asia\, legal 
 approaches to African economic integration and inequality\, and strategies 
 for regulating greenhouse gas emissions.</span><span data-ccp-props="{"1342
 33117":false\,"134233118":false\,"335557856":16777215\,"335559738":300\,"33
 5559739":300}"> </span></p><p><span data-contrast="auto">Discover how these
  scholars are addressing issues of justice\, gender equity\, economic dispa
 rity\, and climate accountability across the globe. Join us to gain deeper 
 insight into the challenges and opportunities facing human rights advocates
  and legal scholars today.</span><span data-ccp-props="{"134233117":false\,
 "134233118":false\,"335557856":16777215\,"335559738":300\,"335559739":0}"> 
 </span></p><p><span data-ccp-props="{"134233279":true\,"335559739":0}"> </s
 pan></p><p><b><span data-contrast="none">Featured Speakers:</span></b><span
  data-ccp-props="{"134233279":true\,"335559739":0}"> </span><span data-ccp-
 props="{"134233279":true\,"335559739":0}"> </span></p><p><b><span data-cont
 rast="none">Arnaaz Ameer </span></b><span data-ccp-props="{"134233279":true
 \,"335559739":0}"><br /></span><span data-contrast="none">S.J.D. Candidate<
 /span><span data-ccp-props="{"134233279":true\,"335559739":0}"><br /></span
 ><span data-contrast="none">Dissertation: Waging Peace: A Reimagination of 
 War-Time Remedies and Reparations\, and Lessons from Private Law</span><spa
 n data-ccp-props="{"134233279":true\,"335559739":0}"> </span></p><p><b><spa
 n data-contrast="none">Iqra Khan</span></b><span data-ccp-props="{"13423327
 9":true\,"335559739":0}"><br /></span><span data-contrast="none">S.J.D. Can
 didate</span><span data-ccp-props="{"134233279":true\,"335559739":0}"><br /
 ></span><span data-contrast="none">Dissertation: Muslim Family Law Ordinanc
 e in Pakistan and Bangladesh\; A Comparative Study of Development and Impac
 t</span><span data-ccp-props="{"134233279":true\,"335559739":0}"> </span><s
 pan data-ccp-props="{"134233279":true\,"335559739":0}"> </span></p><p><b><s
 pan data-contrast="none">Rose Karoro</span></b><br /><span data-contrast="n
 one">S.J.D. Candidate</span><span data-ccp-props="{"134233279":true\,"33555
 9739":0}"><br /></span><span data-contrast="none">Dissertation: African Eco
 nomic Integration: Law and the Dynamics of Inequality. </span><span data-cc
 p-props="{"134233279":true\,"335559739":0}"> </span><span data-ccp-props="{
 "134233279":true\,"335559739":0}"> </span></p><p><b><span data-contrast="no
 ne">Gustavo Manicardi Schneider</span></b><span data-ccp-props="{"134233279
 ":true\,"335559739":0}"><br /></span><span data-contrast="none">S.J.D. Cand
 idate</span><span data-ccp-props="{"134233279":true\,"335559739":0}"><br />
 </span><span data-contrast="none">Dissertation: Coding Greenhouse Gas Emiss
 ions: Agents\, Litigation and Legal Practice</span><span data-ccp-props="{"
 134233279":true\,"335559739":0}"> </span><span data-ccp-props="{"134233279"
 :true\,"335559739":0}"> </span></p><p><b><span data-contrast="none">Moderat
 ed by:</span></b><span data-ccp-props="{"134233117":false\,"134233118":fals
 e\,"134233279":true\,"201341983":0\,"335551550":1\,"335551620":1\,"33555968
 5":0\,"335559737":0\,"335559738":0\,"335559739":0\,"335559740":278}"> </spa
 n></p><p><span data-ccp-props="{"134233117":false\,"134233118":false\,"1342
 33279":true\,"134245418":true\,"134245529":true\,"201341983":0\,"335551550"
 :1\,"335551620":1\,"335559685":0\,"335559737":0\,"335559738":0\,"335559739"
 :0\,"335559740":278}"> </span><b><span data-contrast="none">Angel Cabrera S
 ilva\, S.J.D. ‘23</span></b><span data-ccp-props="{"134233117":false\,"1342
 33118":false\,"134233279":true\,"134245418":false\,"134245529":false\,"2013
 41983":0\,"335551550":1\,"335551620":1\,"335559685":0\,"335559737":0\,"3355
 59738":0\,"335559739":0\,"335559740":240}"><br /></span><span data-contrast
 ="none">Assistant Professor of International Law & Human Rights</span><span
  data-ccp-props="{"134233117":false\,"134233118":false\,"134233279":true\,"
 134245418":false\,"134245529":false\,"201341983":0\,"335551550":1\,"3355516
 20":1\,"335557856":16777215\,"335559738":0\,"335559739":0\,"335559740":240}
 "><br /></span><span data-contrast="none">University of Washington\, Tacoma
 </span><span data-ccp-props="{"134233117":false\,"134233118":false\,"134233
 279":true\,"134245418":false\,"134245529":false\,"201341983":0\,"335551550"
 :1\,"335551620":1\,"335557856":16777215\,"335559738":0\,"335559739":0\,"335
 559740":240}"> </span></p>
CATEGORIES:Speaker/Panel
LOCATION:WCC\; 4059 Room
GEO:0;0
ORGANIZER;CN="Sanjana Nayak":MAILTO:snayak@law.harvard.edu
URL;VALUE=URI:https://hls.harvard.edu/events/translating-human-rights-schol
 arship-into-justice/
ATTACH;FMTTYPE=image/png:https://hls.harvard.edu/wp-content/uploads/2025/10/SJD-poster.png
END:VEVENT
BEGIN:VTIMEZONE
TZID:America/New_York
BEGIN:STANDARD
TZOFFSETFROM:-0400
TZOFFSETTO:-0500
DTSTART:20251102T060000
TZNAME:EST
END:STANDARD
END:VTIMEZONE
END:VCALENDAR
