BEGIN:VCALENDAR
VERSION:2.0
PRODID:-//Harvard Law School//NONSGML Events//EN
CALSCALE:GREGORIAN
X-WR-CALNAME:Harvard Law School - Events
X-ORIGINAL-URL:https://hls.harvard.edu/calendar/
X-WR-CALDESC:Harvard Law School - Events
BEGIN:VEVENT
UID:20241012T2120Z-1728768048.1412-EO-673475-1@10.73.8.218
STATUS:CONFIRMED
DTSTAMP:20260424T091435Z
CREATED:20241010T184003Z
LAST-MODIFIED:20260127T155238Z
DTSTART;TZID=America/New_York:20241030T121500
DTEND;TZID=America/New_York:20241030T131500
SUMMARY: The Story of Dobbs with Solicitor General Scott Stewart
DESCRIPTION: Mississippi Solicitor General Scott Stewart will discuss the s
 tory of arguing Dobbs v. Jackson Women’s Health Organization\, the case whi
 ch overturned Roe v. Wade.
X-ALT-DESC;FMTTYPE=text/html: <p>Mississippi Solicitor General Scott Stewar
 t will discuss the story of arguing Dobbs v. Jackson Women's Health Organiz
 ation\, the case which overturned Roe v. Wade.  </p>
LOCATION:Austin Hall\; 111 Classroom - West
GEO:0;0
ORGANIZER;CN="API User":MAILTO:api@law.harvard.edu
URL;VALUE=URI:https://hls.harvard.edu/events/the-story-of-dobbs-with-solici
 tor-general-scott-stewart/
END:VEVENT
BEGIN:VTIMEZONE
TZID:America/New_York
BEGIN:DAYLIGHT
TZOFFSETFROM:-0500
TZOFFSETTO:-0400
DTSTART:20240310T070000
TZNAME:EDT
END:DAYLIGHT
END:VTIMEZONE
END:VCALENDAR
