BEGIN:VCALENDAR
VERSION:2.0
PRODID:-//Harvard Law School//NONSGML Events//EN
CALSCALE:GREGORIAN
X-WR-CALNAME:Harvard Law School - Events
X-ORIGINAL-URL:https://hls.harvard.edu/calendar/
X-WR-CALDESC:Harvard Law School - Events
BEGIN:VEVENT
UID:20250331T2159Z-1743458387.7529-EO-697798-1@10.73.9.11
STATUS:CONFIRMED
DTSTAMP:20260421T222938Z
CREATED:20250331T192328Z
LAST-MODIFIED:20250408T165052Z
DTSTART;TZID=America/New_York:20250410T121500
DTEND;TZID=America/New_York:20250410T131500
SUMMARY: The Past Will Not Be Silenced: Haiti and the Global Calls for Repa
 ratory Justice
DESCRIPTION: 2025 marks 200 years since France forced Haiti to pay an “Inde
 pendence Debt” for its liberation. The debt – meant to “compensate” France 
 for its loss of enslaved people — has kept Haiti impoverished and unstable 
 for decades.   Join us for a panel discussion to explore the consequences o
 f the debt 200 years later\, the […]
X-ALT-DESC;FMTTYPE=text/html: <p><span data-contrast="none">2025 marks 200 
 years since France forced Haiti to pay an “Independence Debt” for its liber
 ation. The debt – meant to “compensate” France for its loss of enslaved peo
 ple -- has kept Haiti impoverished and unstable for decades. </span><span d
 ata-ccp-props="{}"> </span></p><p><span data-contrast="none">Join us for a 
 panel discussion to explore the consequences of the debt 200 years later\, 
 the legal case for restitution\, and Haiti’s role in the global movement fo
 r reparations for the lasting consequences of colonialism and enslavement.<
 /span><span data-ccp-props="{}"> </span></p><p> </p><p><strong>Speakers:</s
 trong></p><p><span data-contrast="none">Monique Clesca\, Co-founder of Kole
 ktif Ayisyen Afro-Desanda</span><span data-ccp-props="{}"> </span></p><p><s
 pan data-contrast="none">Dr. Michael McEachrane\, Rapporteur of the UN Perm
 anent Forum on People of African Descent and 2024-2025 Harvard Carr Center 
 Racial Justice Fellow </span><span data-ccp-props="{}"> </span></p><p><span
  data-contrast="none">Brian Concannon Jr.\, Esq.\, Executive Director\, Ins
 titute for Justice & Democracy in Haiti  </span><span data-ccp-props="{}"> 
 </span></p><p><span data-contrast="none">Moderated by </span>Régine Théodat
 \, Principal\, Ananas Consulting</p><p><span data-ccp-props="{}"> </span></
 p><p><b><span data-contrast="none">Lunch will be served.</span></b></p><p><
 strong><a href="https://harvard.zoom.us/webinar/register/WN_lA22NXAERbmGkeC
 SUywmhw">Register now</a>. </strong></p>
CATEGORIES:Discussion
LOCATION:WCC\; 2004 Classroom
GEO:0;0
ORGANIZER;CN="Sanjana Nayak":MAILTO:snayak@law.harvard.edu
URL;VALUE=URI:https://hls.harvard.edu/events/the-past-will-not-be-silenced-
 haiti-and-the-global-calls-for-reparatory-justice/
ATTACH;FMTTYPE=image/png:https://hls.harvard.edu/wp-content/uploads/2025/04/Haiti-Event-0410-1207-x-793-px.png
END:VEVENT
BEGIN:VTIMEZONE
TZID:America/New_York
BEGIN:DAYLIGHT
TZOFFSETFROM:-0500
TZOFFSETTO:-0400
DTSTART:20250309T070000
TZNAME:EDT
END:DAYLIGHT
END:VTIMEZONE
END:VCALENDAR
