BEGIN:VCALENDAR
VERSION:2.0
PRODID:-//Harvard Law School//NONSGML Events//EN
CALSCALE:GREGORIAN
X-WR-CALNAME:Harvard Law School - Events
X-ORIGINAL-URL:https://hls.harvard.edu/calendar/
X-WR-CALDESC:Harvard Law School - Events
BEGIN:VEVENT
UID:20251023T2012Z-1761250361.2044-EO-729694-1@10.73.9.43
STATUS:CONFIRMED
DTSTAMP:20260424T102019Z
CREATED:20251023T193232Z
LAST-MODIFIED:20251023T220503Z
DTSTART;TZID=America/New_York:20251107T123000
DTEND;TZID=America/New_York:20251107T133000
SUMMARY: The Modern State of ICE & Immigration Enforcement Event Registrati
 on
DESCRIPTION: Join us for a conversation on due process and the legal implic
 ations of the modern ICE and Immigration Enforcement agenda in conversation
  with civil rights lawyer and the longest-serving General Counsel of the U.
 S. Equal Employment Opportunity Commission Professor David Lopez. Professor
  David Lopez is a distinguished Professor of Practice at Arizona State Univ
 ersity\, joined […]
X-ALT-DESC;FMTTYPE=text/html: <p>Join us for a conversation on due process 
 and the legal implications of the modern ICE and Immigration Enforcement ag
 enda in conversation with civil rights lawyer and the longest-serving Gener
 al Counsel of the U.S. Equal Employment Opportunity Commission Professor Da
 vid Lopez.</p><p>Professor David Lopez is a distinguished Professor of Prac
 tice at Arizona State University\, joined Rutgers Law School as Co-Dean in 
 August 2018\, and was the longest-serving General Counsel of the U.S. Equal
  Employment Opportunity Commission. Dean Lopez was twice nominated to the p
 osition by President Barack Obama and confirmed by the United States Senate
 . He most recently worked as a partner at Outten & Golden in Washington D.C
 . and is a nationally-recognized expert in Civil Rights and Employment Law.
 </p><p>Please join us Friday November 7th at 12:30 pm. Colombian Food will 
 be served for lunch.</p><p>Non-Alianza members are welcome and encouraged t
 o attend.</p><p>If you have any questions please contact Zoe Mavrides at zm
 avrides@jd27.law.harvard.edu or Elvianna De Jesus at edejesus@jd26.law.harv
 ard.edu."</p>
LOCATION:WCC\; B010 Singer Classroom
GEO:0;0
ORGANIZER;CN="API User":MAILTO:api@law.harvard.edu
URL;VALUE=URI:https://hls.harvard.edu/events/the-modern-state-of-ice-immigr
 ation-enforcement-event-registration/
END:VEVENT
BEGIN:VTIMEZONE
TZID:America/New_York
BEGIN:STANDARD
TZOFFSETFROM:-0400
TZOFFSETTO:-0500
DTSTART:20251102T060000
TZNAME:EST
END:STANDARD
END:VTIMEZONE
END:VCALENDAR
