BEGIN:VCALENDAR
VERSION:2.0
PRODID:-//Harvard Law School//NONSGML Events//EN
CALSCALE:GREGORIAN
X-WR-CALNAME:Harvard Law School - Events
X-ORIGINAL-URL:https://hls.harvard.edu/calendar/
X-WR-CALDESC:Harvard Law School - Events
BEGIN:VEVENT
UID:20250515T0349Z-1747280949.5947-EO-705345-1@10.73.10.136
STATUS:CONFIRMED
DTSTAMP:20260423T175939Z
CREATED:20250514T202424Z
LAST-MODIFIED:20250514T202424Z
DTSTART;TZID=America/New_York:20250519T084500
DTEND;TZID=America/New_York:20250519T170000
SUMMARY: The Learned and Lived Law:  A Celebration in Honor of Charles Dona
 hue
DESCRIPTION: Please join us for a celebration honoring Professor Charles Do
 nahue and marking the publication of The Learned and Lived Law:  Essays in 
 Honor of Charles Donahue.  We will have a day of presentations by chapter a
 uthors as well as a display of medieval manuscripts in the Harvard Law Libr
 ary in the early afternoon (see schedule below). […]
X-ALT-DESC;FMTTYPE=text/html: <p>Please join us for a celebration honoring 
 Professor Charles Donahue and marking the publication of <em>The Learned an
 d Lived Law:  Essays in Honor of Charles Donahue</em>.  We will have a day 
 of presentations by chapter authors as well as a display of medieval manusc
 ripts in the Harvard Law Library in the early afternoon (see schedule below
 ).</p><p><strong>Welcome</strong></p><p>8:45 – 9:00 am</p><p>Interim Dean J
 ohn C.P. Goldberg</p><p>Saskia Lettmaier and Elizabeth Papp Kamali</p><p><s
 trong> </strong></p><p><strong>Panel 1: Roman Law</strong></p><p>Chair: Jam
 es Townshend</p><p>9:00 – 10:00 am</p><p><strong>Charles Bartlett</strong>\
 , Roman Property\, Corporate Personhood\, and the Politics of Natural Law i
 n Medieval and Early Renaissance Italy: Venice\, Baldus\, and the <em>res c
 ommunes omnium</em></p><p><strong>Wim Decock</strong>\, “For the Sake of Me
 ntal Health and Mutual Peace”: The <em>Transactio</em>-Agreement in Early M
 odern Law and Theology</p><p><strong> </strong></p><p><strong>Break</strong
 ></p><p>10:00 – 10:15 am</p><p><strong> </strong></p><p><strong>Panel 2: Me
 dieval and Early Modern Law</strong></p><p>Chair: Elizabeth Papp Kamali</p>
 <p>10:15 – 12:15 pm</p><p><strong>Samantha Kahn Herrick</strong>\, Getting 
 Ahead in a Twelfth-Century City: The Ambitious Monks of Saint-Clément\, Met
 z</p><p><strong>Ryan Rowberry</strong>\, The Papal Constitution<em> Execrab
 ilis</em> (1317) and Clerical Justices in the English Royal Courts</p><p><s
 trong>Elizabeth Mellyn</strong>\, Suicide in Early Modern Italy</p><p><stro
 ng>Carol Symes</strong>\, The “Desire of Deeds”: On Cherishing Medieval Eng
 lish Charters</p><p><strong> </strong></p><p><strong>Lunch</strong></p><p>1
 2:15 – 1:15 pm</p><p>Lunch available in Lewis 202</p><p><strong> </strong><
 /p><p><strong>Medieval Manuscript Display</strong></p><p>Harvard Law Librar
 y\, 4th floor\, Caspersen Room</p><p>1:15 – 2:15 pm</p><p>Arranged by Sarah
  Wharton\, Historical & Special Collections</p><p>Co-Hosts: Carol Symes and
  Charles Bartlett</p><p><strong> </strong></p><p><strong>Panel 3: American 
 Legal History</strong></p><p>Chair: Ryan Rowberry</p><p>2:30 – 3:30 pm</p><
 p><strong>Sally Hadden</strong>\, Lawyers and Their Book Collections: Notes
  from the Eighteenth Century</p><p><strong>Amalia Kessler</strong>\, The Am
 erican Importation of the Comparative Accusatorial/Inquisitorial Divide: Fr
 ancis Lieber’s Failed Transplant and Its Early Twentieth-Century Resurgence
 </p><p><strong> </strong></p><p><strong>Break</strong></p><p>3:30 – 3:45pm<
 /p><p><strong> </strong></p><p><strong>Panel 4: Literature and Legal Theory
 </strong></p><p>Chair: Saskia Lettmaier</p><p>3:45-4:45 pm</p><p><strong>An
 ton Chaevitch</strong>\, Faust: Goethe’s Guide to Legal Progress</p><p><str
 ong>Bharath Palle</strong>\, Wesley Hohfeld’s Modernist Imagination</p><p><
 strong> </strong></p><p><strong>Closing Reflection</strong></p><p><strong>M
 ary Elizabeth Basile Chopas</strong>\, <em>De Magistro eruditissimo et bene
 ficentissimo</em></p>
CATEGORIES:Conference/Symposium
LOCATION:Lewis 214
GEO:0.000000;0.000000
ORGANIZER;CN="Elizabeth Papp Kamali":MAILTO:ekamali@law.harvard.edu
URL;VALUE=URI:https://hls.harvard.edu/events/the-learned-and-lived-law-a-ce
 lebration-in-honor-of-charles-donahue/
ATTACH;FMTTYPE=image/png:https://hls.harvard.edu/wp-content/uploads/2025/05/2.png
END:VEVENT
BEGIN:VTIMEZONE
TZID:America/New_York
BEGIN:DAYLIGHT
TZOFFSETFROM:-0500
TZOFFSETTO:-0400
DTSTART:20250309T070000
TZNAME:EDT
END:DAYLIGHT
END:VTIMEZONE
END:VCALENDAR
