BEGIN:VCALENDAR
VERSION:2.0
PRODID:-//Harvard Law School//NONSGML Events//EN
CALSCALE:GREGORIAN
X-WR-CALNAME:Harvard Law School - Events
X-ORIGINAL-URL:https://hls.harvard.edu/calendar/
X-WR-CALDESC:Harvard Law School - Events
BEGIN:VEVENT
UID:20250326T1506Z-1743001596.7343-EO-696562-1@10.73.8.229
STATUS:CONFIRMED
DTSTAMP:20260423T084501Z
CREATED:20250326T131232Z
LAST-MODIFIED:20260323T211445Z
DTSTART;TZID=America/New_York:20250414T121500
DTEND;TZID=America/New_York:20250414T131500
SUMMARY: The Future of the Democratic Party in the Fight for the Dignity of
  Work: A Conversation with Former Senator Sherrod Brown and Connie Shultz
DESCRIPTION: In partnership with the HKS Institute for Politics\, join the 
 Center for Labor and a Just Economy for a lunchtime conversation with forme
 r Ohio Senator Sherrod Brown\, Connie Shultz\, and Sharon Block on the stak
 es of this moment for working class people and their role in shaping our de
 mocracy. Lunch will be provided – please […]
X-ALT-DESC;FMTTYPE=text/html: <p>In partnership with the HKS Institute for 
 Politics\, join the Center for Labor and a Just Economy for a lunchtime con
 versation with former Ohio Senator Sherrod Brown\, Connie Shultz\, and Shar
 on Block on the stakes of this moment for working class people and their ro
 le in shaping our democracy. </p><p>Lunch will be provided - please RSVP at
  https://tinyurl.com/SenSherrodBrown</p>
LOCATION:WCC\; 1019 Classroom
GEO:0;0
ORGANIZER;CN="API User":MAILTO:api@law.harvard.edu
URL;VALUE=URI:https://hls.harvard.edu/events/the-future-of-the-democratic-p
 arty-in-the-fight-for-the-dignity-of-work-a-conversation-with-former-senato
 r-sherrod-brown-and-connie-shultz/
END:VEVENT
BEGIN:VTIMEZONE
TZID:America/New_York
BEGIN:DAYLIGHT
TZOFFSETFROM:-0500
TZOFFSETTO:-0400
DTSTART:20250309T070000
TZNAME:EDT
END:DAYLIGHT
END:VTIMEZONE
END:VCALENDAR
