BEGIN:VCALENDAR
VERSION:2.0
PRODID:-//Harvard Law School//NONSGML Events//EN
CALSCALE:GREGORIAN
X-WR-CALNAME:Harvard Law School - Events
X-ORIGINAL-URL:https://hls.harvard.edu/calendar/
X-WR-CALDESC:Harvard Law School - Events
BEGIN:VEVENT
UID:20251110T2219Z-1762813165.7644-EO-731886-1@10.73.7.237
STATUS:CONFIRMED
DTSTAMP:20260423T084413Z
CREATED:20251110T141508Z
LAST-MODIFIED:20251110T141508Z
DTSTART;TZID=America/New_York:20251119T122000
DTEND;TZID=America/New_York:20251119T131500
SUMMARY: The Conservative Court and the Rule of Law
DESCRIPTION: Please join the Society for the Rule of Law for a conversation
  with Professor Richard Re on the occasion of his Harvard Law Review Forewo
 rd to Volume 139\, “Foreword: To a Conservative Warren Court.” Professor Al
 an Raul will be facilitating the discussion. Please RSVP here to ensure an 
 accurate headcount: https://forms.gle/yVVSnyrQrrGmr2SCA Catered lunch will 
 be […]
X-ALT-DESC;FMTTYPE=text/html: <p>Please join the Society for the Rule of La
 w for a conversation with Professor Richard Re on the occasion of his <em>H
 arvard Law Review</em> Foreword to Volume 139\, "Foreword: To a Conservativ
 e Warren Court." Professor Alan Raul will be facilitating the discussion.</
 p><p>Please RSVP here to ensure an accurate headcount: https://forms.gle/yV
 VSnyrQrrGmr2SCA</p><p>Catered lunch will be provided at the event.</p>
CATEGORIES:Speaker/Panel
LOCATION:Pound Hall\; 101 Ballantine Classroom
GEO:0;0
ORGANIZER;CN="Abigail Simon":MAILTO:asimon@jd26.law.harvard.edu
URL;VALUE=URI:https://hls.harvard.edu/events/the-conservative-court-and-the
 -rule-of-law/
ATTACH;FMTTYPE=image/png:https://hls.harvard.edu/wp-content/uploads/2025/11/SRL-x-Re-event-posted-110625.png
END:VEVENT
BEGIN:VTIMEZONE
TZID:America/New_York
BEGIN:STANDARD
TZOFFSETFROM:-0400
TZOFFSETTO:-0500
DTSTART:20251102T060000
TZNAME:EST
END:STANDARD
END:VTIMEZONE
END:VCALENDAR
