BEGIN:VCALENDAR
VERSION:2.0
PRODID:-//Harvard Law School//NONSGML Events//EN
CALSCALE:GREGORIAN
X-WR-CALNAME:Harvard Law School - Events
X-ORIGINAL-URL:https://hls.harvard.edu/calendar/
X-WR-CALDESC:Harvard Law School - Events
BEGIN:VEVENT
UID:20250310T1334Z-1741613697.3776-EO-692905-1@10.73.9.11
STATUS:CONFIRMED
DTSTAMP:20260423T123406Z
CREATED:20250310T131606Z
LAST-MODIFIED:20250310T184858Z
DTSTART;TZID=America/New_York:20250312T122000
DTEND;TZID=America/New_York:20250312T131500
SUMMARY: Talking Tax with Skadden
DESCRIPTION: Please join us for this great event with tax partners Moshe Sp
 inowitz and Kat Gregor as well as Elizabeth Smith (counsel) and Matt Dinger
  (associate) from Skadden’s Boston office! They will discuss the evolution 
 of the administrative state and its impact on tax law\, how the IRS advance
 s policy positions through tax litigation\, and interesting […]
X-ALT-DESC;FMTTYPE=text/html: <p>Please join us for this great event with t
 ax partners Moshe Spinowitz and Kat Gregor as well as Elizabeth Smith (coun
 sel) and Matt Dinger (associate) from Skadden’s Boston office! They will di
 scuss the evolution of the administrative state and its impact on tax law\,
  how the IRS advances policy positions through tax litigation\, and interes
 ting matters that have recently come across their desks. Lunch will be prov
 ided!</p><p>RSVP: <a title="https://urldefense.proofpoint.com/v2/url?u=http
 s-3A__forms.gle_nbYsxjpPV5WL9Tc86&d=DwMFaQ&c=WO-RGvefibhHBZq3fL85hQ&r=xQToX
 Xmo96VqJn3q8GEIgnr-D2Bzr9EQFuxFQspIhu0&m=aceyTlfbosmGX_sBAUceY3bGy5ypERtyaA
 ouNlQlthDelmiP_aMRTdswtyO9-hkY&s=guP7yk7k-n4F7n5XBhIo-PWSfXZqIKNTktCEtXbDYa
 8&e=" href="https://urldefense.proofpoint.com/v2/url?u=https-3A__forms.gle_
 nbYsxjpPV5WL9Tc86&d=DwMFaQ&c=WO-RGvefibhHBZq3fL85hQ&r=xQToXXmo96VqJn3q8GEIg
 nr-D2Bzr9EQFuxFQspIhu0&m=aceyTlfbosmGX_sBAUceY3bGy5ypERtyaAouNlQlthDelmiP_a
 MRTdswtyO9-hkY&s=guP7yk7k-n4F7n5XBhIo-PWSfXZqIKNTktCEtXbDYa8&e=" target="_b
 lank" rel="noopener noreferrer" data-auth="NotApplicable" data-linkindex="0
 ">https://forms.gle/nbYsxjpPV5WL9Tc86</a></p>
CATEGORIES:Career Event
ORGANIZER;CN="Audrey Cheng":MAILTO:acheng@jd25.law.harvard.edu
URL;VALUE=URI:https://hls.harvard.edu/events/talking-tax-with-skadden/
ATTACH;FMTTYPE=image/jpeg:https://hls.harvard.edu/wp-content/uploads/2025/03/Skadden-Event-Poster.jpg
END:VEVENT
BEGIN:VTIMEZONE
TZID:America/New_York
BEGIN:DAYLIGHT
TZOFFSETFROM:-0500
TZOFFSETTO:-0400
DTSTART:20250309T070000
TZNAME:EDT
END:DAYLIGHT
END:VTIMEZONE
END:VCALENDAR
