BEGIN:VCALENDAR
VERSION:2.0
PRODID:-//Harvard Law School//NONSGML Events//EN
CALSCALE:GREGORIAN
X-WR-CALNAME:Harvard Law School - Events
X-ORIGINAL-URL:https://hls.harvard.edu/calendar/
X-WR-CALDESC:Harvard Law School - Events
BEGIN:VEVENT
UID:20250827T2008Z-1756325293.3816-EO-719201-1@10.73.5.249
STATUS:CONFIRMED
DTSTAMP:20260424T034453Z
CREATED:20250827T184754Z
LAST-MODIFIED:20250929T175217Z
DTSTART;TZID=America/New_York:20251001T123000
DTEND;TZID=America/New_York:20251001T133000
SUMMARY: Student Perspectives on Engaging with Faculty
DESCRIPTION: Austin Hall\; 111 Classroom - West  Engaging with HLS faculty 
 makes for a more educational and enjoyable law school experience. More conc
 retely\, faculty recommendation letters are required in applications for ce
 rtain types of jobs\, including judicial clerkships and fellowships.
X-ALT-DESC;FMTTYPE=text/html: <p>Engaging with HLS faculty makes for a more
  educational and enjoyable law school experience. More concretely\, faculty
  recommendation letters are required in applications for certain types of j
 obs\, including judicial clerkships and fellowships. In addition to reviewi
 ng <a href="https://hls.harvard.edu/ocs-media/engaging-with-faculty-featuri
 ng-professors-brewer-broad-lieb-and-lessig-video/" target="_blank" rel="noo
 pener">a panel of faculty from last fall</a> about how best to cultivate su
 bstantive relationships with faculty\, come for a live panel of students th
 is fall for practical tips from another perspective.</p><p>Lunch will be pr
 ovided for those who register before Monday September 29 at 9am\; <a href="
 https://law-harvard-csm.symplicity.com/students/app/events?csm_event_type=w
 orkshop">RSVP in CSM.</a></p><p>Please contact ocs@law.harvard.edu with any
  dietary restrictions at least three business days prior to the event.</p><
 p> </p><p><strong>This event will be recorded and posted to the OCS website
 .</strong></p><p>Persons with disabilities who wish to request accommodatio
 ns or who have questions about access\, please contact ocs@law.harvard.edu 
 in advance of the event.</p>
CATEGORIES:Career Event
LOCATION:Austin Hall\; 111 Classroom - West
GEO:0;0
ORGANIZER;CN="Ashli J Black":MAILTO:ablack@law.harvard.edu
URL;VALUE=URI:https://hls.harvard.edu/events/student-perspectives-on-engagi
 ng-with-faculty/
END:VEVENT
BEGIN:VTIMEZONE
TZID:America/New_York
BEGIN:DAYLIGHT
TZOFFSETFROM:-0500
TZOFFSETTO:-0400
DTSTART:20250309T070000
TZNAME:EDT
END:DAYLIGHT
END:VTIMEZONE
END:VCALENDAR
