BEGIN:VCALENDAR
VERSION:2.0
PRODID:-//Harvard Law School//NONSGML Events//EN
CALSCALE:GREGORIAN
X-WR-CALNAME:Harvard Law School - Events
X-ORIGINAL-URL:https://hls.harvard.edu/calendar/
X-WR-CALDESC:Harvard Law School - Events
BEGIN:VEVENT
UID:20250924T1803Z-1758736991.3956-EO-724407-1@10.73.0.12
STATUS:CONFIRMED
DTSTAMP:20260423T181035Z
CREATED:20250924T135419Z
LAST-MODIFIED:20250924T135419Z
DTSTART;TZID=America/New_York:20250924T200000
DTEND;TZID=America/New_York:20250924T210000
SUMMARY: Student Government Council Meeting
DESCRIPTION: Student Government will be hosting a council meeting to discus
 s important campus matters. This is your chance to hear updates\, raise que
 stions\, and contribute to shaping our community.
X-ALT-DESC;FMTTYPE=text/html: <p>Student Government will be hosting a counc
 il meeting to discuss important campus matters. This is your chance to hear
  updates\, raise questions\, and contribute to shaping our community.</p>
CATEGORIES:Meeting
LOCATION:WCC 1057
GEO:0.000000;0.000000
ORGANIZER;CN="Chris Egi":MAILTO:cegi@jd24.law.harvard.edu
URL;VALUE=URI:https://hls.harvard.edu/events/student-government-council-mee
 ting/
END:VEVENT
BEGIN:VTIMEZONE
TZID:America/New_York
BEGIN:DAYLIGHT
TZOFFSETFROM:-0500
TZOFFSETTO:-0400
DTSTART:20250309T070000
TZNAME:EDT
END:DAYLIGHT
END:VTIMEZONE
END:VCALENDAR
