BEGIN:VCALENDAR
VERSION:2.0
PRODID:-//Harvard Law School//NONSGML Events//EN
CALSCALE:GREGORIAN
X-WR-CALNAME:Harvard Law School - Events
X-ORIGINAL-URL:https://hls.harvard.edu/calendar/
X-WR-CALDESC:Harvard Law School - Events
BEGIN:VEVENT
UID:20250301T0051Z-1740790267.1314-EO-691866-1@10.73.8.229
STATUS:CONFIRMED
DTSTAMP:20260423T102427Z
CREATED:20250228T212629Z
LAST-MODIFIED:20250228T212629Z
DTSTART;TZID=America/New_York:20250311T122000
DTEND;TZID=America/New_York:20250311T131500
SUMMARY: Still Ultra-Processing: A Policy Discussion on Ultra-Processed Foo
 ds
DESCRIPTION: [Part 1 of a 3-part Food Law and Policy Clinic Speaker Series]
  What’s the difference between a processed and “ultra-processed” food? Are 
 ultra-processed foods really that bad for us? Plus\, what is the role of po
 licy to help us stay informed and healthy amid the ultra-processed foods al
 l around us?  Join the Food Law and […]
X-ALT-DESC;FMTTYPE=text/html: <p>[Part 1 of a 3-part Food Law and Policy Cl
 inic Speaker Series]</p><p><span data-contrast="auto">What’s the difference
  between a processed and “ultra-processed” food? Are ultra-processed foods 
 really that bad for us? Plus\, what is the role of policy to help us stay i
 nformed and healthy amid the ultra-processed foods all around us?</span><sp
 an data-ccp-props="{}"> </span></p><p><span data-contrast="auto">Join the F
 ood Law and Policy Clinic as we discuss these questions and more with Dr. C
 hristina Roberto\, </span><span data-contrast="none">the Mitchell J. Blutt 
 and Margo Krody Blutt Presidential Associate Professor of Health Policy at 
 the Perelman School of Medicine at the University of Pennsylvania and the F
 ounding Director of the Center for Food and Nutrition Policy</span> <span d
 ata-contrast="none">at UPenn. We’ll hear from Dr. Roberto about her groundb
 reaking research on diet-related disease and discuss how laws and policies 
 can push for better population-level health outcomes.</span><span data-ccp-
 props="{}"> </span></p><p>Co-sponsored by Harvard Food Law Society and Harv
 ard Health Law Society.</p><p>Lunch will provided on a first-come\, first-s
 erve basis.</p>
CATEGORIES:Discussion,Speaker/Panel
LOCATION:Griswold Hall\; 110 Classroom
GEO:0;0
ORGANIZER;CN="Akif Khan":MAILTO:akkhan@law.harvard.edu
URL;VALUE=URI:https://hls.harvard.edu/events/still-ultra-processing-a-polic
 y-discussion-on-ultra-processed-foods/
ATTACH;FMTTYPE=image/jpeg:https://hls.harvard.edu/wp-content/uploads/2025/02/Food-Law-and-Policy-Clinic-Speaker-Series-2-scaled.jpg
END:VEVENT
BEGIN:VTIMEZONE
TZID:America/New_York
BEGIN:DAYLIGHT
TZOFFSETFROM:-0500
TZOFFSETTO:-0400
DTSTART:20250309T070000
TZNAME:EDT
END:DAYLIGHT
END:VTIMEZONE
END:VCALENDAR
