BEGIN:VCALENDAR
VERSION:2.0
PRODID:-//Harvard Law School//NONSGML Events//EN
CALSCALE:GREGORIAN
X-WR-CALNAME:Harvard Law School - Events
X-ORIGINAL-URL:https://hls.harvard.edu/calendar/
X-WR-CALDESC:Harvard Law School - Events
BEGIN:VEVENT
UID:20260309T2024Z-1773087850.3917-EO-743028-1@10.73.8.255
STATUS:CONFIRMED
DTSTAMP:20260424T021955Z
CREATED:20260309T202011Z
LAST-MODIFIED:20260310T163715Z
DTSTART;TZID=America/New_York:20260311T122000
DTEND;TZID=America/New_York:20260311T132000
SUMMARY: State Attorneys General and the State’s Role: The Front Lines of T
 ech Regulation
DESCRIPTION: Join BKC for a lunch talk with Julie Brill and Professor James
  Tierney on the evolving role of state attorneys general in technology enfo
 rcement and protecting the public. Drawing on their extensive experience in
  government and enforcement\, the speakers will discuss how AG offices inve
 stigate and litigate cases\, coordinate across states\, and navigate challe
 nges posed […]
X-ALT-DESC;FMTTYPE=text/html: <p>Join BKC for a lunch talk with Julie Brill
  and Professor James Tierney on the evolving role of state attorneys genera
 l in technology enforcement and protecting the public. Drawing on their ext
 ensive experience in government and enforcement\, the speakers will discuss
  how AG offices investigate and litigate cases\, coordinate across states\,
  and navigate challenges posed by artificial intelligence and emerging tech
 nologies.</p><p>The conversation will provide insight into the legal author
 ities\, institutional structures\, and strategic tools that shape state-lev
 el enforcement and consider how state action is influencing the broader lan
 dscape of technology governance. Lunch will be provided.</p>
CATEGORIES:Speaker/Panel
LOCATION:Lewis Hall\, 5th floor at the Berkman Klein Center's Multi-Purpose Room 515
GEO:0.000000;0.000000
ORGANIZER;CN="Kristen Busch":MAILTO:kbusch@jd27.law.harvard.edu
URL;VALUE=URI:https://hls.harvard.edu/events/state-attorneys-general-and-th
 e-states-role-the-front-lines-of-tech-regulation/
END:VEVENT
BEGIN:VTIMEZONE
TZID:America/New_York
BEGIN:DAYLIGHT
TZOFFSETFROM:-0500
TZOFFSETTO:-0400
DTSTART:20260308T070000
TZNAME:EDT
END:DAYLIGHT
END:VTIMEZONE
END:VCALENDAR
