BEGIN:VCALENDAR
VERSION:2.0
PRODID:-//Harvard Law School//NONSGML Events//EN
CALSCALE:GREGORIAN
X-WR-CALNAME:Harvard Law School - Events
X-ORIGINAL-URL:https://hls.harvard.edu/calendar/
X-WR-CALDESC:Harvard Law School - Events
BEGIN:VEVENT
UID:20260305T1422Z-1772720558.7251-EO-742640-1@10.73.6.187
STATUS:CONFIRMED
DTSTAMP:20260424T200834Z
CREATED:20260305T134648Z
LAST-MODIFIED:20260305T134648Z
DTSTART;TZID=America/New_York:20260309T121500
DTEND;TZID=America/New_York:20260309T131500
SUMMARY: St. Isidore and Beyond: Building a Conservative or Libertarian Pra
 ctice in Big Law\, with Michael McGinley (Dechert)
DESCRIPTION: Join the Harvard Federalist Society as we host Mike McGinley\,
  a litigation partner at Dechert LLP\, discuss how he has been able to buil
 d a practice that includes conservative and libertarian matters as a Big La
 w attorney.  Mike will discuss his pro bono representation in the St. Isido
 re litigation at the U.S. Supreme Court\, as […]
X-ALT-DESC;FMTTYPE=text/html: <p><span style="font-weight: 400\;">Join the 
 Harvard Federalist Society as we host </span><a href="https://www.dechert.c
 om/people/m/michael-mcginley.html"><span style="font-weight: 400\;">Mike Mc
 Ginley</span></a><span style="font-weight: 400\;">\, a litigation partner a
 t Dechert LLP\, discuss how he has been able to build a practice that inclu
 des conservative and libertarian matters as a Big Law attorney.  Mike will 
 discuss his pro bono representation in the </span><i><span style="font-weig
 ht: 400\;">St. Isidore</span></i><span style="font-weight: 400\;"> litigati
 on at the U.S. Supreme Court\, as well as a sizable amount of other paid cl
 ient work and other pro bono representations for conservative and libertari
 an causes. Lunch will be served.</span></p>
CATEGORIES:Speaker/Panel
LOCATION:Pound Hall\; 101 Ballantine Classroom
GEO:0;0
ORGANIZER;CN="Daniel Nivens":MAILTO:dnivens@jd27.law.harvard.edu
URL;VALUE=URI:https://hls.harvard.edu/events/st-isidore-and-beyond-building
 -a-conservative-or-libertarian-practice-in-big-law-with-michael-mcginley-de
 chert/
END:VEVENT
BEGIN:VTIMEZONE
TZID:America/New_York
BEGIN:DAYLIGHT
TZOFFSETFROM:-0500
TZOFFSETTO:-0400
DTSTART:20260308T070000
TZNAME:EDT
END:DAYLIGHT
END:VTIMEZONE
END:VCALENDAR
