BEGIN:VCALENDAR
VERSION:2.0
PRODID:-//Harvard Law School//NONSGML Events//EN
CALSCALE:GREGORIAN
X-WR-CALNAME:Harvard Law School - Events
X-ORIGINAL-URL:https://hls.harvard.edu/calendar/
X-WR-CALDESC:Harvard Law School - Events
BEGIN:VEVENT
UID:20251006T0245Z-1759718726.1993-EO-726879-1@10.73.7.213
STATUS:CONFIRMED
DTSTAMP:20260424T115814Z
CREATED:20251006T021414Z
LAST-MODIFIED:20251007T144722Z
DTSTART;TZID=America/New_York:20251007T121500
DTEND;TZID=America/New_York:20251007T132000
SUMMARY: Sports Betting as a Public Health Challenge
DESCRIPTION: Panel Discussion with the Systemic Justice Project\, the Publi
 c Health Advocacy Institute\, and the UNH Sports & Entertainment Law Instit
 ute Join Professors Jon Hanson (Alan A. Stone Professor of Law\; Director\,
  Systemic Justice Project)\, Michael McCann (Visiting Professor of Law\; Le
 gal Analyst\, Sportico)\, Richard Daynard (Founder\, Public Health Advocacy
  Institute)\, Mark Gottlieb (Executive Director\, PHAI)\, […]
X-ALT-DESC;FMTTYPE=text/html: <p><strong>Panel Discussion with the Systemic
  Justice Project\, the Public Health Advocacy Institute\, and the UNH Sport
 s & Entertainment Law Institute</strong></p><p>Join Professors Jon Hanson (
 Alan A. Stone Professor of Law\; Director\, Systemic Justice Project)\, Mic
 hael McCann (Visiting Professor of Law\; Legal Analyst\, Sportico)\, Richar
 d Daynard (Founder\, Public Health Advocacy Institute)\, Mark Gottlieb (Exe
 cutive Director\, PHAI)\, and Dr. Harry Levant (Internationally Certified G
 ambling Counselor\; Director of Gambling Policy\, PHAI) for a Harvard Law S
 chool panel discussion on <i>S</i><i>ports Betting as a Public Health Chall
 enge</i>.</p><p>This conversation will explore how the rise of legalized sp
 orts betting has created a new public health frontier that intersects with 
 the law. Panelists will examine the parallels between sports betting and ot
 her industries—such as tobacco and fast food—that have posed systemic risks
  to public well-being. They will also discuss emerging efforts to address t
 hese harms through federal reforms like the SAFE Bet Act and ongoing litiga
 tion against major companies\, including DraftKings.</p><p><strong>Lunch pr
 ovided.</strong></p><p><span style="font-family: arial\, sans-serif\;">Co-S
 ponsored by the Systemic Justice Project\, the Harvard Committee on Sports 
 and Entertainment Law\, and Torts Illustrated.</span></p>
LOCATION:WCC - 1023 Classroom
GEO:0.000000;0.000000
ORGANIZER;CN="Julie Vakoc":MAILTO:jvakoc@law.harvard.edu
URL;VALUE=URI:https://hls.harvard.edu/events/sports-betting-as-a-public-hea
 lth-challenge/
ATTACH;FMTTYPE=image/png:https://hls.harvard.edu/wp-content/uploads/2025/10/Sports-Gambling-Event-2025-Flyer.png
END:VEVENT
BEGIN:VTIMEZONE
TZID:America/New_York
BEGIN:DAYLIGHT
TZOFFSETFROM:-0500
TZOFFSETTO:-0400
DTSTART:20250309T070000
TZNAME:EDT
END:DAYLIGHT
END:VTIMEZONE
END:VCALENDAR
