BEGIN:VCALENDAR
VERSION:2.0
PRODID:-//Harvard Law School//NONSGML Events//EN
CALSCALE:GREGORIAN
X-WR-CALNAME:Harvard Law School - Events
X-ORIGINAL-URL:https://hls.harvard.edu/calendar/
X-WR-CALDESC:Harvard Law School - Events
BEGIN:VEVENT
UID:20251015T2029Z-1760560151.6133-EO-728283-1@10.73.7.237
STATUS:CONFIRMED
DTSTAMP:20260423T051812Z
CREATED:20251015T194319Z
LAST-MODIFIED:20251015T194319Z
DTSTART;TZID=America/New_York:20251017T163000
DTEND;TZID=America/New_York:20251017T173000
SUMMARY: SJD Alumni Series with Prof. Saptarishi Bandopadhyay\, Osgoode Hal
 l Law School
DESCRIPTION: The SJD Association is thrilled to launch our SJD Alumni Serie
 s\, an initiative to reconnect with and learn from our alumni. For our firs
 t event\, Saptarishi Bandopadhyay (S.J.D.\, HLS)\, Associate Professor at O
 sgoode Hall Law School\, will join us on Friday\, October 17\, at 4:30 PM f
 or a conversation about his time in the S.J.D. and insights on the […]
X-ALT-DESC;FMTTYPE=text/html: <p>The SJD Association is thrilled to launch 
 our <b><span class="il">SJD Alumni</span> Series</b>\, an initiative to rec
 onnect with and learn from our <span class="il">alumni</span>. For our firs
 t event\, <b>Saptarishi Bandopadhyay</b> (<span class="il">S.J.D.</span>\, 
 HLS)\, Associate Professor at <b>Osgoode Hall Law School</b>\, will join us
  on <b>Friday\, October 17\, at 4:30 PM</b> for a conversation about his ti
 me in the <span class="il">S.J.D.</span> and insights on the Canadian acade
 mic job market. We will hear reflections on navigating the dissertation\, b
 uilding a scholarly profile\, and approaching academic positions—especially
  in Canada.</p>
CATEGORIES:Program/Workshop,Speaker/Panel
LOCATION:Lewis 214
GEO:0.000000;0.000000
ORGANIZER;CN="Wei-An Tsai":MAILTO:wtsai@sjd.law.harvard.edu
URL;VALUE=URI:https://hls.harvard.edu/events/sjd-alumni-series-with-prof-sa
 ptarishi-bandopadhyay-osgoode-hall-law-school/
END:VEVENT
BEGIN:VTIMEZONE
TZID:America/New_York
BEGIN:DAYLIGHT
TZOFFSETFROM:-0500
TZOFFSETTO:-0400
DTSTART:20250309T070000
TZNAME:EDT
END:DAYLIGHT
END:VTIMEZONE
END:VCALENDAR
