BEGIN:VCALENDAR
VERSION:2.0
PRODID:-//Harvard Law School//NONSGML Events//EN
CALSCALE:GREGORIAN
X-WR-CALNAME:Harvard Law School - Events
X-ORIGINAL-URL:https://hls.harvard.edu/calendar/
X-WR-CALDESC:Harvard Law School - Events
BEGIN:VEVENT
UID:20250926T2023Z-1758918206.7258-EO-724939-1@10.73.9.45
STATUS:CONFIRMED
DTSTAMP:20260424T153218Z
CREATED:20250925T195922Z
LAST-MODIFIED:20251007T153827Z
DTSTART;TZID=America/New_York:20251009T123000
DTEND;TZID=America/New_York:20251009T131500
SUMMARY: Self-Compassion Tools for Law Students\, with Tracey Meyers\, Psy.
 D. from Lawyers Concerned for Lawyers
DESCRIPTION: Join Dr. Tracey Meyers\, Psy.D.\, from Lawyers Concerned for L
 awyers\, for a conversation about self-compassion. This talk will include t
 ips for identifying unique stressors for Law Students\, developing self-com
 passion for improving mental wellbeing\, and learning new skills to support
  mental health and emotion regulation. Limited lunch available. RSVP requie
 d. Questions? Email dosceeb@law.harvard.edu
X-ALT-DESC;FMTTYPE=text/html: <p>Join Dr. Tracey Meyers\, Psy.D.\, from Law
 yers Concerned for Lawyers\, for a conversation about self-compassion. This
  talk will include tips for identifying unique stressors for Law Students\,
  developing self-compassion for improving mental wellbeing\, and learning n
 ew skills to support mental health and emotion regulation.</p><p>Limited lu
 nch available. <a href="https://harvard.az1.qualtrics.com/jfe/form/SV_cwHsW
 8tlWR3uZ82">RSVP requied</a>.</p><p>Questions? Email dosceeb@law.harvard.ed
 u</p>
CATEGORIES:Program/Workshop
LOCATION:Milstein East A
GEO:0.000000;0.000000
ORGANIZER;CN="Krista Heilmann":MAILTO:kheilmann@law.harvard.edu
URL;VALUE=URI:https://hls.harvard.edu/events/self-compassion-tools-for-law-
 students-with-tracey-meyers-psy-d-from-lawyers-concerned-for-lawyers/
END:VEVENT
BEGIN:VTIMEZONE
TZID:America/New_York
BEGIN:DAYLIGHT
TZOFFSETFROM:-0500
TZOFFSETTO:-0400
DTSTART:20250309T070000
TZNAME:EDT
END:DAYLIGHT
END:VTIMEZONE
END:VCALENDAR
