BEGIN:VCALENDAR
VERSION:2.0
PRODID:-//Harvard Law School//NONSGML Events//EN
CALSCALE:GREGORIAN
X-WR-CALNAME:Harvard Law School - Events
X-ORIGINAL-URL:https://hls.harvard.edu/calendar/
X-WR-CALDESC:Harvard Law School - Events
BEGIN:VEVENT
UID:20250826T2042Z-1756240967.9226-EO-719037-1@10.73.5.249
STATUS:CONFIRMED
DTSTAMP:20260424T110016Z
CREATED:20250826T184536Z
LAST-MODIFIED:20250826T185536Z
DTSTART;TZID=America/New_York:20250909T122000
DTEND;TZID=America/New_York:20250909T131500
RRULE:FREQ=WEEKLY;INTERVAL=1;BYDAY=TU;UNTIL=20250916T162000Z
RDATE;TZID=America/New_York:20250916T122000
SUMMARY: Scripture in Community: Public Reading of Scripture
DESCRIPTION: What does the Bible say? Scripture in Community is a weekly pr
 actice where we read and listen to passages from the Bible together. Each w
 eek we will read passages from the Psalms\, the Old Testament\, and the New
  Testament. Whether you’re new to reading the Bible\, have studied the Bibl
 e for years\, or are just curious […]
X-ALT-DESC;FMTTYPE=text/html: <p><strong>What does the Bible say? </strong>
 Scripture in Community is a weekly practice where we read and listen to pas
 sages from the Bible together. Each week we will read passages from the Psa
 lms\, the Old Testament\, and the New Testament. Whether you’re new to read
 ing the Bible\, have studied the Bible for years\, or are just curious abou
 t what it says\, you are welcome to come and discover wisdom in it for ever
 yday life. Join us as we listen\, learn\, and reflect on the timeless and e
 ternal truths found in the pages of the Bible.</p><p>All are welcome to gat
 her in person at the Law School in Hauser Hall or online via Zoom each Wedn
 esday from 12:20pm – 1:15pm ET. Please email pblcls@law.harvard.edu in adva
 nce to request the Zoom link to join virtually.</p><p>Lunch is provided for
  those joining in person. <strong>Please <a href="https://forms.office.com/
 Pages/ResponsePage.aspx?id=9CL6b2hFBUGtQy461HJpV2NrVoc62DVIvcSCLqbvugVUMFM0
 VkJJN0RHQUNTTzlWRlBGRFM4SEkxOSQlQCN0PWcu">RSVP here </a>for lunch each week
 .</strong></p>
CATEGORIES:Discussion
LOCATION:Hauser Hall\; 103 Clark Meeting Room
GEO:0;0
ORGANIZER;CN="Lydia C Buchanan":MAILTO:lbuchanan@law.harvard.edu
URL;VALUE=URI:https://hls.harvard.edu/events/scripture-in-community-public-
 reading-of-scripture-2/
ATTACH;FMTTYPE=image/jpeg:https://hls.harvard.edu/wp-content/uploads/2025/08/25-26-Digital-Poster-HLS.jpg
END:VEVENT
BEGIN:VEVENT
UID:20250826T2042Z-1756240967.9226-EO-719037-1@10.73.5.249
STATUS:CONFIRMED
DTSTAMP:20260424T110016Z
CREATED:20250826T184536Z
LAST-MODIFIED:20250826T185536Z
DTSTART;TZID=America/New_York:20250909T122000
DTEND;TZID=America/New_York:20250909T131500
RRULE:FREQ=WEEKLY;INTERVAL=1;BYDAY=TU;UNTIL=20250916T162000Z
RDATE;TZID=America/New_York:20250916T122000
SUMMARY: Scripture in Community: Public Reading of Scripture
DESCRIPTION: What does the Bible say? Scripture in Community is a weekly pr
 actice where we read and listen to passages from the Bible together. Each w
 eek we will read passages from the Psalms\, the Old Testament\, and the New
  Testament. Whether you’re new to reading the Bible\, have studied the Bibl
 e for years\, or are just curious […]
X-ALT-DESC;FMTTYPE=text/html: <p><strong>What does the Bible say? </strong>
 Scripture in Community is a weekly practice where we read and listen to pas
 sages from the Bible together. Each week we will read passages from the Psa
 lms\, the Old Testament\, and the New Testament. Whether you’re new to read
 ing the Bible\, have studied the Bible for years\, or are just curious abou
 t what it says\, you are welcome to come and discover wisdom in it for ever
 yday life. Join us as we listen\, learn\, and reflect on the timeless and e
 ternal truths found in the pages of the Bible.</p><p>All are welcome to gat
 her in person at the Law School in Hauser Hall or online via Zoom each Wedn
 esday from 12:20pm – 1:15pm ET. Please email pblcls@law.harvard.edu in adva
 nce to request the Zoom link to join virtually.</p><p>Lunch is provided for
  those joining in person. <strong>Please <a href="https://forms.office.com/
 Pages/ResponsePage.aspx?id=9CL6b2hFBUGtQy461HJpV2NrVoc62DVIvcSCLqbvugVUMFM0
 VkJJN0RHQUNTTzlWRlBGRFM4SEkxOSQlQCN0PWcu">RSVP here </a>for lunch each week
 .</strong></p>
CATEGORIES:Discussion
LOCATION:Hauser Hall\; 103 Clark Meeting Room
GEO:0;0
ORGANIZER;CN="Lydia C Buchanan":MAILTO:lbuchanan@law.harvard.edu
URL;VALUE=URI:https://hls.harvard.edu/events/scripture-in-community-public-
 reading-of-scripture-2/
ATTACH;FMTTYPE=image/jpeg:https://hls.harvard.edu/wp-content/uploads/2025/08/25-26-Digital-Poster-HLS.jpg
END:VEVENT
BEGIN:VTIMEZONE
TZID:America/New_York
BEGIN:DAYLIGHT
TZOFFSETFROM:-0500
TZOFFSETTO:-0400
DTSTART:20250309T070000
TZNAME:EDT
END:DAYLIGHT
END:VTIMEZONE
END:VCALENDAR
