BEGIN:VCALENDAR
VERSION:2.0
PRODID:-//Harvard Law School//NONSGML Events//EN
CALSCALE:GREGORIAN
X-WR-CALNAME:Harvard Law School - Events
X-ORIGINAL-URL:https://hls.harvard.edu/calendar/
X-WR-CALDESC:Harvard Law School - Events
BEGIN:VEVENT
UID:20250324T2042Z-1742848962.2405-EO-695963-1@10.73.10.94
STATUS:CONFIRMED
DTSTAMP:20260422T065237Z
CREATED:20250324T180437Z
LAST-MODIFIED:20250324T180437Z
DTSTART;TZID=America/New_York:20250328T083000
DTEND;TZID=America/New_York:20250328T170000
SUMMARY: Program on Biblical Law and Christian Legal Studies Open House
DESCRIPTION: HLS Admitted Students are invited to come by the Program offic
 e to meet faculty and staff\, ask questions\, and receive a free gift from 
 the Program. Refreshments will be provided.
X-ALT-DESC;FMTTYPE=text/html: <p><span class="OYPEnA font-feature-liga-off 
 font-feature-clig-off font-feature-calt-off text-decoration-none text-strik
 ethrough-none">HLS Admitted Students are invited to come by the Program off
 ice to meet faculty and staff\, ask questions\, and receive a free gift fro
 m the Program. Refreshments will be provided.</span></p>
CATEGORIES:J.D. Admissions,Social Event
LOCATION:Austin Hall - 009
GEO:0.000000;0.000000
ORGANIZER;CN="Charlotte Greco":MAILTO:cgreco@law.harvard.edu
URL;VALUE=URI:https://hls.harvard.edu/events/program-on-biblical-law-and-ch
 ristian-legal-studies-open-house/
END:VEVENT
BEGIN:VTIMEZONE
TZID:America/New_York
BEGIN:DAYLIGHT
TZOFFSETFROM:-0500
TZOFFSETTO:-0400
DTSTART:20250309T070000
TZNAME:EDT
END:DAYLIGHT
END:VTIMEZONE
END:VCALENDAR
