BEGIN:VCALENDAR
VERSION:2.0
PRODID:-//Harvard Law School//NONSGML Events//EN
CALSCALE:GREGORIAN
X-WR-CALNAME:Harvard Law School - Events
X-ORIGINAL-URL:https://hls.harvard.edu/calendar/
X-WR-CALDESC:Harvard Law School - Events
BEGIN:VEVENT
UID:20251014T1940Z-1760470836.27-EO-728054-1@10.73.7.237
STATUS:CONFIRMED
DTSTAMP:20260423T205939Z
CREATED:20251014T192232Z
LAST-MODIFIED:20260323T191247Z
DTSTART;TZID=America/New_York:20251029T121500
DTEND;TZID=America/New_York:20251029T131500
SUMMARY: Pope Leo’s Dilexi Te (On the Poor) with Professor Kamali
DESCRIPTION: Professor Elizabeth Papp Kamali will be joining the CLSA to di
 scuss Pope Leo’s new Apostolic Exhortation Dilexi Te (On the Poor). Join fo
 r lunch and an interesting discussion!
X-ALT-DESC;FMTTYPE=text/html: <p>Professor Elizabeth Papp Kamali will be jo
 ining the CLSA to discuss Pope Leo's new Apostolic Exhortation Dilexi Te (O
 n the Poor). Join for lunch and an interesting discussion!</p>
LOCATION:WCC\; 3008 Room
GEO:0;0
ORGANIZER;CN="API User":MAILTO:api@law.harvard.edu
URL;VALUE=URI:https://hls.harvard.edu/events/pope-leos-dilexi-te-on-the-poo
 r-with-professor-kamali/
END:VEVENT
BEGIN:VTIMEZONE
TZID:America/New_York
BEGIN:DAYLIGHT
TZOFFSETFROM:-0500
TZOFFSETTO:-0400
DTSTART:20250309T070000
TZNAME:EDT
END:DAYLIGHT
END:VTIMEZONE
END:VCALENDAR
