BEGIN:VCALENDAR
VERSION:2.0
PRODID:-//Harvard Law School//NONSGML Events//EN
CALSCALE:GREGORIAN
X-WR-CALNAME:Harvard Law School - Events
X-ORIGINAL-URL:https://hls.harvard.edu/calendar/
X-WR-CALDESC:Harvard Law School - Events
BEGIN:VEVENT
UID:20250204T2313Z-1738710790.6816-EO-687851-1@10.73.9.11
STATUS:CONFIRMED
DTSTAMP:20260424T002415Z
CREATED:20250204T191122Z
LAST-MODIFIED:20250204T191122Z
DTSTART;TZID=America/New_York:20250204T120000
DTEND;TZID=America/New_York:20250204T140000
RRULE:FREQ=WEEKLY;INTERVAL=1;BYDAY=TU;UNTIL=20250527T160000Z
SUMMARY: POM’s HIO office hours at HLS\, Spring 2025
DESCRIPTION: Peter O’Meara\, HIO Advisor for HLS\, holds in-person office h
 ours for HLS students and scholars on a first-come\, first-served basis in 
 WCC 5046 every Tuesday from 12:00 noon to 2:00 p.m. during the Spring 2025 
 term.  No appointment necessary.
X-ALT-DESC;FMTTYPE=text/html: <p>Peter O’Meara\, HIO Advisor for HLS\, hold
 s in-person office hours for HLS students and scholars on a first-come\, fi
 rst-served basis in WCC 5046 every Tuesday from 12:00 noon to 2:00 p.m. dur
 ing the Spring 2025 term.  No appointment necessary.</p>
LOCATION:WCC\; 5046 Room
GEO:0;0
ORGANIZER;CN="Sarah Freeman-AIEmam":MAILTO:sfalemam@law.harvard.edu
URL;VALUE=URI:https://hls.harvard.edu/events/poms-hio-office-hours-at-hls-s
 pring-2025/
END:VEVENT
BEGIN:VEVENT
UID:20250204T2313Z-1738710790.6816-EO-687851-1@10.73.9.11
STATUS:CONFIRMED
DTSTAMP:20260424T002415Z
CREATED:20250204T191122Z
LAST-MODIFIED:20250204T191122Z
DTSTART;TZID=America/New_York:20250204T120000
DTEND;TZID=America/New_York:20250204T140000
RRULE:FREQ=WEEKLY;INTERVAL=1;BYDAY=TU;UNTIL=20250527T160000Z
SUMMARY: POM’s HIO office hours at HLS\, Spring 2025
DESCRIPTION: Peter O’Meara\, HIO Advisor for HLS\, holds in-person office h
 ours for HLS students and scholars on a first-come\, first-served basis in 
 WCC 5046 every Tuesday from 12:00 noon to 2:00 p.m. during the Spring 2025 
 term.  No appointment necessary.
X-ALT-DESC;FMTTYPE=text/html: <p>Peter O’Meara\, HIO Advisor for HLS\, hold
 s in-person office hours for HLS students and scholars on a first-come\, fi
 rst-served basis in WCC 5046 every Tuesday from 12:00 noon to 2:00 p.m. dur
 ing the Spring 2025 term.  No appointment necessary.</p>
LOCATION:WCC\; 5046 Room
GEO:0;0
ORGANIZER;CN="Sarah Freeman-AIEmam":MAILTO:sfalemam@law.harvard.edu
URL;VALUE=URI:https://hls.harvard.edu/events/poms-hio-office-hours-at-hls-s
 pring-2025/
END:VEVENT
BEGIN:VEVENT
UID:20250204T2313Z-1738710790.6816-EO-687851-1@10.73.9.11
STATUS:CONFIRMED
DTSTAMP:20260424T002415Z
CREATED:20250204T191122Z
LAST-MODIFIED:20250204T191122Z
DTSTART;TZID=America/New_York:20250204T120000
DTEND;TZID=America/New_York:20250204T140000
RRULE:FREQ=WEEKLY;INTERVAL=1;BYDAY=TU;UNTIL=20250527T160000Z
SUMMARY: POM’s HIO office hours at HLS\, Spring 2025
DESCRIPTION: Peter O’Meara\, HIO Advisor for HLS\, holds in-person office h
 ours for HLS students and scholars on a first-come\, first-served basis in 
 WCC 5046 every Tuesday from 12:00 noon to 2:00 p.m. during the Spring 2025 
 term.  No appointment necessary.
X-ALT-DESC;FMTTYPE=text/html: <p>Peter O’Meara\, HIO Advisor for HLS\, hold
 s in-person office hours for HLS students and scholars on a first-come\, fi
 rst-served basis in WCC 5046 every Tuesday from 12:00 noon to 2:00 p.m. dur
 ing the Spring 2025 term.  No appointment necessary.</p>
LOCATION:WCC\; 5046 Room
GEO:0;0
ORGANIZER;CN="Sarah Freeman-AIEmam":MAILTO:sfalemam@law.harvard.edu
URL;VALUE=URI:https://hls.harvard.edu/events/poms-hio-office-hours-at-hls-s
 pring-2025/
END:VEVENT
BEGIN:VEVENT
UID:20250204T2313Z-1738710790.6816-EO-687851-1@10.73.9.11
STATUS:CONFIRMED
DTSTAMP:20260424T002415Z
CREATED:20250204T191122Z
LAST-MODIFIED:20250204T191122Z
DTSTART;TZID=America/New_York:20250204T120000
DTEND;TZID=America/New_York:20250204T140000
RRULE:FREQ=WEEKLY;INTERVAL=1;BYDAY=TU;UNTIL=20250527T160000Z
SUMMARY: POM’s HIO office hours at HLS\, Spring 2025
DESCRIPTION: Peter O’Meara\, HIO Advisor for HLS\, holds in-person office h
 ours for HLS students and scholars on a first-come\, first-served basis in 
 WCC 5046 every Tuesday from 12:00 noon to 2:00 p.m. during the Spring 2025 
 term.  No appointment necessary.
X-ALT-DESC;FMTTYPE=text/html: <p>Peter O’Meara\, HIO Advisor for HLS\, hold
 s in-person office hours for HLS students and scholars on a first-come\, fi
 rst-served basis in WCC 5046 every Tuesday from 12:00 noon to 2:00 p.m. dur
 ing the Spring 2025 term.  No appointment necessary.</p>
LOCATION:WCC\; 5046 Room
GEO:0;0
ORGANIZER;CN="Sarah Freeman-AIEmam":MAILTO:sfalemam@law.harvard.edu
URL;VALUE=URI:https://hls.harvard.edu/events/poms-hio-office-hours-at-hls-s
 pring-2025/
END:VEVENT
BEGIN:VEVENT
UID:20250204T2313Z-1738710790.6816-EO-687851-1@10.73.9.11
STATUS:CONFIRMED
DTSTAMP:20260424T002415Z
CREATED:20250204T191122Z
LAST-MODIFIED:20250204T191122Z
DTSTART;TZID=America/New_York:20250204T120000
DTEND;TZID=America/New_York:20250204T140000
RRULE:FREQ=WEEKLY;INTERVAL=1;BYDAY=TU;UNTIL=20250527T160000Z
SUMMARY: POM’s HIO office hours at HLS\, Spring 2025
DESCRIPTION: Peter O’Meara\, HIO Advisor for HLS\, holds in-person office h
 ours for HLS students and scholars on a first-come\, first-served basis in 
 WCC 5046 every Tuesday from 12:00 noon to 2:00 p.m. during the Spring 2025 
 term.  No appointment necessary.
X-ALT-DESC;FMTTYPE=text/html: <p>Peter O’Meara\, HIO Advisor for HLS\, hold
 s in-person office hours for HLS students and scholars on a first-come\, fi
 rst-served basis in WCC 5046 every Tuesday from 12:00 noon to 2:00 p.m. dur
 ing the Spring 2025 term.  No appointment necessary.</p>
LOCATION:WCC\; 5046 Room
GEO:0;0
ORGANIZER;CN="Sarah Freeman-AIEmam":MAILTO:sfalemam@law.harvard.edu
URL;VALUE=URI:https://hls.harvard.edu/events/poms-hio-office-hours-at-hls-s
 pring-2025/
END:VEVENT
BEGIN:VEVENT
UID:20250204T2313Z-1738710790.6816-EO-687851-1@10.73.9.11
STATUS:CONFIRMED
DTSTAMP:20260424T002415Z
CREATED:20250204T191122Z
LAST-MODIFIED:20250204T191122Z
DTSTART;TZID=America/New_York:20250204T120000
DTEND;TZID=America/New_York:20250204T140000
RRULE:FREQ=WEEKLY;INTERVAL=1;BYDAY=TU;UNTIL=20250527T160000Z
SUMMARY: POM’s HIO office hours at HLS\, Spring 2025
DESCRIPTION: Peter O’Meara\, HIO Advisor for HLS\, holds in-person office h
 ours for HLS students and scholars on a first-come\, first-served basis in 
 WCC 5046 every Tuesday from 12:00 noon to 2:00 p.m. during the Spring 2025 
 term.  No appointment necessary.
X-ALT-DESC;FMTTYPE=text/html: <p>Peter O’Meara\, HIO Advisor for HLS\, hold
 s in-person office hours for HLS students and scholars on a first-come\, fi
 rst-served basis in WCC 5046 every Tuesday from 12:00 noon to 2:00 p.m. dur
 ing the Spring 2025 term.  No appointment necessary.</p>
LOCATION:WCC\; 5046 Room
GEO:0;0
ORGANIZER;CN="Sarah Freeman-AIEmam":MAILTO:sfalemam@law.harvard.edu
URL;VALUE=URI:https://hls.harvard.edu/events/poms-hio-office-hours-at-hls-s
 pring-2025/
END:VEVENT
BEGIN:VEVENT
UID:20250204T2313Z-1738710790.6816-EO-687851-1@10.73.9.11
STATUS:CONFIRMED
DTSTAMP:20260424T002415Z
CREATED:20250204T191122Z
LAST-MODIFIED:20250204T191122Z
DTSTART;TZID=America/New_York:20250204T120000
DTEND;TZID=America/New_York:20250204T140000
RRULE:FREQ=WEEKLY;INTERVAL=1;BYDAY=TU;UNTIL=20250527T160000Z
SUMMARY: POM’s HIO office hours at HLS\, Spring 2025
DESCRIPTION: Peter O’Meara\, HIO Advisor for HLS\, holds in-person office h
 ours for HLS students and scholars on a first-come\, first-served basis in 
 WCC 5046 every Tuesday from 12:00 noon to 2:00 p.m. during the Spring 2025 
 term.  No appointment necessary.
X-ALT-DESC;FMTTYPE=text/html: <p>Peter O’Meara\, HIO Advisor for HLS\, hold
 s in-person office hours for HLS students and scholars on a first-come\, fi
 rst-served basis in WCC 5046 every Tuesday from 12:00 noon to 2:00 p.m. dur
 ing the Spring 2025 term.  No appointment necessary.</p>
LOCATION:WCC\; 5046 Room
GEO:0;0
ORGANIZER;CN="Sarah Freeman-AIEmam":MAILTO:sfalemam@law.harvard.edu
URL;VALUE=URI:https://hls.harvard.edu/events/poms-hio-office-hours-at-hls-s
 pring-2025/
END:VEVENT
BEGIN:VEVENT
UID:20250204T2313Z-1738710790.6816-EO-687851-1@10.73.9.11
STATUS:CONFIRMED
DTSTAMP:20260424T002415Z
CREATED:20250204T191122Z
LAST-MODIFIED:20250204T191122Z
DTSTART;TZID=America/New_York:20250204T120000
DTEND;TZID=America/New_York:20250204T140000
RRULE:FREQ=WEEKLY;INTERVAL=1;BYDAY=TU;UNTIL=20250527T160000Z
SUMMARY: POM’s HIO office hours at HLS\, Spring 2025
DESCRIPTION: Peter O’Meara\, HIO Advisor for HLS\, holds in-person office h
 ours for HLS students and scholars on a first-come\, first-served basis in 
 WCC 5046 every Tuesday from 12:00 noon to 2:00 p.m. during the Spring 2025 
 term.  No appointment necessary.
X-ALT-DESC;FMTTYPE=text/html: <p>Peter O’Meara\, HIO Advisor for HLS\, hold
 s in-person office hours for HLS students and scholars on a first-come\, fi
 rst-served basis in WCC 5046 every Tuesday from 12:00 noon to 2:00 p.m. dur
 ing the Spring 2025 term.  No appointment necessary.</p>
LOCATION:WCC\; 5046 Room
GEO:0;0
ORGANIZER;CN="Sarah Freeman-AIEmam":MAILTO:sfalemam@law.harvard.edu
URL;VALUE=URI:https://hls.harvard.edu/events/poms-hio-office-hours-at-hls-s
 pring-2025/
END:VEVENT
BEGIN:VEVENT
UID:20250204T2313Z-1738710790.6816-EO-687851-1@10.73.9.11
STATUS:CONFIRMED
DTSTAMP:20260424T002415Z
CREATED:20250204T191122Z
LAST-MODIFIED:20250204T191122Z
DTSTART;TZID=America/New_York:20250204T120000
DTEND;TZID=America/New_York:20250204T140000
RRULE:FREQ=WEEKLY;INTERVAL=1;BYDAY=TU;UNTIL=20250527T160000Z
SUMMARY: POM’s HIO office hours at HLS\, Spring 2025
DESCRIPTION: Peter O’Meara\, HIO Advisor for HLS\, holds in-person office h
 ours for HLS students and scholars on a first-come\, first-served basis in 
 WCC 5046 every Tuesday from 12:00 noon to 2:00 p.m. during the Spring 2025 
 term.  No appointment necessary.
X-ALT-DESC;FMTTYPE=text/html: <p>Peter O’Meara\, HIO Advisor for HLS\, hold
 s in-person office hours for HLS students and scholars on a first-come\, fi
 rst-served basis in WCC 5046 every Tuesday from 12:00 noon to 2:00 p.m. dur
 ing the Spring 2025 term.  No appointment necessary.</p>
LOCATION:WCC\; 5046 Room
GEO:0;0
ORGANIZER;CN="Sarah Freeman-AIEmam":MAILTO:sfalemam@law.harvard.edu
URL;VALUE=URI:https://hls.harvard.edu/events/poms-hio-office-hours-at-hls-s
 pring-2025/
END:VEVENT
BEGIN:VEVENT
UID:20250204T2313Z-1738710790.6816-EO-687851-1@10.73.9.11
STATUS:CONFIRMED
DTSTAMP:20260424T002415Z
CREATED:20250204T191122Z
LAST-MODIFIED:20250204T191122Z
DTSTART;TZID=America/New_York:20250204T120000
DTEND;TZID=America/New_York:20250204T140000
RRULE:FREQ=WEEKLY;INTERVAL=1;BYDAY=TU;UNTIL=20250527T160000Z
SUMMARY: POM’s HIO office hours at HLS\, Spring 2025
DESCRIPTION: Peter O’Meara\, HIO Advisor for HLS\, holds in-person office h
 ours for HLS students and scholars on a first-come\, first-served basis in 
 WCC 5046 every Tuesday from 12:00 noon to 2:00 p.m. during the Spring 2025 
 term.  No appointment necessary.
X-ALT-DESC;FMTTYPE=text/html: <p>Peter O’Meara\, HIO Advisor for HLS\, hold
 s in-person office hours for HLS students and scholars on a first-come\, fi
 rst-served basis in WCC 5046 every Tuesday from 12:00 noon to 2:00 p.m. dur
 ing the Spring 2025 term.  No appointment necessary.</p>
LOCATION:WCC\; 5046 Room
GEO:0;0
ORGANIZER;CN="Sarah Freeman-AIEmam":MAILTO:sfalemam@law.harvard.edu
URL;VALUE=URI:https://hls.harvard.edu/events/poms-hio-office-hours-at-hls-s
 pring-2025/
END:VEVENT
BEGIN:VEVENT
UID:20250204T2313Z-1738710790.6816-EO-687851-1@10.73.9.11
STATUS:CONFIRMED
DTSTAMP:20260424T002415Z
CREATED:20250204T191122Z
LAST-MODIFIED:20250204T191122Z
DTSTART;TZID=America/New_York:20250204T120000
DTEND;TZID=America/New_York:20250204T140000
RRULE:FREQ=WEEKLY;INTERVAL=1;BYDAY=TU;UNTIL=20250527T160000Z
SUMMARY: POM’s HIO office hours at HLS\, Spring 2025
DESCRIPTION: Peter O’Meara\, HIO Advisor for HLS\, holds in-person office h
 ours for HLS students and scholars on a first-come\, first-served basis in 
 WCC 5046 every Tuesday from 12:00 noon to 2:00 p.m. during the Spring 2025 
 term.  No appointment necessary.
X-ALT-DESC;FMTTYPE=text/html: <p>Peter O’Meara\, HIO Advisor for HLS\, hold
 s in-person office hours for HLS students and scholars on a first-come\, fi
 rst-served basis in WCC 5046 every Tuesday from 12:00 noon to 2:00 p.m. dur
 ing the Spring 2025 term.  No appointment necessary.</p>
LOCATION:WCC\; 5046 Room
GEO:0;0
ORGANIZER;CN="Sarah Freeman-AIEmam":MAILTO:sfalemam@law.harvard.edu
URL;VALUE=URI:https://hls.harvard.edu/events/poms-hio-office-hours-at-hls-s
 pring-2025/
END:VEVENT
BEGIN:VEVENT
UID:20250204T2313Z-1738710790.6816-EO-687851-1@10.73.9.11
STATUS:CONFIRMED
DTSTAMP:20260424T002415Z
CREATED:20250204T191122Z
LAST-MODIFIED:20250204T191122Z
DTSTART;TZID=America/New_York:20250204T120000
DTEND;TZID=America/New_York:20250204T140000
RRULE:FREQ=WEEKLY;INTERVAL=1;BYDAY=TU;UNTIL=20250527T160000Z
SUMMARY: POM’s HIO office hours at HLS\, Spring 2025
DESCRIPTION: Peter O’Meara\, HIO Advisor for HLS\, holds in-person office h
 ours for HLS students and scholars on a first-come\, first-served basis in 
 WCC 5046 every Tuesday from 12:00 noon to 2:00 p.m. during the Spring 2025 
 term.  No appointment necessary.
X-ALT-DESC;FMTTYPE=text/html: <p>Peter O’Meara\, HIO Advisor for HLS\, hold
 s in-person office hours for HLS students and scholars on a first-come\, fi
 rst-served basis in WCC 5046 every Tuesday from 12:00 noon to 2:00 p.m. dur
 ing the Spring 2025 term.  No appointment necessary.</p>
LOCATION:WCC\; 5046 Room
GEO:0;0
ORGANIZER;CN="Sarah Freeman-AIEmam":MAILTO:sfalemam@law.harvard.edu
URL;VALUE=URI:https://hls.harvard.edu/events/poms-hio-office-hours-at-hls-s
 pring-2025/
END:VEVENT
BEGIN:VEVENT
UID:20250204T2313Z-1738710790.6816-EO-687851-1@10.73.9.11
STATUS:CONFIRMED
DTSTAMP:20260424T002415Z
CREATED:20250204T191122Z
LAST-MODIFIED:20250204T191122Z
DTSTART;TZID=America/New_York:20250204T120000
DTEND;TZID=America/New_York:20250204T140000
RRULE:FREQ=WEEKLY;INTERVAL=1;BYDAY=TU;UNTIL=20250527T160000Z
SUMMARY: POM’s HIO office hours at HLS\, Spring 2025
DESCRIPTION: Peter O’Meara\, HIO Advisor for HLS\, holds in-person office h
 ours for HLS students and scholars on a first-come\, first-served basis in 
 WCC 5046 every Tuesday from 12:00 noon to 2:00 p.m. during the Spring 2025 
 term.  No appointment necessary.
X-ALT-DESC;FMTTYPE=text/html: <p>Peter O’Meara\, HIO Advisor for HLS\, hold
 s in-person office hours for HLS students and scholars on a first-come\, fi
 rst-served basis in WCC 5046 every Tuesday from 12:00 noon to 2:00 p.m. dur
 ing the Spring 2025 term.  No appointment necessary.</p>
LOCATION:WCC\; 5046 Room
GEO:0;0
ORGANIZER;CN="Sarah Freeman-AIEmam":MAILTO:sfalemam@law.harvard.edu
URL;VALUE=URI:https://hls.harvard.edu/events/poms-hio-office-hours-at-hls-s
 pring-2025/
END:VEVENT
BEGIN:VEVENT
UID:20250204T2313Z-1738710790.6816-EO-687851-1@10.73.9.11
STATUS:CONFIRMED
DTSTAMP:20260424T002415Z
CREATED:20250204T191122Z
LAST-MODIFIED:20250204T191122Z
DTSTART;TZID=America/New_York:20250204T120000
DTEND;TZID=America/New_York:20250204T140000
RRULE:FREQ=WEEKLY;INTERVAL=1;BYDAY=TU;UNTIL=20250527T160000Z
SUMMARY: POM’s HIO office hours at HLS\, Spring 2025
DESCRIPTION: Peter O’Meara\, HIO Advisor for HLS\, holds in-person office h
 ours for HLS students and scholars on a first-come\, first-served basis in 
 WCC 5046 every Tuesday from 12:00 noon to 2:00 p.m. during the Spring 2025 
 term.  No appointment necessary.
X-ALT-DESC;FMTTYPE=text/html: <p>Peter O’Meara\, HIO Advisor for HLS\, hold
 s in-person office hours for HLS students and scholars on a first-come\, fi
 rst-served basis in WCC 5046 every Tuesday from 12:00 noon to 2:00 p.m. dur
 ing the Spring 2025 term.  No appointment necessary.</p>
LOCATION:WCC\; 5046 Room
GEO:0;0
ORGANIZER;CN="Sarah Freeman-AIEmam":MAILTO:sfalemam@law.harvard.edu
URL;VALUE=URI:https://hls.harvard.edu/events/poms-hio-office-hours-at-hls-s
 pring-2025/
END:VEVENT
BEGIN:VEVENT
UID:20250204T2313Z-1738710790.6816-EO-687851-1@10.73.9.11
STATUS:CONFIRMED
DTSTAMP:20260424T002415Z
CREATED:20250204T191122Z
LAST-MODIFIED:20250204T191122Z
DTSTART;TZID=America/New_York:20250204T120000
DTEND;TZID=America/New_York:20250204T140000
RRULE:FREQ=WEEKLY;INTERVAL=1;BYDAY=TU;UNTIL=20250527T160000Z
SUMMARY: POM’s HIO office hours at HLS\, Spring 2025
DESCRIPTION: Peter O’Meara\, HIO Advisor for HLS\, holds in-person office h
 ours for HLS students and scholars on a first-come\, first-served basis in 
 WCC 5046 every Tuesday from 12:00 noon to 2:00 p.m. during the Spring 2025 
 term.  No appointment necessary.
X-ALT-DESC;FMTTYPE=text/html: <p>Peter O’Meara\, HIO Advisor for HLS\, hold
 s in-person office hours for HLS students and scholars on a first-come\, fi
 rst-served basis in WCC 5046 every Tuesday from 12:00 noon to 2:00 p.m. dur
 ing the Spring 2025 term.  No appointment necessary.</p>
LOCATION:WCC\; 5046 Room
GEO:0;0
ORGANIZER;CN="Sarah Freeman-AIEmam":MAILTO:sfalemam@law.harvard.edu
URL;VALUE=URI:https://hls.harvard.edu/events/poms-hio-office-hours-at-hls-s
 pring-2025/
END:VEVENT
BEGIN:VEVENT
UID:20250204T2313Z-1738710790.6816-EO-687851-1@10.73.9.11
STATUS:CONFIRMED
DTSTAMP:20260424T002415Z
CREATED:20250204T191122Z
LAST-MODIFIED:20250204T191122Z
DTSTART;TZID=America/New_York:20250204T120000
DTEND;TZID=America/New_York:20250204T140000
RRULE:FREQ=WEEKLY;INTERVAL=1;BYDAY=TU;UNTIL=20250527T160000Z
SUMMARY: POM’s HIO office hours at HLS\, Spring 2025
DESCRIPTION: Peter O’Meara\, HIO Advisor for HLS\, holds in-person office h
 ours for HLS students and scholars on a first-come\, first-served basis in 
 WCC 5046 every Tuesday from 12:00 noon to 2:00 p.m. during the Spring 2025 
 term.  No appointment necessary.
X-ALT-DESC;FMTTYPE=text/html: <p>Peter O’Meara\, HIO Advisor for HLS\, hold
 s in-person office hours for HLS students and scholars on a first-come\, fi
 rst-served basis in WCC 5046 every Tuesday from 12:00 noon to 2:00 p.m. dur
 ing the Spring 2025 term.  No appointment necessary.</p>
LOCATION:WCC\; 5046 Room
GEO:0;0
ORGANIZER;CN="Sarah Freeman-AIEmam":MAILTO:sfalemam@law.harvard.edu
URL;VALUE=URI:https://hls.harvard.edu/events/poms-hio-office-hours-at-hls-s
 pring-2025/
END:VEVENT
BEGIN:VEVENT
UID:20250204T2313Z-1738710790.6816-EO-687851-1@10.73.9.11
STATUS:CONFIRMED
DTSTAMP:20260424T002415Z
CREATED:20250204T191122Z
LAST-MODIFIED:20250204T191122Z
DTSTART;TZID=America/New_York:20250204T120000
DTEND;TZID=America/New_York:20250204T140000
RRULE:FREQ=WEEKLY;INTERVAL=1;BYDAY=TU;UNTIL=20250527T160000Z
SUMMARY: POM’s HIO office hours at HLS\, Spring 2025
DESCRIPTION: Peter O’Meara\, HIO Advisor for HLS\, holds in-person office h
 ours for HLS students and scholars on a first-come\, first-served basis in 
 WCC 5046 every Tuesday from 12:00 noon to 2:00 p.m. during the Spring 2025 
 term.  No appointment necessary.
X-ALT-DESC;FMTTYPE=text/html: <p>Peter O’Meara\, HIO Advisor for HLS\, hold
 s in-person office hours for HLS students and scholars on a first-come\, fi
 rst-served basis in WCC 5046 every Tuesday from 12:00 noon to 2:00 p.m. dur
 ing the Spring 2025 term.  No appointment necessary.</p>
LOCATION:WCC\; 5046 Room
GEO:0;0
ORGANIZER;CN="Sarah Freeman-AIEmam":MAILTO:sfalemam@law.harvard.edu
URL;VALUE=URI:https://hls.harvard.edu/events/poms-hio-office-hours-at-hls-s
 pring-2025/
END:VEVENT
BEGIN:VTIMEZONE
TZID:America/New_York
BEGIN:STANDARD
TZOFFSETFROM:-0400
TZOFFSETTO:-0500
DTSTART:20241103T060000
TZNAME:EST
END:STANDARD
BEGIN:DAYLIGHT
TZOFFSETFROM:-0500
TZOFFSETTO:-0400
DTSTART:20250309T070000
TZNAME:EDT
END:DAYLIGHT
END:VTIMEZONE
END:VCALENDAR
