BEGIN:VCALENDAR
VERSION:2.0
PRODID:-//Harvard Law School//NONSGML Events//EN
CALSCALE:GREGORIAN
X-WR-CALNAME:Harvard Law School - Events
X-ORIGINAL-URL:https://hls.harvard.edu/calendar/
X-WR-CALDESC:Harvard Law School - Events
BEGIN:VEVENT
UID:20250820T1809Z-1755713355.0469-EO-718042-1@10.73.8.255
STATUS:CONFIRMED
DTSTAMP:20260423T195539Z
CREATED:20250820T155225Z
LAST-MODIFIED:20250820T155225Z
DTSTART;TZID=America/New_York:20250925T120000
DTEND;TZID=America/New_York:20250925T140000
RRULE:FREQ=WEEKLY;INTERVAL=1;BYDAY=TH;UNTIL=20251218T170000Z
EXDATE;TZID=America/New_York:20251023T120000,20251127T120000,20251204T120000,20251211T120000
SUMMARY: POM’s HIO office hours at HLS Fall 2025 – WCC 5046
DESCRIPTION: Peter O’Meara\, HIO Advisor for HLS\, holds in-person office h
 ours for HLS students and scholars on a first-come\, first-served basis in 
 WCC 5046 every Thursday from 12:00 noon to 2:00 p.m. during the Fall 2025 t
 erm.  No appointment necessary.
X-ALT-DESC;FMTTYPE=text/html: <p>Peter O’Meara\, HIO Advisor for HLS\, hold
 s in-person office hours for HLS students and scholars on a first-come\, fi
 rst-served basis in WCC 5046 every Thursday from 12:00 noon to 2:00 p.m. du
 ring the Fall 2025 term.  No appointment necessary.</p>
CATEGORIES:Advising
LOCATION:WCC 5046
GEO:0.000000;0.000000
ORGANIZER;CN="Sarah Freeman-AIEmam":MAILTO:sfalemam@law.harvard.edu
URL;VALUE=URI:https://hls.harvard.edu/events/poms-hio-office-hours-at-hls-f
 all-2025-wcc-5046/
END:VEVENT
BEGIN:VEVENT
UID:20250820T1809Z-1755713355.0469-EO-718042-1@10.73.8.255
STATUS:CONFIRMED
DTSTAMP:20260423T195539Z
CREATED:20250820T155225Z
LAST-MODIFIED:20250820T155225Z
DTSTART;TZID=America/New_York:20250925T120000
DTEND;TZID=America/New_York:20250925T140000
RRULE:FREQ=WEEKLY;INTERVAL=1;BYDAY=TH;UNTIL=20251218T170000Z
EXDATE;TZID=America/New_York:20251023T120000,20251127T120000,20251204T120000,20251211T120000
SUMMARY: POM’s HIO office hours at HLS Fall 2025 – WCC 5046
DESCRIPTION: Peter O’Meara\, HIO Advisor for HLS\, holds in-person office h
 ours for HLS students and scholars on a first-come\, first-served basis in 
 WCC 5046 every Thursday from 12:00 noon to 2:00 p.m. during the Fall 2025 t
 erm.  No appointment necessary.
X-ALT-DESC;FMTTYPE=text/html: <p>Peter O’Meara\, HIO Advisor for HLS\, hold
 s in-person office hours for HLS students and scholars on a first-come\, fi
 rst-served basis in WCC 5046 every Thursday from 12:00 noon to 2:00 p.m. du
 ring the Fall 2025 term.  No appointment necessary.</p>
CATEGORIES:Advising
LOCATION:WCC 5046
GEO:0.000000;0.000000
ORGANIZER;CN="Sarah Freeman-AIEmam":MAILTO:sfalemam@law.harvard.edu
URL;VALUE=URI:https://hls.harvard.edu/events/poms-hio-office-hours-at-hls-f
 all-2025-wcc-5046/
END:VEVENT
BEGIN:VEVENT
UID:20250820T1809Z-1755713355.0469-EO-718042-1@10.73.8.255
STATUS:CONFIRMED
DTSTAMP:20260423T195539Z
CREATED:20250820T155225Z
LAST-MODIFIED:20250820T155225Z
DTSTART;TZID=America/New_York:20250925T120000
DTEND;TZID=America/New_York:20250925T140000
RRULE:FREQ=WEEKLY;INTERVAL=1;BYDAY=TH;UNTIL=20251218T170000Z
EXDATE;TZID=America/New_York:20251023T120000,20251127T120000,20251204T120000,20251211T120000
SUMMARY: POM’s HIO office hours at HLS Fall 2025 – WCC 5046
DESCRIPTION: Peter O’Meara\, HIO Advisor for HLS\, holds in-person office h
 ours for HLS students and scholars on a first-come\, first-served basis in 
 WCC 5046 every Thursday from 12:00 noon to 2:00 p.m. during the Fall 2025 t
 erm.  No appointment necessary.
X-ALT-DESC;FMTTYPE=text/html: <p>Peter O’Meara\, HIO Advisor for HLS\, hold
 s in-person office hours for HLS students and scholars on a first-come\, fi
 rst-served basis in WCC 5046 every Thursday from 12:00 noon to 2:00 p.m. du
 ring the Fall 2025 term.  No appointment necessary.</p>
CATEGORIES:Advising
LOCATION:WCC 5046
GEO:0.000000;0.000000
ORGANIZER;CN="Sarah Freeman-AIEmam":MAILTO:sfalemam@law.harvard.edu
URL;VALUE=URI:https://hls.harvard.edu/events/poms-hio-office-hours-at-hls-f
 all-2025-wcc-5046/
END:VEVENT
BEGIN:VEVENT
UID:20250820T1809Z-1755713355.0469-EO-718042-1@10.73.8.255
STATUS:CONFIRMED
DTSTAMP:20260423T195539Z
CREATED:20250820T155225Z
LAST-MODIFIED:20250820T155225Z
DTSTART;TZID=America/New_York:20250925T120000
DTEND;TZID=America/New_York:20250925T140000
RRULE:FREQ=WEEKLY;INTERVAL=1;BYDAY=TH;UNTIL=20251218T170000Z
EXDATE;TZID=America/New_York:20251023T120000,20251127T120000,20251204T120000,20251211T120000
SUMMARY: POM’s HIO office hours at HLS Fall 2025 – WCC 5046
DESCRIPTION: Peter O’Meara\, HIO Advisor for HLS\, holds in-person office h
 ours for HLS students and scholars on a first-come\, first-served basis in 
 WCC 5046 every Thursday from 12:00 noon to 2:00 p.m. during the Fall 2025 t
 erm.  No appointment necessary.
X-ALT-DESC;FMTTYPE=text/html: <p>Peter O’Meara\, HIO Advisor for HLS\, hold
 s in-person office hours for HLS students and scholars on a first-come\, fi
 rst-served basis in WCC 5046 every Thursday from 12:00 noon to 2:00 p.m. du
 ring the Fall 2025 term.  No appointment necessary.</p>
CATEGORIES:Advising
LOCATION:WCC 5046
GEO:0.000000;0.000000
ORGANIZER;CN="Sarah Freeman-AIEmam":MAILTO:sfalemam@law.harvard.edu
URL;VALUE=URI:https://hls.harvard.edu/events/poms-hio-office-hours-at-hls-f
 all-2025-wcc-5046/
END:VEVENT
BEGIN:VEVENT
UID:20250820T1809Z-1755713355.0469-EO-718042-1@10.73.8.255
STATUS:CONFIRMED
DTSTAMP:20260423T195539Z
CREATED:20250820T155225Z
LAST-MODIFIED:20250820T155225Z
DTSTART;TZID=America/New_York:20250925T120000
DTEND;TZID=America/New_York:20250925T140000
RRULE:FREQ=WEEKLY;INTERVAL=1;BYDAY=TH;UNTIL=20251218T170000Z
EXDATE;TZID=America/New_York:20251023T120000,20251127T120000,20251204T120000,20251211T120000
SUMMARY: POM’s HIO office hours at HLS Fall 2025 – WCC 5046
DESCRIPTION: Peter O’Meara\, HIO Advisor for HLS\, holds in-person office h
 ours for HLS students and scholars on a first-come\, first-served basis in 
 WCC 5046 every Thursday from 12:00 noon to 2:00 p.m. during the Fall 2025 t
 erm.  No appointment necessary.
X-ALT-DESC;FMTTYPE=text/html: <p>Peter O’Meara\, HIO Advisor for HLS\, hold
 s in-person office hours for HLS students and scholars on a first-come\, fi
 rst-served basis in WCC 5046 every Thursday from 12:00 noon to 2:00 p.m. du
 ring the Fall 2025 term.  No appointment necessary.</p>
CATEGORIES:Advising
LOCATION:WCC 5046
GEO:0.000000;0.000000
ORGANIZER;CN="Sarah Freeman-AIEmam":MAILTO:sfalemam@law.harvard.edu
URL;VALUE=URI:https://hls.harvard.edu/events/poms-hio-office-hours-at-hls-f
 all-2025-wcc-5046/
END:VEVENT
BEGIN:VEVENT
UID:20250820T1809Z-1755713355.0469-EO-718042-1@10.73.8.255
STATUS:CONFIRMED
DTSTAMP:20260423T195539Z
CREATED:20250820T155225Z
LAST-MODIFIED:20250820T155225Z
DTSTART;TZID=America/New_York:20250925T120000
DTEND;TZID=America/New_York:20250925T140000
RRULE:FREQ=WEEKLY;INTERVAL=1;BYDAY=TH;UNTIL=20251218T170000Z
EXDATE;TZID=America/New_York:20251023T120000,20251127T120000,20251204T120000,20251211T120000
SUMMARY: POM’s HIO office hours at HLS Fall 2025 – WCC 5046
DESCRIPTION: Peter O’Meara\, HIO Advisor for HLS\, holds in-person office h
 ours for HLS students and scholars on a first-come\, first-served basis in 
 WCC 5046 every Thursday from 12:00 noon to 2:00 p.m. during the Fall 2025 t
 erm.  No appointment necessary.
X-ALT-DESC;FMTTYPE=text/html: <p>Peter O’Meara\, HIO Advisor for HLS\, hold
 s in-person office hours for HLS students and scholars on a first-come\, fi
 rst-served basis in WCC 5046 every Thursday from 12:00 noon to 2:00 p.m. du
 ring the Fall 2025 term.  No appointment necessary.</p>
CATEGORIES:Advising
LOCATION:WCC 5046
GEO:0.000000;0.000000
ORGANIZER;CN="Sarah Freeman-AIEmam":MAILTO:sfalemam@law.harvard.edu
URL;VALUE=URI:https://hls.harvard.edu/events/poms-hio-office-hours-at-hls-f
 all-2025-wcc-5046/
END:VEVENT
BEGIN:VEVENT
UID:20250820T1809Z-1755713355.0469-EO-718042-1@10.73.8.255
STATUS:CONFIRMED
DTSTAMP:20260423T195539Z
CREATED:20250820T155225Z
LAST-MODIFIED:20250820T155225Z
DTSTART;TZID=America/New_York:20250925T120000
DTEND;TZID=America/New_York:20250925T140000
RRULE:FREQ=WEEKLY;INTERVAL=1;BYDAY=TH;UNTIL=20251218T170000Z
EXDATE;TZID=America/New_York:20251023T120000,20251127T120000,20251204T120000,20251211T120000
SUMMARY: POM’s HIO office hours at HLS Fall 2025 – WCC 5046
DESCRIPTION: Peter O’Meara\, HIO Advisor for HLS\, holds in-person office h
 ours for HLS students and scholars on a first-come\, first-served basis in 
 WCC 5046 every Thursday from 12:00 noon to 2:00 p.m. during the Fall 2025 t
 erm.  No appointment necessary.
X-ALT-DESC;FMTTYPE=text/html: <p>Peter O’Meara\, HIO Advisor for HLS\, hold
 s in-person office hours for HLS students and scholars on a first-come\, fi
 rst-served basis in WCC 5046 every Thursday from 12:00 noon to 2:00 p.m. du
 ring the Fall 2025 term.  No appointment necessary.</p>
CATEGORIES:Advising
LOCATION:WCC 5046
GEO:0.000000;0.000000
ORGANIZER;CN="Sarah Freeman-AIEmam":MAILTO:sfalemam@law.harvard.edu
URL;VALUE=URI:https://hls.harvard.edu/events/poms-hio-office-hours-at-hls-f
 all-2025-wcc-5046/
END:VEVENT
BEGIN:VEVENT
UID:20250820T1809Z-1755713355.0469-EO-718042-1@10.73.8.255
STATUS:CONFIRMED
DTSTAMP:20260423T195539Z
CREATED:20250820T155225Z
LAST-MODIFIED:20250820T155225Z
DTSTART;TZID=America/New_York:20250925T120000
DTEND;TZID=America/New_York:20250925T140000
RRULE:FREQ=WEEKLY;INTERVAL=1;BYDAY=TH;UNTIL=20251218T170000Z
EXDATE;TZID=America/New_York:20251023T120000,20251127T120000,20251204T120000,20251211T120000
SUMMARY: POM’s HIO office hours at HLS Fall 2025 – WCC 5046
DESCRIPTION: Peter O’Meara\, HIO Advisor for HLS\, holds in-person office h
 ours for HLS students and scholars on a first-come\, first-served basis in 
 WCC 5046 every Thursday from 12:00 noon to 2:00 p.m. during the Fall 2025 t
 erm.  No appointment necessary.
X-ALT-DESC;FMTTYPE=text/html: <p>Peter O’Meara\, HIO Advisor for HLS\, hold
 s in-person office hours for HLS students and scholars on a first-come\, fi
 rst-served basis in WCC 5046 every Thursday from 12:00 noon to 2:00 p.m. du
 ring the Fall 2025 term.  No appointment necessary.</p>
CATEGORIES:Advising
LOCATION:WCC 5046
GEO:0.000000;0.000000
ORGANIZER;CN="Sarah Freeman-AIEmam":MAILTO:sfalemam@law.harvard.edu
URL;VALUE=URI:https://hls.harvard.edu/events/poms-hio-office-hours-at-hls-f
 all-2025-wcc-5046/
END:VEVENT
BEGIN:VEVENT
UID:20250820T1809Z-1755713355.0469-EO-718042-1@10.73.8.255
STATUS:CONFIRMED
DTSTAMP:20260423T195539Z
CREATED:20250820T155225Z
LAST-MODIFIED:20250820T155225Z
DTSTART;TZID=America/New_York:20250925T120000
DTEND;TZID=America/New_York:20250925T140000
RRULE:FREQ=WEEKLY;INTERVAL=1;BYDAY=TH;UNTIL=20251218T170000Z
EXDATE;TZID=America/New_York:20251023T120000,20251127T120000,20251204T120000,20251211T120000
SUMMARY: POM’s HIO office hours at HLS Fall 2025 – WCC 5046
DESCRIPTION: Peter O’Meara\, HIO Advisor for HLS\, holds in-person office h
 ours for HLS students and scholars on a first-come\, first-served basis in 
 WCC 5046 every Thursday from 12:00 noon to 2:00 p.m. during the Fall 2025 t
 erm.  No appointment necessary.
X-ALT-DESC;FMTTYPE=text/html: <p>Peter O’Meara\, HIO Advisor for HLS\, hold
 s in-person office hours for HLS students and scholars on a first-come\, fi
 rst-served basis in WCC 5046 every Thursday from 12:00 noon to 2:00 p.m. du
 ring the Fall 2025 term.  No appointment necessary.</p>
CATEGORIES:Advising
LOCATION:WCC 5046
GEO:0.000000;0.000000
ORGANIZER;CN="Sarah Freeman-AIEmam":MAILTO:sfalemam@law.harvard.edu
URL;VALUE=URI:https://hls.harvard.edu/events/poms-hio-office-hours-at-hls-f
 all-2025-wcc-5046/
END:VEVENT
BEGIN:VTIMEZONE
TZID:America/New_York
BEGIN:DAYLIGHT
TZOFFSETFROM:-0500
TZOFFSETTO:-0400
DTSTART:20250309T070000
TZNAME:EDT
END:DAYLIGHT
BEGIN:STANDARD
TZOFFSETFROM:-0400
TZOFFSETTO:-0500
DTSTART:20251102T060000
TZNAME:EST
END:STANDARD
END:VTIMEZONE
END:VCALENDAR
