BEGIN:VCALENDAR
VERSION:2.0
PRODID:-//Harvard Law School//NONSGML Events//EN
CALSCALE:GREGORIAN
X-WR-CALNAME:Harvard Law School - Events
X-ORIGINAL-URL:https://hls.harvard.edu/calendar/
X-WR-CALDESC:Harvard Law School - Events
BEGIN:VEVENT
UID:20250821T0739Z-1755761954.3756-EO-718038-1@10.73.0.97
STATUS:CONFIRMED
DTSTAMP:20260423T190738Z
CREATED:20250820T152525Z
LAST-MODIFIED:20250820T152525Z
DTSTART;TZID=America/New_York:20250904T120000
DTEND;TZID=America/New_York:20250904T140000
RRULE:FREQ=WEEKLY;INTERVAL=1;BYDAY=TH;UNTIL=20250918T160000Z
SUMMARY: POM’s HIO office hours at HLS Fall 2025 – Hauser 103
DESCRIPTION: Peter O’Meara\, HIO Advisor for HLS\, holds in-person office h
 ours for HLS students and scholars on a first-come\, first-served basis in 
 Hauser 103 every Thursday from 12:00 noon to 2:00 p.m. during the Fall 2025
  term.  No appointment necessary.
X-ALT-DESC;FMTTYPE=text/html: <p>Peter O’Meara\, HIO Advisor for HLS\, hold
 s in-person office hours for HLS students and scholars on a first-come\, fi
 rst-served basis in Hauser 103 every Thursday from 12:00 noon to 2:00 p.m. 
 during the Fall 2025 term.  No appointment necessary.</p>
CATEGORIES:Advising
LOCATION:Hauser Hall\; 103 Clark Meeting Room
GEO:0;0
ORGANIZER;CN="Sarah Freeman-AIEmam":MAILTO:sfalemam@law.harvard.edu
URL;VALUE=URI:https://hls.harvard.edu/events/poms-hio-office-hours-at-hls-f
 all-2025-hauser-103/
END:VEVENT
BEGIN:VEVENT
UID:20250821T0739Z-1755761954.3756-EO-718038-1@10.73.0.97
STATUS:CONFIRMED
DTSTAMP:20260423T190738Z
CREATED:20250820T152525Z
LAST-MODIFIED:20250820T152525Z
DTSTART;TZID=America/New_York:20250904T120000
DTEND;TZID=America/New_York:20250904T140000
RRULE:FREQ=WEEKLY;INTERVAL=1;BYDAY=TH;UNTIL=20250918T160000Z
SUMMARY: POM’s HIO office hours at HLS Fall 2025 – Hauser 103
DESCRIPTION: Peter O’Meara\, HIO Advisor for HLS\, holds in-person office h
 ours for HLS students and scholars on a first-come\, first-served basis in 
 Hauser 103 every Thursday from 12:00 noon to 2:00 p.m. during the Fall 2025
  term.  No appointment necessary.
X-ALT-DESC;FMTTYPE=text/html: <p>Peter O’Meara\, HIO Advisor for HLS\, hold
 s in-person office hours for HLS students and scholars on a first-come\, fi
 rst-served basis in Hauser 103 every Thursday from 12:00 noon to 2:00 p.m. 
 during the Fall 2025 term.  No appointment necessary.</p>
CATEGORIES:Advising
LOCATION:Hauser Hall\; 103 Clark Meeting Room
GEO:0;0
ORGANIZER;CN="Sarah Freeman-AIEmam":MAILTO:sfalemam@law.harvard.edu
URL;VALUE=URI:https://hls.harvard.edu/events/poms-hio-office-hours-at-hls-f
 all-2025-hauser-103/
END:VEVENT
BEGIN:VEVENT
UID:20250821T0739Z-1755761954.3756-EO-718038-1@10.73.0.97
STATUS:CONFIRMED
DTSTAMP:20260423T190738Z
CREATED:20250820T152525Z
LAST-MODIFIED:20250820T152525Z
DTSTART;TZID=America/New_York:20250904T120000
DTEND;TZID=America/New_York:20250904T140000
RRULE:FREQ=WEEKLY;INTERVAL=1;BYDAY=TH;UNTIL=20250918T160000Z
SUMMARY: POM’s HIO office hours at HLS Fall 2025 – Hauser 103
DESCRIPTION: Peter O’Meara\, HIO Advisor for HLS\, holds in-person office h
 ours for HLS students and scholars on a first-come\, first-served basis in 
 Hauser 103 every Thursday from 12:00 noon to 2:00 p.m. during the Fall 2025
  term.  No appointment necessary.
X-ALT-DESC;FMTTYPE=text/html: <p>Peter O’Meara\, HIO Advisor for HLS\, hold
 s in-person office hours for HLS students and scholars on a first-come\, fi
 rst-served basis in Hauser 103 every Thursday from 12:00 noon to 2:00 p.m. 
 during the Fall 2025 term.  No appointment necessary.</p>
CATEGORIES:Advising
LOCATION:Hauser Hall\; 103 Clark Meeting Room
GEO:0;0
ORGANIZER;CN="Sarah Freeman-AIEmam":MAILTO:sfalemam@law.harvard.edu
URL;VALUE=URI:https://hls.harvard.edu/events/poms-hio-office-hours-at-hls-f
 all-2025-hauser-103/
END:VEVENT
BEGIN:VTIMEZONE
TZID:America/New_York
BEGIN:DAYLIGHT
TZOFFSETFROM:-0500
TZOFFSETTO:-0400
DTSTART:20250309T070000
TZNAME:EDT
END:DAYLIGHT
END:VTIMEZONE
END:VCALENDAR
