BEGIN:VCALENDAR
VERSION:2.0
PRODID:-//Harvard Law School//NONSGML Events//EN
CALSCALE:GREGORIAN
X-WR-CALNAME:Harvard Law School - Events
X-ORIGINAL-URL:https://hls.harvard.edu/calendar/
X-WR-CALDESC:Harvard Law School - Events
BEGIN:VEVENT
UID:20251110T2217Z-1762813079.5933-EO-731899-1@10.73.0.4
STATUS:CONFIRMED
DTSTAMP:20260423T173752Z
CREATED:20251110T143410Z
LAST-MODIFIED:20251110T143410Z
DTSTART;TZID=America/New_York:20251112T180000
DTEND;TZID=America/New_York:20251112T200000
SUMMARY: Plaintiffs’ Happy Hour with Walkup Melodia
DESCRIPTION: Spencer Pahlke of Walkup Melodia is a leading plaintiff-side l
 itigator and mentor to many students interested in plaintiff-side work. He’
 s the brain behind the For the Plaintiff Program and one of the forces of t
 he Law Student Amicus Brief in support of Perkins Coie last year when Perki
 ns sued the Trump administration. We strongly encourage […]
X-ALT-DESC;FMTTYPE=text/html: <p><a href="https://www.google.com/url?q=http
 s://harvard.us4.list-manage.com/track/click?u%3Da5067397d47cd750372d1a571%2
 6id%3D55eaa00dcc%26e%3Df838ca6f14&sa=D&source=calendar&ust=1763088387496909
 &usg=AOvVaw0hdLPWvDCG3Qc7muGtgZKY" target="_blank" rel="noopener"><u>Spence
 r Pahlke</u></a> of Walkup Melodia is a leading plaintiff-side litigator an
 d mentor to many students interested in plaintiff-side work. He's the brain
  behind the For the Plaintiff Program and one of the forces of the Law Stud
 ent Amicus Brief in support of Perkins Coie last year when Perkins sued the
  Trump administration. We strongly encourage all students interested in pla
 intiff-side law to join us for some nibbles\, a drink\, and great connectio
 ns. <a href="https://www.google.com/url?q=https://harvard.us4.list-manage.c
 om/track/click?u%3Da5067397d47cd750372d1a571%26id%3Daef6c81aa7%26e%3Df838ca
 6f14&sa=D&source=calendar&ust=1763088387496909&usg=AOvVaw1-ABgdT_Y8qtKNClcO
 aa7E" target="_blank" rel="noopener"><u>RSVP here to ensure we order enough
  b</u></a><a href="https://www.google.com/url?q=https://harvard.us4.list-ma
 nage.com/track/click?u%3Da5067397d47cd750372d1a571%26id%3D56c78cc8a0%26e%3D
 f838ca6f14&sa=D&source=calendar&ust=1763088387496909&usg=AOvVaw09O9167hLfii
 6nJ5SYFltw" target="_blank" rel="noopener"><u>ites</u></a>.</p>
ORGANIZER;CN="Jenna Boguslavsky":MAILTO:jboguslavsky@jd27.law.harvard.edu
URL;VALUE=URI:https://hls.harvard.edu/events/plaintiffs-happy-hour-with-wal
 kup-melodia/
ATTACH;FMTTYPE=image/png:https://hls.harvard.edu/wp-content/uploads/2025/11/unnamed-2.png
END:VEVENT
BEGIN:VTIMEZONE
TZID:America/New_York
BEGIN:STANDARD
TZOFFSETFROM:-0400
TZOFFSETTO:-0500
DTSTART:20251102T060000
TZNAME:EST
END:STANDARD
END:VTIMEZONE
END:VCALENDAR
