BEGIN:VCALENDAR
VERSION:2.0
PRODID:-//Harvard Law School//NONSGML Events//EN
CALSCALE:GREGORIAN
X-WR-CALNAME:Harvard Law School - Events
X-ORIGINAL-URL:https://hls.harvard.edu/calendar/
X-WR-CALDESC:Harvard Law School - Events
BEGIN:VEVENT
UID:20251124T1559Z-1763999992.8981-EO-733752-1@10.73.7.213
STATUS:CONFIRMED
DTSTAMP:20260423T123917Z
CREATED:20251124T143809Z
LAST-MODIFIED:20251125T145442Z
DTSTART;TZID=America/New_York:20251202T100000
DTEND;TZID=America/New_York:20251202T120000
SUMMARY: Paws for Wellness: Therapy Dogs and Coffee Cart
DESCRIPTION: Paws for Wellness and coffee\, tea\, and hot cocoa from Espres
 so Dave’s Coffee Cart\, 12/2\, 10am-12pm\, HLS Fireside Lounge and Game Roo
 m. Take a Paws for wellness this reading period. Our favorite event is back
 … take a break from studying and play with a plethora of pups while getting
  coffee\, tea\, or hot cocoa from […]
X-ALT-DESC;FMTTYPE=text/html: <p>Paws for Wellness and coffee\, tea\, and h
 ot cocoa from Espresso Dave's Coffee Cart\, 12/2\, 10am-12pm\, HLS Fireside
  Lounge and Game Room.</p><p>Take a Paws for wellness this reading period. 
 Our favorite event is back… take a break from studying and play with a plet
 hora of pups while getting coffee\, tea\, or hot cocoa from Espresso Dave's
  Coffee Cart.</p>
LOCATION:WCC Fireside Lounge
GEO:0.000000;0.000000
ORGANIZER;CN="Kayla Kaszyca":MAILTO:kkaszyca@law.harvard.edu
URL;VALUE=URI:https://hls.harvard.edu/events/paws-for-wellness-therapy-dogs
 -and-coffee-cart/
ATTACH;FMTTYPE=image/png:https://hls.harvard.edu/wp-content/uploads/2025/11/Paws-for-Wellness-Poster.png
END:VEVENT
BEGIN:VTIMEZONE
TZID:America/New_York
BEGIN:STANDARD
TZOFFSETFROM:-0400
TZOFFSETTO:-0500
DTSTART:20251102T060000
TZNAME:EST
END:STANDARD
END:VTIMEZONE
END:VCALENDAR
