BEGIN:VCALENDAR
VERSION:2.0
PRODID:-//Harvard Law School//NONSGML Events//EN
CALSCALE:GREGORIAN
X-WR-CALNAME:Harvard Law School - Events
X-ORIGINAL-URL:https://hls.harvard.edu/calendar/
X-WR-CALDESC:Harvard Law School - Events
BEGIN:VEVENT
UID:20240207T1841Z-1707331309.1963-EO-629464-1@10.73.2.0
STATUS:CONFIRMED
DTSTAMP:20260423T140007Z
CREATED:20250206T184044Z
LAST-MODIFIED:20250214T175337Z
DTSTART;TZID=America/New_York:20250218T183000
DTEND;TZID=America/New_York:20250218T191500
SUMMARY: OPIA’s To EIP or Not: Community Conversation
DESCRIPTION: As a follow-on to our OPIA’s Life After Law School Series: Is 
 Big Law Right For Me? program\, gather with other public-interest-minded st
 udents in a judgment-free space to discuss the decision to participate in E
 IP. Whether you are on the fence about participating\, or do not plan on pa
 rticipating\, join others who may be considering similar factors — from fin
 ances to family expectations to FOMO.\n\nDinner provided.
X-ALT-DESC;FMTTYPE=text/html: <p>As a follow-on to our <a href="https://hls
 .harvard.edu/events/opias-life-after-law-school-series-deciding-whether-eip
 -is-right-for-me-2/"><em>OPIA’s Life After Law School Series: Is Big Law Ri
 ght For Me?</em></a> program\, gather with other public-interest-minded stu
 dents in a judgment-free space to discuss the decision to participate in EI
 P. Whether you are on the fence about participating\, or do not plan on par
 ticipating\, join others who may be considering similar factors — from fina
 nces to family expectations to FOMO.</p><p>Dinner provided.</p><p><strong>A
 udience</strong>: This event is geared towards 1Ls who are considering whet
 her to participate in the private sector Early Interview Program (EIP).</p>
CATEGORIES:Career Event,OPIA Events
LOCATION:OPIA Office - WCC 4039
GEO:0.000000;0.000000
ORGANIZER;CN="Micah Nemiroff":MAILTO:mnemiroff@law.harvard.edu
URL;VALUE=URI:https://hls.harvard.edu/events/opias-to-eip-or-not-community-
 conversation-2/
END:VEVENT
BEGIN:VTIMEZONE
TZID:America/New_York
BEGIN:STANDARD
TZOFFSETFROM:-0400
TZOFFSETTO:-0500
DTSTART:20241103T060000
TZNAME:EST
END:STANDARD
END:VTIMEZONE
END:VCALENDAR
