BEGIN:VCALENDAR
VERSION:2.0
PRODID:-//Harvard Law School//NONSGML Events//EN
CALSCALE:GREGORIAN
X-WR-CALNAME:Harvard Law School - Events
X-ORIGINAL-URL:https://hls.harvard.edu/calendar/
X-WR-CALDESC:Harvard Law School - Events
BEGIN:VEVENT
UID:20221018T1135Z-1666107351.2462-EO-443379-1@10.73.2.169
STATUS:CONFIRMED
DTSTAMP:20260423T172346Z
CREATED:20220824T141025Z
LAST-MODIFIED:20260414T164330Z
DTSTART;TZID=America/New_York:20260126T140000
DTEND;TZID=America/New_York:20260126T160000
RRULE:FREQ=WEEKLY;INTERVAL=1;BYDAY=TU;UNTIL=20260428T180000Z
EXDATE;TZID=America/New_York:20221123T140000,20221214T140000,20221221T140000,20230529T140000,20230619T140000,20230515T140000,20230605T140000,20230612T140000,20230703T140000,20230814T140000,20240805T140000,20240819T140000,20241128T140000,20241219T140000,20250206T140000,20250313T140000,20250320T140000,20250327T140000,20250417T140000,20250923T140000,20260127T140000,20260224T140000,20260414T140000
SUMMARY: OPIA Drop-In Office Hours with Elizabeth Shirey
DESCRIPTION: Have a quick question about the public interest job search? Co
 me to OPIA for drop-in office hours. Please note that drop-in office hours 
 are for quick questions only on a first-come\, first-served basis.
X-ALT-DESC;FMTTYPE=text/html: <p>Have a quick question about the public int
 erest job search? Come to OPIA for drop-in office hours. Please note that d
 rop-in office hours are for quick questions only. If you need a full resume
  or cover letter review\, please format them according to our <a title="Res
 umes" href="https://hls.harvard.edu/bernard-koteen-office-of-public-interes
 t-advising/opia-job-search-toolkit/public-interest-resumes/" target="" rel=
 "noopener">resume</a> and <a title="Cover Letters" href="https://hls.harvar
 d.edu/bernard-koteen-office-of-public-interest-advising/opia-job-search-too
 lkit/public-interest-cover-letters/" target="" rel="noopener">cover letter<
 /a> guidelines and complete our <a href="https://law-harvard-csm.symplicity
 .com/surveys/Material_Review_25_26">resume and cover letter review request 
 form</a>.</p>
CATEGORIES:OPIA Office Hours
LOCATION:OPIA Office - WCC 4039
GEO:0.000000;0.000000
ORGANIZER;CN="Micah Nemiroff":MAILTO:mnemiroff@law.harvard.edu
URL;VALUE=URI:https://hls.harvard.edu/events/opia-drop-in-office-hours-with
 -elizabeth-shirey/
END:VEVENT
BEGIN:VEVENT
UID:20221018T1135Z-1666107351.2462-EO-443379-1@10.73.2.169
STATUS:CONFIRMED
DTSTAMP:20260423T172346Z
CREATED:20220824T141025Z
LAST-MODIFIED:20260414T164330Z
DTSTART;TZID=America/New_York:20260126T140000
DTEND;TZID=America/New_York:20260126T160000
RRULE:FREQ=WEEKLY;INTERVAL=1;BYDAY=TU;UNTIL=20260428T180000Z
EXDATE;TZID=America/New_York:20221123T140000,20221214T140000,20221221T140000,20230529T140000,20230619T140000,20230515T140000,20230605T140000,20230612T140000,20230703T140000,20230814T140000,20240805T140000,20240819T140000,20241128T140000,20241219T140000,20250206T140000,20250313T140000,20250320T140000,20250327T140000,20250417T140000,20250923T140000,20260127T140000,20260224T140000,20260414T140000
SUMMARY: OPIA Drop-In Office Hours with Elizabeth Shirey
DESCRIPTION: Have a quick question about the public interest job search? Co
 me to OPIA for drop-in office hours. Please note that drop-in office hours 
 are for quick questions only on a first-come\, first-served basis.
X-ALT-DESC;FMTTYPE=text/html: <p>Have a quick question about the public int
 erest job search? Come to OPIA for drop-in office hours. Please note that d
 rop-in office hours are for quick questions only. If you need a full resume
  or cover letter review\, please format them according to our <a title="Res
 umes" href="https://hls.harvard.edu/bernard-koteen-office-of-public-interes
 t-advising/opia-job-search-toolkit/public-interest-resumes/" target="" rel=
 "noopener">resume</a> and <a title="Cover Letters" href="https://hls.harvar
 d.edu/bernard-koteen-office-of-public-interest-advising/opia-job-search-too
 lkit/public-interest-cover-letters/" target="" rel="noopener">cover letter<
 /a> guidelines and complete our <a href="https://law-harvard-csm.symplicity
 .com/surveys/Material_Review_25_26">resume and cover letter review request 
 form</a>.</p>
CATEGORIES:OPIA Office Hours
LOCATION:OPIA Office - WCC 4039
GEO:0.000000;0.000000
ORGANIZER;CN="Micah Nemiroff":MAILTO:mnemiroff@law.harvard.edu
URL;VALUE=URI:https://hls.harvard.edu/events/opia-drop-in-office-hours-with
 -elizabeth-shirey/
END:VEVENT
BEGIN:VEVENT
UID:20221018T1135Z-1666107351.2462-EO-443379-1@10.73.2.169
STATUS:CONFIRMED
DTSTAMP:20260423T172346Z
CREATED:20220824T141025Z
LAST-MODIFIED:20260414T164330Z
DTSTART;TZID=America/New_York:20260126T140000
DTEND;TZID=America/New_York:20260126T160000
RRULE:FREQ=WEEKLY;INTERVAL=1;BYDAY=TU;UNTIL=20260428T180000Z
EXDATE;TZID=America/New_York:20221123T140000,20221214T140000,20221221T140000,20230529T140000,20230619T140000,20230515T140000,20230605T140000,20230612T140000,20230703T140000,20230814T140000,20240805T140000,20240819T140000,20241128T140000,20241219T140000,20250206T140000,20250313T140000,20250320T140000,20250327T140000,20250417T140000,20250923T140000,20260127T140000,20260224T140000,20260414T140000
SUMMARY: OPIA Drop-In Office Hours with Elizabeth Shirey
DESCRIPTION: Have a quick question about the public interest job search? Co
 me to OPIA for drop-in office hours. Please note that drop-in office hours 
 are for quick questions only on a first-come\, first-served basis.
X-ALT-DESC;FMTTYPE=text/html: <p>Have a quick question about the public int
 erest job search? Come to OPIA for drop-in office hours. Please note that d
 rop-in office hours are for quick questions only. If you need a full resume
  or cover letter review\, please format them according to our <a title="Res
 umes" href="https://hls.harvard.edu/bernard-koteen-office-of-public-interes
 t-advising/opia-job-search-toolkit/public-interest-resumes/" target="" rel=
 "noopener">resume</a> and <a title="Cover Letters" href="https://hls.harvar
 d.edu/bernard-koteen-office-of-public-interest-advising/opia-job-search-too
 lkit/public-interest-cover-letters/" target="" rel="noopener">cover letter<
 /a> guidelines and complete our <a href="https://law-harvard-csm.symplicity
 .com/surveys/Material_Review_25_26">resume and cover letter review request 
 form</a>.</p>
CATEGORIES:OPIA Office Hours
LOCATION:OPIA Office - WCC 4039
GEO:0.000000;0.000000
ORGANIZER;CN="Micah Nemiroff":MAILTO:mnemiroff@law.harvard.edu
URL;VALUE=URI:https://hls.harvard.edu/events/opia-drop-in-office-hours-with
 -elizabeth-shirey/
END:VEVENT
BEGIN:VEVENT
UID:20221018T1135Z-1666107351.2462-EO-443379-1@10.73.2.169
STATUS:CONFIRMED
DTSTAMP:20260423T172346Z
CREATED:20220824T141025Z
LAST-MODIFIED:20260414T164330Z
DTSTART;TZID=America/New_York:20260126T140000
DTEND;TZID=America/New_York:20260126T160000
RRULE:FREQ=WEEKLY;INTERVAL=1;BYDAY=TU;UNTIL=20260428T180000Z
EXDATE;TZID=America/New_York:20221123T140000,20221214T140000,20221221T140000,20230529T140000,20230619T140000,20230515T140000,20230605T140000,20230612T140000,20230703T140000,20230814T140000,20240805T140000,20240819T140000,20241128T140000,20241219T140000,20250206T140000,20250313T140000,20250320T140000,20250327T140000,20250417T140000,20250923T140000,20260127T140000,20260224T140000,20260414T140000
SUMMARY: OPIA Drop-In Office Hours with Elizabeth Shirey
DESCRIPTION: Have a quick question about the public interest job search? Co
 me to OPIA for drop-in office hours. Please note that drop-in office hours 
 are for quick questions only on a first-come\, first-served basis.
X-ALT-DESC;FMTTYPE=text/html: <p>Have a quick question about the public int
 erest job search? Come to OPIA for drop-in office hours. Please note that d
 rop-in office hours are for quick questions only. If you need a full resume
  or cover letter review\, please format them according to our <a title="Res
 umes" href="https://hls.harvard.edu/bernard-koteen-office-of-public-interes
 t-advising/opia-job-search-toolkit/public-interest-resumes/" target="" rel=
 "noopener">resume</a> and <a title="Cover Letters" href="https://hls.harvar
 d.edu/bernard-koteen-office-of-public-interest-advising/opia-job-search-too
 lkit/public-interest-cover-letters/" target="" rel="noopener">cover letter<
 /a> guidelines and complete our <a href="https://law-harvard-csm.symplicity
 .com/surveys/Material_Review_25_26">resume and cover letter review request 
 form</a>.</p>
CATEGORIES:OPIA Office Hours
LOCATION:OPIA Office - WCC 4039
GEO:0.000000;0.000000
ORGANIZER;CN="Micah Nemiroff":MAILTO:mnemiroff@law.harvard.edu
URL;VALUE=URI:https://hls.harvard.edu/events/opia-drop-in-office-hours-with
 -elizabeth-shirey/
END:VEVENT
BEGIN:VEVENT
UID:20221018T1135Z-1666107351.2462-EO-443379-1@10.73.2.169
STATUS:CONFIRMED
DTSTAMP:20260423T172346Z
CREATED:20220824T141025Z
LAST-MODIFIED:20260414T164330Z
DTSTART;TZID=America/New_York:20260126T140000
DTEND;TZID=America/New_York:20260126T160000
RRULE:FREQ=WEEKLY;INTERVAL=1;BYDAY=TU;UNTIL=20260428T180000Z
EXDATE;TZID=America/New_York:20221123T140000,20221214T140000,20221221T140000,20230529T140000,20230619T140000,20230515T140000,20230605T140000,20230612T140000,20230703T140000,20230814T140000,20240805T140000,20240819T140000,20241128T140000,20241219T140000,20250206T140000,20250313T140000,20250320T140000,20250327T140000,20250417T140000,20250923T140000,20260127T140000,20260224T140000,20260414T140000
SUMMARY: OPIA Drop-In Office Hours with Elizabeth Shirey
DESCRIPTION: Have a quick question about the public interest job search? Co
 me to OPIA for drop-in office hours. Please note that drop-in office hours 
 are for quick questions only on a first-come\, first-served basis.
X-ALT-DESC;FMTTYPE=text/html: <p>Have a quick question about the public int
 erest job search? Come to OPIA for drop-in office hours. Please note that d
 rop-in office hours are for quick questions only. If you need a full resume
  or cover letter review\, please format them according to our <a title="Res
 umes" href="https://hls.harvard.edu/bernard-koteen-office-of-public-interes
 t-advising/opia-job-search-toolkit/public-interest-resumes/" target="" rel=
 "noopener">resume</a> and <a title="Cover Letters" href="https://hls.harvar
 d.edu/bernard-koteen-office-of-public-interest-advising/opia-job-search-too
 lkit/public-interest-cover-letters/" target="" rel="noopener">cover letter<
 /a> guidelines and complete our <a href="https://law-harvard-csm.symplicity
 .com/surveys/Material_Review_25_26">resume and cover letter review request 
 form</a>.</p>
CATEGORIES:OPIA Office Hours
LOCATION:OPIA Office - WCC 4039
GEO:0.000000;0.000000
ORGANIZER;CN="Micah Nemiroff":MAILTO:mnemiroff@law.harvard.edu
URL;VALUE=URI:https://hls.harvard.edu/events/opia-drop-in-office-hours-with
 -elizabeth-shirey/
END:VEVENT
BEGIN:VEVENT
UID:20221018T1135Z-1666107351.2462-EO-443379-1@10.73.2.169
STATUS:CONFIRMED
DTSTAMP:20260423T172346Z
CREATED:20220824T141025Z
LAST-MODIFIED:20260414T164330Z
DTSTART;TZID=America/New_York:20260126T140000
DTEND;TZID=America/New_York:20260126T160000
RRULE:FREQ=WEEKLY;INTERVAL=1;BYDAY=TU;UNTIL=20260428T180000Z
EXDATE;TZID=America/New_York:20221123T140000,20221214T140000,20221221T140000,20230529T140000,20230619T140000,20230515T140000,20230605T140000,20230612T140000,20230703T140000,20230814T140000,20240805T140000,20240819T140000,20241128T140000,20241219T140000,20250206T140000,20250313T140000,20250320T140000,20250327T140000,20250417T140000,20250923T140000,20260127T140000,20260224T140000,20260414T140000
SUMMARY: OPIA Drop-In Office Hours with Elizabeth Shirey
DESCRIPTION: Have a quick question about the public interest job search? Co
 me to OPIA for drop-in office hours. Please note that drop-in office hours 
 are for quick questions only on a first-come\, first-served basis.
X-ALT-DESC;FMTTYPE=text/html: <p>Have a quick question about the public int
 erest job search? Come to OPIA for drop-in office hours. Please note that d
 rop-in office hours are for quick questions only. If you need a full resume
  or cover letter review\, please format them according to our <a title="Res
 umes" href="https://hls.harvard.edu/bernard-koteen-office-of-public-interes
 t-advising/opia-job-search-toolkit/public-interest-resumes/" target="" rel=
 "noopener">resume</a> and <a title="Cover Letters" href="https://hls.harvar
 d.edu/bernard-koteen-office-of-public-interest-advising/opia-job-search-too
 lkit/public-interest-cover-letters/" target="" rel="noopener">cover letter<
 /a> guidelines and complete our <a href="https://law-harvard-csm.symplicity
 .com/surveys/Material_Review_25_26">resume and cover letter review request 
 form</a>.</p>
CATEGORIES:OPIA Office Hours
LOCATION:OPIA Office - WCC 4039
GEO:0.000000;0.000000
ORGANIZER;CN="Micah Nemiroff":MAILTO:mnemiroff@law.harvard.edu
URL;VALUE=URI:https://hls.harvard.edu/events/opia-drop-in-office-hours-with
 -elizabeth-shirey/
END:VEVENT
BEGIN:VEVENT
UID:20221018T1135Z-1666107351.2462-EO-443379-1@10.73.2.169
STATUS:CONFIRMED
DTSTAMP:20260423T172346Z
CREATED:20220824T141025Z
LAST-MODIFIED:20260414T164330Z
DTSTART;TZID=America/New_York:20260126T140000
DTEND;TZID=America/New_York:20260126T160000
RRULE:FREQ=WEEKLY;INTERVAL=1;BYDAY=TU;UNTIL=20260428T180000Z
EXDATE;TZID=America/New_York:20221123T140000,20221214T140000,20221221T140000,20230529T140000,20230619T140000,20230515T140000,20230605T140000,20230612T140000,20230703T140000,20230814T140000,20240805T140000,20240819T140000,20241128T140000,20241219T140000,20250206T140000,20250313T140000,20250320T140000,20250327T140000,20250417T140000,20250923T140000,20260127T140000,20260224T140000,20260414T140000
SUMMARY: OPIA Drop-In Office Hours with Elizabeth Shirey
DESCRIPTION: Have a quick question about the public interest job search? Co
 me to OPIA for drop-in office hours. Please note that drop-in office hours 
 are for quick questions only on a first-come\, first-served basis.
X-ALT-DESC;FMTTYPE=text/html: <p>Have a quick question about the public int
 erest job search? Come to OPIA for drop-in office hours. Please note that d
 rop-in office hours are for quick questions only. If you need a full resume
  or cover letter review\, please format them according to our <a title="Res
 umes" href="https://hls.harvard.edu/bernard-koteen-office-of-public-interes
 t-advising/opia-job-search-toolkit/public-interest-resumes/" target="" rel=
 "noopener">resume</a> and <a title="Cover Letters" href="https://hls.harvar
 d.edu/bernard-koteen-office-of-public-interest-advising/opia-job-search-too
 lkit/public-interest-cover-letters/" target="" rel="noopener">cover letter<
 /a> guidelines and complete our <a href="https://law-harvard-csm.symplicity
 .com/surveys/Material_Review_25_26">resume and cover letter review request 
 form</a>.</p>
CATEGORIES:OPIA Office Hours
LOCATION:OPIA Office - WCC 4039
GEO:0.000000;0.000000
ORGANIZER;CN="Micah Nemiroff":MAILTO:mnemiroff@law.harvard.edu
URL;VALUE=URI:https://hls.harvard.edu/events/opia-drop-in-office-hours-with
 -elizabeth-shirey/
END:VEVENT
BEGIN:VEVENT
UID:20221018T1135Z-1666107351.2462-EO-443379-1@10.73.2.169
STATUS:CONFIRMED
DTSTAMP:20260423T172346Z
CREATED:20220824T141025Z
LAST-MODIFIED:20260414T164330Z
DTSTART;TZID=America/New_York:20260126T140000
DTEND;TZID=America/New_York:20260126T160000
RRULE:FREQ=WEEKLY;INTERVAL=1;BYDAY=TU;UNTIL=20260428T180000Z
EXDATE;TZID=America/New_York:20221123T140000,20221214T140000,20221221T140000,20230529T140000,20230619T140000,20230515T140000,20230605T140000,20230612T140000,20230703T140000,20230814T140000,20240805T140000,20240819T140000,20241128T140000,20241219T140000,20250206T140000,20250313T140000,20250320T140000,20250327T140000,20250417T140000,20250923T140000,20260127T140000,20260224T140000,20260414T140000
SUMMARY: OPIA Drop-In Office Hours with Elizabeth Shirey
DESCRIPTION: Have a quick question about the public interest job search? Co
 me to OPIA for drop-in office hours. Please note that drop-in office hours 
 are for quick questions only on a first-come\, first-served basis.
X-ALT-DESC;FMTTYPE=text/html: <p>Have a quick question about the public int
 erest job search? Come to OPIA for drop-in office hours. Please note that d
 rop-in office hours are for quick questions only. If you need a full resume
  or cover letter review\, please format them according to our <a title="Res
 umes" href="https://hls.harvard.edu/bernard-koteen-office-of-public-interes
 t-advising/opia-job-search-toolkit/public-interest-resumes/" target="" rel=
 "noopener">resume</a> and <a title="Cover Letters" href="https://hls.harvar
 d.edu/bernard-koteen-office-of-public-interest-advising/opia-job-search-too
 lkit/public-interest-cover-letters/" target="" rel="noopener">cover letter<
 /a> guidelines and complete our <a href="https://law-harvard-csm.symplicity
 .com/surveys/Material_Review_25_26">resume and cover letter review request 
 form</a>.</p>
CATEGORIES:OPIA Office Hours
LOCATION:OPIA Office - WCC 4039
GEO:0.000000;0.000000
ORGANIZER;CN="Micah Nemiroff":MAILTO:mnemiroff@law.harvard.edu
URL;VALUE=URI:https://hls.harvard.edu/events/opia-drop-in-office-hours-with
 -elizabeth-shirey/
END:VEVENT
BEGIN:VEVENT
UID:20221018T1135Z-1666107351.2462-EO-443379-1@10.73.2.169
STATUS:CONFIRMED
DTSTAMP:20260423T172346Z
CREATED:20220824T141025Z
LAST-MODIFIED:20260414T164330Z
DTSTART;TZID=America/New_York:20260126T140000
DTEND;TZID=America/New_York:20260126T160000
RRULE:FREQ=WEEKLY;INTERVAL=1;BYDAY=TU;UNTIL=20260428T180000Z
EXDATE;TZID=America/New_York:20221123T140000,20221214T140000,20221221T140000,20230529T140000,20230619T140000,20230515T140000,20230605T140000,20230612T140000,20230703T140000,20230814T140000,20240805T140000,20240819T140000,20241128T140000,20241219T140000,20250206T140000,20250313T140000,20250320T140000,20250327T140000,20250417T140000,20250923T140000,20260127T140000,20260224T140000,20260414T140000
SUMMARY: OPIA Drop-In Office Hours with Elizabeth Shirey
DESCRIPTION: Have a quick question about the public interest job search? Co
 me to OPIA for drop-in office hours. Please note that drop-in office hours 
 are for quick questions only on a first-come\, first-served basis.
X-ALT-DESC;FMTTYPE=text/html: <p>Have a quick question about the public int
 erest job search? Come to OPIA for drop-in office hours. Please note that d
 rop-in office hours are for quick questions only. If you need a full resume
  or cover letter review\, please format them according to our <a title="Res
 umes" href="https://hls.harvard.edu/bernard-koteen-office-of-public-interes
 t-advising/opia-job-search-toolkit/public-interest-resumes/" target="" rel=
 "noopener">resume</a> and <a title="Cover Letters" href="https://hls.harvar
 d.edu/bernard-koteen-office-of-public-interest-advising/opia-job-search-too
 lkit/public-interest-cover-letters/" target="" rel="noopener">cover letter<
 /a> guidelines and complete our <a href="https://law-harvard-csm.symplicity
 .com/surveys/Material_Review_25_26">resume and cover letter review request 
 form</a>.</p>
CATEGORIES:OPIA Office Hours
LOCATION:OPIA Office - WCC 4039
GEO:0.000000;0.000000
ORGANIZER;CN="Micah Nemiroff":MAILTO:mnemiroff@law.harvard.edu
URL;VALUE=URI:https://hls.harvard.edu/events/opia-drop-in-office-hours-with
 -elizabeth-shirey/
END:VEVENT
BEGIN:VEVENT
UID:20221018T1135Z-1666107351.2462-EO-443379-1@10.73.2.169
STATUS:CONFIRMED
DTSTAMP:20260423T172346Z
CREATED:20220824T141025Z
LAST-MODIFIED:20260414T164330Z
DTSTART;TZID=America/New_York:20260126T140000
DTEND;TZID=America/New_York:20260126T160000
RRULE:FREQ=WEEKLY;INTERVAL=1;BYDAY=TU;UNTIL=20260428T180000Z
EXDATE;TZID=America/New_York:20221123T140000,20221214T140000,20221221T140000,20230529T140000,20230619T140000,20230515T140000,20230605T140000,20230612T140000,20230703T140000,20230814T140000,20240805T140000,20240819T140000,20241128T140000,20241219T140000,20250206T140000,20250313T140000,20250320T140000,20250327T140000,20250417T140000,20250923T140000,20260127T140000,20260224T140000,20260414T140000
SUMMARY: OPIA Drop-In Office Hours with Elizabeth Shirey
DESCRIPTION: Have a quick question about the public interest job search? Co
 me to OPIA for drop-in office hours. Please note that drop-in office hours 
 are for quick questions only on a first-come\, first-served basis.
X-ALT-DESC;FMTTYPE=text/html: <p>Have a quick question about the public int
 erest job search? Come to OPIA for drop-in office hours. Please note that d
 rop-in office hours are for quick questions only. If you need a full resume
  or cover letter review\, please format them according to our <a title="Res
 umes" href="https://hls.harvard.edu/bernard-koteen-office-of-public-interes
 t-advising/opia-job-search-toolkit/public-interest-resumes/" target="" rel=
 "noopener">resume</a> and <a title="Cover Letters" href="https://hls.harvar
 d.edu/bernard-koteen-office-of-public-interest-advising/opia-job-search-too
 lkit/public-interest-cover-letters/" target="" rel="noopener">cover letter<
 /a> guidelines and complete our <a href="https://law-harvard-csm.symplicity
 .com/surveys/Material_Review_25_26">resume and cover letter review request 
 form</a>.</p>
CATEGORIES:OPIA Office Hours
LOCATION:OPIA Office - WCC 4039
GEO:0.000000;0.000000
ORGANIZER;CN="Micah Nemiroff":MAILTO:mnemiroff@law.harvard.edu
URL;VALUE=URI:https://hls.harvard.edu/events/opia-drop-in-office-hours-with
 -elizabeth-shirey/
END:VEVENT
BEGIN:VEVENT
UID:20221018T1135Z-1666107351.2462-EO-443379-1@10.73.2.169
STATUS:CONFIRMED
DTSTAMP:20260423T172346Z
CREATED:20220824T141025Z
LAST-MODIFIED:20260414T164330Z
DTSTART;TZID=America/New_York:20260126T140000
DTEND;TZID=America/New_York:20260126T160000
RRULE:FREQ=WEEKLY;INTERVAL=1;BYDAY=TU;UNTIL=20260428T180000Z
EXDATE;TZID=America/New_York:20221123T140000,20221214T140000,20221221T140000,20230529T140000,20230619T140000,20230515T140000,20230605T140000,20230612T140000,20230703T140000,20230814T140000,20240805T140000,20240819T140000,20241128T140000,20241219T140000,20250206T140000,20250313T140000,20250320T140000,20250327T140000,20250417T140000,20250923T140000,20260127T140000,20260224T140000,20260414T140000
SUMMARY: OPIA Drop-In Office Hours with Elizabeth Shirey
DESCRIPTION: Have a quick question about the public interest job search? Co
 me to OPIA for drop-in office hours. Please note that drop-in office hours 
 are for quick questions only on a first-come\, first-served basis.
X-ALT-DESC;FMTTYPE=text/html: <p>Have a quick question about the public int
 erest job search? Come to OPIA for drop-in office hours. Please note that d
 rop-in office hours are for quick questions only. If you need a full resume
  or cover letter review\, please format them according to our <a title="Res
 umes" href="https://hls.harvard.edu/bernard-koteen-office-of-public-interes
 t-advising/opia-job-search-toolkit/public-interest-resumes/" target="" rel=
 "noopener">resume</a> and <a title="Cover Letters" href="https://hls.harvar
 d.edu/bernard-koteen-office-of-public-interest-advising/opia-job-search-too
 lkit/public-interest-cover-letters/" target="" rel="noopener">cover letter<
 /a> guidelines and complete our <a href="https://law-harvard-csm.symplicity
 .com/surveys/Material_Review_25_26">resume and cover letter review request 
 form</a>.</p>
CATEGORIES:OPIA Office Hours
LOCATION:OPIA Office - WCC 4039
GEO:0.000000;0.000000
ORGANIZER;CN="Micah Nemiroff":MAILTO:mnemiroff@law.harvard.edu
URL;VALUE=URI:https://hls.harvard.edu/events/opia-drop-in-office-hours-with
 -elizabeth-shirey/
END:VEVENT
BEGIN:VTIMEZONE
TZID:America/New_York
BEGIN:STANDARD
TZOFFSETFROM:-0400
TZOFFSETTO:-0500
DTSTART:20251102T060000
TZNAME:EST
END:STANDARD
BEGIN:DAYLIGHT
TZOFFSETFROM:-0500
TZOFFSETTO:-0400
DTSTART:20260308T070000
TZNAME:EDT
END:DAYLIGHT
END:VTIMEZONE
END:VCALENDAR
