BEGIN:VCALENDAR
VERSION:2.0
PRODID:-//Harvard Law School//NONSGML Events//EN
CALSCALE:GREGORIAN
X-WR-CALNAME:Harvard Law School - Events
X-ORIGINAL-URL:https://hls.harvard.edu/calendar/
X-WR-CALDESC:Harvard Law School - Events
BEGIN:VEVENT
UID:20221018T1135Z-1666107351.2237-EO-443366-1@10.73.2.169
STATUS:CONFIRMED
DTSTAMP:20260424T224505Z
CREATED:20220824T141447Z
LAST-MODIFIED:20260121T215458Z
DTSTART;TZID=America/New_York:20260126T100000
DTEND;TZID=America/New_York:20260126T110000
RRULE:FREQ=WEEKLY;INTERVAL=1;BYDAY=TH;UNTIL=20260430T140000Z
EXDATE;TZID=America/New_York:20221122T100000,20221213T100000,20221220T100000,20230131T100000,20230221T100000,20230228T100000,20230314T100000,20230502T100000,20230905T100000,20230912T100000,20231121T100000,20240116T100000,20240123T100000,20240213T100000,20240312T100000,20240409T100000,20241126T100000,20241217T100000,20241224T100000,20241231T100000,20250128T100000,20250311T100000,20250318T100000,20250415T100000,20250619T100000,20250626T100000,20250724T100000
SUMMARY: OPIA Virtual Drop-In Office Hours with Elizabeth Shirey
DESCRIPTION: Have a quick question about the public interest job search? Jo
 in Elizabeth's Zoom meeting room during her virtual office hours. Please no
 te that drop-in office hours are for quick questions only on a first-come\,
  first-served basis.
X-ALT-DESC;FMTTYPE=text/html: <p>Have a quick question about the public int
 erest job search? Join <a href="https://harvard.zoom.us/my/elizabethshirey"
 >Elizabeth's Zoom meeting room</a> during her virtual office hours. Please 
 note that virtual office hours are for quick questions only on a first-come
 \, first-served basis.</p>
CATEGORIES:OPIA Office Hours
LOCATION:Zoom
GEO:40.712728;-74.006015
ORGANIZER;CN="Micah Nemiroff":MAILTO:mnemiroff@law.harvard.edu
URL;VALUE=URI:https://hls.harvard.edu/events/opia-drop-in-office-hours-with
 -elizabeth-shirey-2/
END:VEVENT
BEGIN:VEVENT
UID:20221018T1135Z-1666107351.2237-EO-443366-1@10.73.2.169
STATUS:CONFIRMED
DTSTAMP:20260424T224505Z
CREATED:20220824T141447Z
LAST-MODIFIED:20260121T215458Z
DTSTART;TZID=America/New_York:20260126T100000
DTEND;TZID=America/New_York:20260126T110000
RRULE:FREQ=WEEKLY;INTERVAL=1;BYDAY=TH;UNTIL=20260430T140000Z
EXDATE;TZID=America/New_York:20221122T100000,20221213T100000,20221220T100000,20230131T100000,20230221T100000,20230228T100000,20230314T100000,20230502T100000,20230905T100000,20230912T100000,20231121T100000,20240116T100000,20240123T100000,20240213T100000,20240312T100000,20240409T100000,20241126T100000,20241217T100000,20241224T100000,20241231T100000,20250128T100000,20250311T100000,20250318T100000,20250415T100000,20250619T100000,20250626T100000,20250724T100000
SUMMARY: OPIA Virtual Drop-In Office Hours with Elizabeth Shirey
DESCRIPTION: Have a quick question about the public interest job search? Jo
 in Elizabeth's Zoom meeting room during her virtual office hours. Please no
 te that drop-in office hours are for quick questions only on a first-come\,
  first-served basis.
X-ALT-DESC;FMTTYPE=text/html: <p>Have a quick question about the public int
 erest job search? Join <a href="https://harvard.zoom.us/my/elizabethshirey"
 >Elizabeth's Zoom meeting room</a> during her virtual office hours. Please 
 note that virtual office hours are for quick questions only on a first-come
 \, first-served basis.</p>
CATEGORIES:OPIA Office Hours
LOCATION:Zoom
GEO:40.712728;-74.006015
ORGANIZER;CN="Micah Nemiroff":MAILTO:mnemiroff@law.harvard.edu
URL;VALUE=URI:https://hls.harvard.edu/events/opia-drop-in-office-hours-with
 -elizabeth-shirey-2/
END:VEVENT
BEGIN:VEVENT
UID:20221018T1135Z-1666107351.2237-EO-443366-1@10.73.2.169
STATUS:CONFIRMED
DTSTAMP:20260424T224505Z
CREATED:20220824T141447Z
LAST-MODIFIED:20260121T215458Z
DTSTART;TZID=America/New_York:20260126T100000
DTEND;TZID=America/New_York:20260126T110000
RRULE:FREQ=WEEKLY;INTERVAL=1;BYDAY=TH;UNTIL=20260430T140000Z
EXDATE;TZID=America/New_York:20221122T100000,20221213T100000,20221220T100000,20230131T100000,20230221T100000,20230228T100000,20230314T100000,20230502T100000,20230905T100000,20230912T100000,20231121T100000,20240116T100000,20240123T100000,20240213T100000,20240312T100000,20240409T100000,20241126T100000,20241217T100000,20241224T100000,20241231T100000,20250128T100000,20250311T100000,20250318T100000,20250415T100000,20250619T100000,20250626T100000,20250724T100000
SUMMARY: OPIA Virtual Drop-In Office Hours with Elizabeth Shirey
DESCRIPTION: Have a quick question about the public interest job search? Jo
 in Elizabeth's Zoom meeting room during her virtual office hours. Please no
 te that drop-in office hours are for quick questions only on a first-come\,
  first-served basis.
X-ALT-DESC;FMTTYPE=text/html: <p>Have a quick question about the public int
 erest job search? Join <a href="https://harvard.zoom.us/my/elizabethshirey"
 >Elizabeth's Zoom meeting room</a> during her virtual office hours. Please 
 note that virtual office hours are for quick questions only on a first-come
 \, first-served basis.</p>
CATEGORIES:OPIA Office Hours
LOCATION:Zoom
GEO:40.712728;-74.006015
ORGANIZER;CN="Micah Nemiroff":MAILTO:mnemiroff@law.harvard.edu
URL;VALUE=URI:https://hls.harvard.edu/events/opia-drop-in-office-hours-with
 -elizabeth-shirey-2/
END:VEVENT
BEGIN:VEVENT
UID:20221018T1135Z-1666107351.2237-EO-443366-1@10.73.2.169
STATUS:CONFIRMED
DTSTAMP:20260424T224505Z
CREATED:20220824T141447Z
LAST-MODIFIED:20260121T215458Z
DTSTART;TZID=America/New_York:20260126T100000
DTEND;TZID=America/New_York:20260126T110000
RRULE:FREQ=WEEKLY;INTERVAL=1;BYDAY=TH;UNTIL=20260430T140000Z
EXDATE;TZID=America/New_York:20221122T100000,20221213T100000,20221220T100000,20230131T100000,20230221T100000,20230228T100000,20230314T100000,20230502T100000,20230905T100000,20230912T100000,20231121T100000,20240116T100000,20240123T100000,20240213T100000,20240312T100000,20240409T100000,20241126T100000,20241217T100000,20241224T100000,20241231T100000,20250128T100000,20250311T100000,20250318T100000,20250415T100000,20250619T100000,20250626T100000,20250724T100000
SUMMARY: OPIA Virtual Drop-In Office Hours with Elizabeth Shirey
DESCRIPTION: Have a quick question about the public interest job search? Jo
 in Elizabeth's Zoom meeting room during her virtual office hours. Please no
 te that drop-in office hours are for quick questions only on a first-come\,
  first-served basis.
X-ALT-DESC;FMTTYPE=text/html: <p>Have a quick question about the public int
 erest job search? Join <a href="https://harvard.zoom.us/my/elizabethshirey"
 >Elizabeth's Zoom meeting room</a> during her virtual office hours. Please 
 note that virtual office hours are for quick questions only on a first-come
 \, first-served basis.</p>
CATEGORIES:OPIA Office Hours
LOCATION:Zoom
GEO:40.712728;-74.006015
ORGANIZER;CN="Micah Nemiroff":MAILTO:mnemiroff@law.harvard.edu
URL;VALUE=URI:https://hls.harvard.edu/events/opia-drop-in-office-hours-with
 -elizabeth-shirey-2/
END:VEVENT
BEGIN:VEVENT
UID:20221018T1135Z-1666107351.2237-EO-443366-1@10.73.2.169
STATUS:CONFIRMED
DTSTAMP:20260424T224505Z
CREATED:20220824T141447Z
LAST-MODIFIED:20260121T215458Z
DTSTART;TZID=America/New_York:20260126T100000
DTEND;TZID=America/New_York:20260126T110000
RRULE:FREQ=WEEKLY;INTERVAL=1;BYDAY=TH;UNTIL=20260430T140000Z
EXDATE;TZID=America/New_York:20221122T100000,20221213T100000,20221220T100000,20230131T100000,20230221T100000,20230228T100000,20230314T100000,20230502T100000,20230905T100000,20230912T100000,20231121T100000,20240116T100000,20240123T100000,20240213T100000,20240312T100000,20240409T100000,20241126T100000,20241217T100000,20241224T100000,20241231T100000,20250128T100000,20250311T100000,20250318T100000,20250415T100000,20250619T100000,20250626T100000,20250724T100000
SUMMARY: OPIA Virtual Drop-In Office Hours with Elizabeth Shirey
DESCRIPTION: Have a quick question about the public interest job search? Jo
 in Elizabeth's Zoom meeting room during her virtual office hours. Please no
 te that drop-in office hours are for quick questions only on a first-come\,
  first-served basis.
X-ALT-DESC;FMTTYPE=text/html: <p>Have a quick question about the public int
 erest job search? Join <a href="https://harvard.zoom.us/my/elizabethshirey"
 >Elizabeth's Zoom meeting room</a> during her virtual office hours. Please 
 note that virtual office hours are for quick questions only on a first-come
 \, first-served basis.</p>
CATEGORIES:OPIA Office Hours
LOCATION:Zoom
GEO:40.712728;-74.006015
ORGANIZER;CN="Micah Nemiroff":MAILTO:mnemiroff@law.harvard.edu
URL;VALUE=URI:https://hls.harvard.edu/events/opia-drop-in-office-hours-with
 -elizabeth-shirey-2/
END:VEVENT
BEGIN:VEVENT
UID:20221018T1135Z-1666107351.2237-EO-443366-1@10.73.2.169
STATUS:CONFIRMED
DTSTAMP:20260424T224505Z
CREATED:20220824T141447Z
LAST-MODIFIED:20260121T215458Z
DTSTART;TZID=America/New_York:20260126T100000
DTEND;TZID=America/New_York:20260126T110000
RRULE:FREQ=WEEKLY;INTERVAL=1;BYDAY=TH;UNTIL=20260430T140000Z
EXDATE;TZID=America/New_York:20221122T100000,20221213T100000,20221220T100000,20230131T100000,20230221T100000,20230228T100000,20230314T100000,20230502T100000,20230905T100000,20230912T100000,20231121T100000,20240116T100000,20240123T100000,20240213T100000,20240312T100000,20240409T100000,20241126T100000,20241217T100000,20241224T100000,20241231T100000,20250128T100000,20250311T100000,20250318T100000,20250415T100000,20250619T100000,20250626T100000,20250724T100000
SUMMARY: OPIA Virtual Drop-In Office Hours with Elizabeth Shirey
DESCRIPTION: Have a quick question about the public interest job search? Jo
 in Elizabeth's Zoom meeting room during her virtual office hours. Please no
 te that drop-in office hours are for quick questions only on a first-come\,
  first-served basis.
X-ALT-DESC;FMTTYPE=text/html: <p>Have a quick question about the public int
 erest job search? Join <a href="https://harvard.zoom.us/my/elizabethshirey"
 >Elizabeth's Zoom meeting room</a> during her virtual office hours. Please 
 note that virtual office hours are for quick questions only on a first-come
 \, first-served basis.</p>
CATEGORIES:OPIA Office Hours
LOCATION:Zoom
GEO:40.712728;-74.006015
ORGANIZER;CN="Micah Nemiroff":MAILTO:mnemiroff@law.harvard.edu
URL;VALUE=URI:https://hls.harvard.edu/events/opia-drop-in-office-hours-with
 -elizabeth-shirey-2/
END:VEVENT
BEGIN:VEVENT
UID:20221018T1135Z-1666107351.2237-EO-443366-1@10.73.2.169
STATUS:CONFIRMED
DTSTAMP:20260424T224505Z
CREATED:20220824T141447Z
LAST-MODIFIED:20260121T215458Z
DTSTART;TZID=America/New_York:20260126T100000
DTEND;TZID=America/New_York:20260126T110000
RRULE:FREQ=WEEKLY;INTERVAL=1;BYDAY=TH;UNTIL=20260430T140000Z
EXDATE;TZID=America/New_York:20221122T100000,20221213T100000,20221220T100000,20230131T100000,20230221T100000,20230228T100000,20230314T100000,20230502T100000,20230905T100000,20230912T100000,20231121T100000,20240116T100000,20240123T100000,20240213T100000,20240312T100000,20240409T100000,20241126T100000,20241217T100000,20241224T100000,20241231T100000,20250128T100000,20250311T100000,20250318T100000,20250415T100000,20250619T100000,20250626T100000,20250724T100000
SUMMARY: OPIA Virtual Drop-In Office Hours with Elizabeth Shirey
DESCRIPTION: Have a quick question about the public interest job search? Jo
 in Elizabeth's Zoom meeting room during her virtual office hours. Please no
 te that drop-in office hours are for quick questions only on a first-come\,
  first-served basis.
X-ALT-DESC;FMTTYPE=text/html: <p>Have a quick question about the public int
 erest job search? Join <a href="https://harvard.zoom.us/my/elizabethshirey"
 >Elizabeth's Zoom meeting room</a> during her virtual office hours. Please 
 note that virtual office hours are for quick questions only on a first-come
 \, first-served basis.</p>
CATEGORIES:OPIA Office Hours
LOCATION:Zoom
GEO:40.712728;-74.006015
ORGANIZER;CN="Micah Nemiroff":MAILTO:mnemiroff@law.harvard.edu
URL;VALUE=URI:https://hls.harvard.edu/events/opia-drop-in-office-hours-with
 -elizabeth-shirey-2/
END:VEVENT
BEGIN:VEVENT
UID:20221018T1135Z-1666107351.2237-EO-443366-1@10.73.2.169
STATUS:CONFIRMED
DTSTAMP:20260424T224505Z
CREATED:20220824T141447Z
LAST-MODIFIED:20260121T215458Z
DTSTART;TZID=America/New_York:20260126T100000
DTEND;TZID=America/New_York:20260126T110000
RRULE:FREQ=WEEKLY;INTERVAL=1;BYDAY=TH;UNTIL=20260430T140000Z
EXDATE;TZID=America/New_York:20221122T100000,20221213T100000,20221220T100000,20230131T100000,20230221T100000,20230228T100000,20230314T100000,20230502T100000,20230905T100000,20230912T100000,20231121T100000,20240116T100000,20240123T100000,20240213T100000,20240312T100000,20240409T100000,20241126T100000,20241217T100000,20241224T100000,20241231T100000,20250128T100000,20250311T100000,20250318T100000,20250415T100000,20250619T100000,20250626T100000,20250724T100000
SUMMARY: OPIA Virtual Drop-In Office Hours with Elizabeth Shirey
DESCRIPTION: Have a quick question about the public interest job search? Jo
 in Elizabeth's Zoom meeting room during her virtual office hours. Please no
 te that drop-in office hours are for quick questions only on a first-come\,
  first-served basis.
X-ALT-DESC;FMTTYPE=text/html: <p>Have a quick question about the public int
 erest job search? Join <a href="https://harvard.zoom.us/my/elizabethshirey"
 >Elizabeth's Zoom meeting room</a> during her virtual office hours. Please 
 note that virtual office hours are for quick questions only on a first-come
 \, first-served basis.</p>
CATEGORIES:OPIA Office Hours
LOCATION:Zoom
GEO:40.712728;-74.006015
ORGANIZER;CN="Micah Nemiroff":MAILTO:mnemiroff@law.harvard.edu
URL;VALUE=URI:https://hls.harvard.edu/events/opia-drop-in-office-hours-with
 -elizabeth-shirey-2/
END:VEVENT
BEGIN:VEVENT
UID:20221018T1135Z-1666107351.2237-EO-443366-1@10.73.2.169
STATUS:CONFIRMED
DTSTAMP:20260424T224505Z
CREATED:20220824T141447Z
LAST-MODIFIED:20260121T215458Z
DTSTART;TZID=America/New_York:20260126T100000
DTEND;TZID=America/New_York:20260126T110000
RRULE:FREQ=WEEKLY;INTERVAL=1;BYDAY=TH;UNTIL=20260430T140000Z
EXDATE;TZID=America/New_York:20221122T100000,20221213T100000,20221220T100000,20230131T100000,20230221T100000,20230228T100000,20230314T100000,20230502T100000,20230905T100000,20230912T100000,20231121T100000,20240116T100000,20240123T100000,20240213T100000,20240312T100000,20240409T100000,20241126T100000,20241217T100000,20241224T100000,20241231T100000,20250128T100000,20250311T100000,20250318T100000,20250415T100000,20250619T100000,20250626T100000,20250724T100000
SUMMARY: OPIA Virtual Drop-In Office Hours with Elizabeth Shirey
DESCRIPTION: Have a quick question about the public interest job search? Jo
 in Elizabeth's Zoom meeting room during her virtual office hours. Please no
 te that drop-in office hours are for quick questions only on a first-come\,
  first-served basis.
X-ALT-DESC;FMTTYPE=text/html: <p>Have a quick question about the public int
 erest job search? Join <a href="https://harvard.zoom.us/my/elizabethshirey"
 >Elizabeth's Zoom meeting room</a> during her virtual office hours. Please 
 note that virtual office hours are for quick questions only on a first-come
 \, first-served basis.</p>
CATEGORIES:OPIA Office Hours
LOCATION:Zoom
GEO:40.712728;-74.006015
ORGANIZER;CN="Micah Nemiroff":MAILTO:mnemiroff@law.harvard.edu
URL;VALUE=URI:https://hls.harvard.edu/events/opia-drop-in-office-hours-with
 -elizabeth-shirey-2/
END:VEVENT
BEGIN:VEVENT
UID:20221018T1135Z-1666107351.2237-EO-443366-1@10.73.2.169
STATUS:CONFIRMED
DTSTAMP:20260424T224505Z
CREATED:20220824T141447Z
LAST-MODIFIED:20260121T215458Z
DTSTART;TZID=America/New_York:20260126T100000
DTEND;TZID=America/New_York:20260126T110000
RRULE:FREQ=WEEKLY;INTERVAL=1;BYDAY=TH;UNTIL=20260430T140000Z
EXDATE;TZID=America/New_York:20221122T100000,20221213T100000,20221220T100000,20230131T100000,20230221T100000,20230228T100000,20230314T100000,20230502T100000,20230905T100000,20230912T100000,20231121T100000,20240116T100000,20240123T100000,20240213T100000,20240312T100000,20240409T100000,20241126T100000,20241217T100000,20241224T100000,20241231T100000,20250128T100000,20250311T100000,20250318T100000,20250415T100000,20250619T100000,20250626T100000,20250724T100000
SUMMARY: OPIA Virtual Drop-In Office Hours with Elizabeth Shirey
DESCRIPTION: Have a quick question about the public interest job search? Jo
 in Elizabeth's Zoom meeting room during her virtual office hours. Please no
 te that drop-in office hours are for quick questions only on a first-come\,
  first-served basis.
X-ALT-DESC;FMTTYPE=text/html: <p>Have a quick question about the public int
 erest job search? Join <a href="https://harvard.zoom.us/my/elizabethshirey"
 >Elizabeth's Zoom meeting room</a> during her virtual office hours. Please 
 note that virtual office hours are for quick questions only on a first-come
 \, first-served basis.</p>
CATEGORIES:OPIA Office Hours
LOCATION:Zoom
GEO:40.712728;-74.006015
ORGANIZER;CN="Micah Nemiroff":MAILTO:mnemiroff@law.harvard.edu
URL;VALUE=URI:https://hls.harvard.edu/events/opia-drop-in-office-hours-with
 -elizabeth-shirey-2/
END:VEVENT
BEGIN:VEVENT
UID:20221018T1135Z-1666107351.2237-EO-443366-1@10.73.2.169
STATUS:CONFIRMED
DTSTAMP:20260424T224505Z
CREATED:20220824T141447Z
LAST-MODIFIED:20260121T215458Z
DTSTART;TZID=America/New_York:20260126T100000
DTEND;TZID=America/New_York:20260126T110000
RRULE:FREQ=WEEKLY;INTERVAL=1;BYDAY=TH;UNTIL=20260430T140000Z
EXDATE;TZID=America/New_York:20221122T100000,20221213T100000,20221220T100000,20230131T100000,20230221T100000,20230228T100000,20230314T100000,20230502T100000,20230905T100000,20230912T100000,20231121T100000,20240116T100000,20240123T100000,20240213T100000,20240312T100000,20240409T100000,20241126T100000,20241217T100000,20241224T100000,20241231T100000,20250128T100000,20250311T100000,20250318T100000,20250415T100000,20250619T100000,20250626T100000,20250724T100000
SUMMARY: OPIA Virtual Drop-In Office Hours with Elizabeth Shirey
DESCRIPTION: Have a quick question about the public interest job search? Jo
 in Elizabeth's Zoom meeting room during her virtual office hours. Please no
 te that drop-in office hours are for quick questions only on a first-come\,
  first-served basis.
X-ALT-DESC;FMTTYPE=text/html: <p>Have a quick question about the public int
 erest job search? Join <a href="https://harvard.zoom.us/my/elizabethshirey"
 >Elizabeth's Zoom meeting room</a> during her virtual office hours. Please 
 note that virtual office hours are for quick questions only on a first-come
 \, first-served basis.</p>
CATEGORIES:OPIA Office Hours
LOCATION:Zoom
GEO:40.712728;-74.006015
ORGANIZER;CN="Micah Nemiroff":MAILTO:mnemiroff@law.harvard.edu
URL;VALUE=URI:https://hls.harvard.edu/events/opia-drop-in-office-hours-with
 -elizabeth-shirey-2/
END:VEVENT
BEGIN:VEVENT
UID:20221018T1135Z-1666107351.2237-EO-443366-1@10.73.2.169
STATUS:CONFIRMED
DTSTAMP:20260424T224505Z
CREATED:20220824T141447Z
LAST-MODIFIED:20260121T215458Z
DTSTART;TZID=America/New_York:20260126T100000
DTEND;TZID=America/New_York:20260126T110000
RRULE:FREQ=WEEKLY;INTERVAL=1;BYDAY=TH;UNTIL=20260430T140000Z
EXDATE;TZID=America/New_York:20221122T100000,20221213T100000,20221220T100000,20230131T100000,20230221T100000,20230228T100000,20230314T100000,20230502T100000,20230905T100000,20230912T100000,20231121T100000,20240116T100000,20240123T100000,20240213T100000,20240312T100000,20240409T100000,20241126T100000,20241217T100000,20241224T100000,20241231T100000,20250128T100000,20250311T100000,20250318T100000,20250415T100000,20250619T100000,20250626T100000,20250724T100000
SUMMARY: OPIA Virtual Drop-In Office Hours with Elizabeth Shirey
DESCRIPTION: Have a quick question about the public interest job search? Jo
 in Elizabeth's Zoom meeting room during her virtual office hours. Please no
 te that drop-in office hours are for quick questions only on a first-come\,
  first-served basis.
X-ALT-DESC;FMTTYPE=text/html: <p>Have a quick question about the public int
 erest job search? Join <a href="https://harvard.zoom.us/my/elizabethshirey"
 >Elizabeth's Zoom meeting room</a> during her virtual office hours. Please 
 note that virtual office hours are for quick questions only on a first-come
 \, first-served basis.</p>
CATEGORIES:OPIA Office Hours
LOCATION:Zoom
GEO:40.712728;-74.006015
ORGANIZER;CN="Micah Nemiroff":MAILTO:mnemiroff@law.harvard.edu
URL;VALUE=URI:https://hls.harvard.edu/events/opia-drop-in-office-hours-with
 -elizabeth-shirey-2/
END:VEVENT
BEGIN:VEVENT
UID:20221018T1135Z-1666107351.2237-EO-443366-1@10.73.2.169
STATUS:CONFIRMED
DTSTAMP:20260424T224505Z
CREATED:20220824T141447Z
LAST-MODIFIED:20260121T215458Z
DTSTART;TZID=America/New_York:20260126T100000
DTEND;TZID=America/New_York:20260126T110000
RRULE:FREQ=WEEKLY;INTERVAL=1;BYDAY=TH;UNTIL=20260430T140000Z
EXDATE;TZID=America/New_York:20221122T100000,20221213T100000,20221220T100000,20230131T100000,20230221T100000,20230228T100000,20230314T100000,20230502T100000,20230905T100000,20230912T100000,20231121T100000,20240116T100000,20240123T100000,20240213T100000,20240312T100000,20240409T100000,20241126T100000,20241217T100000,20241224T100000,20241231T100000,20250128T100000,20250311T100000,20250318T100000,20250415T100000,20250619T100000,20250626T100000,20250724T100000
SUMMARY: OPIA Virtual Drop-In Office Hours with Elizabeth Shirey
DESCRIPTION: Have a quick question about the public interest job search? Jo
 in Elizabeth's Zoom meeting room during her virtual office hours. Please no
 te that drop-in office hours are for quick questions only on a first-come\,
  first-served basis.
X-ALT-DESC;FMTTYPE=text/html: <p>Have a quick question about the public int
 erest job search? Join <a href="https://harvard.zoom.us/my/elizabethshirey"
 >Elizabeth's Zoom meeting room</a> during her virtual office hours. Please 
 note that virtual office hours are for quick questions only on a first-come
 \, first-served basis.</p>
CATEGORIES:OPIA Office Hours
LOCATION:Zoom
GEO:40.712728;-74.006015
ORGANIZER;CN="Micah Nemiroff":MAILTO:mnemiroff@law.harvard.edu
URL;VALUE=URI:https://hls.harvard.edu/events/opia-drop-in-office-hours-with
 -elizabeth-shirey-2/
END:VEVENT
BEGIN:VEVENT
UID:20221018T1135Z-1666107351.2237-EO-443366-1@10.73.2.169
STATUS:CONFIRMED
DTSTAMP:20260424T224505Z
CREATED:20220824T141447Z
LAST-MODIFIED:20260121T215458Z
DTSTART;TZID=America/New_York:20260126T100000
DTEND;TZID=America/New_York:20260126T110000
RRULE:FREQ=WEEKLY;INTERVAL=1;BYDAY=TH;UNTIL=20260430T140000Z
EXDATE;TZID=America/New_York:20221122T100000,20221213T100000,20221220T100000,20230131T100000,20230221T100000,20230228T100000,20230314T100000,20230502T100000,20230905T100000,20230912T100000,20231121T100000,20240116T100000,20240123T100000,20240213T100000,20240312T100000,20240409T100000,20241126T100000,20241217T100000,20241224T100000,20241231T100000,20250128T100000,20250311T100000,20250318T100000,20250415T100000,20250619T100000,20250626T100000,20250724T100000
SUMMARY: OPIA Virtual Drop-In Office Hours with Elizabeth Shirey
DESCRIPTION: Have a quick question about the public interest job search? Jo
 in Elizabeth's Zoom meeting room during her virtual office hours. Please no
 te that drop-in office hours are for quick questions only on a first-come\,
  first-served basis.
X-ALT-DESC;FMTTYPE=text/html: <p>Have a quick question about the public int
 erest job search? Join <a href="https://harvard.zoom.us/my/elizabethshirey"
 >Elizabeth's Zoom meeting room</a> during her virtual office hours. Please 
 note that virtual office hours are for quick questions only on a first-come
 \, first-served basis.</p>
CATEGORIES:OPIA Office Hours
LOCATION:Zoom
GEO:40.712728;-74.006015
ORGANIZER;CN="Micah Nemiroff":MAILTO:mnemiroff@law.harvard.edu
URL;VALUE=URI:https://hls.harvard.edu/events/opia-drop-in-office-hours-with
 -elizabeth-shirey-2/
END:VEVENT
BEGIN:VTIMEZONE
TZID:America/New_York
BEGIN:STANDARD
TZOFFSETFROM:-0400
TZOFFSETTO:-0500
DTSTART:20251102T060000
TZNAME:EST
END:STANDARD
BEGIN:DAYLIGHT
TZOFFSETFROM:-0500
TZOFFSETTO:-0400
DTSTART:20260308T070000
TZNAME:EDT
END:DAYLIGHT
END:VTIMEZONE
END:VCALENDAR
