BEGIN:VCALENDAR
VERSION:2.0
PRODID:-//Harvard Law School//NONSGML Events//EN
CALSCALE:GREGORIAN
X-WR-CALNAME:Harvard Law School - Events
X-ORIGINAL-URL:https://hls.harvard.edu/calendar/
X-WR-CALDESC:Harvard Law School - Events
BEGIN:VEVENT
UID:20251006T1742Z-1759772555.6395-EO-727142-1@10.73.0.4
STATUS:CONFIRMED
DTSTAMP:20260423T065347Z
CREATED:20251006T171502Z
LAST-MODIFIED:20251006T230734Z
DTSTART;TZID=America/New_York:20251020T122000
DTEND;TZID=America/New_York:20251020T131500
SUMMARY: Open Memo Writing
DESCRIPTION: Join a panel of experienced 2Ls and 3Ls to discuss tips and tr
 icks to the Open Memo Writing process. Lunch provided. RSVP at the followin
 g link to help estimate attendance. This event was made possible through th
 e collaborative efforts of La Alianza\, Lambda\, WLA\, and First Class. htt
 ps://docs.google.com/forms/d/e/1FAIpQLSfzf2qt_NiKWry82Ql9e4uqkYsOuhiElZdnVK
 2LHnDOhXOCFQ/viewform?usp=dialog
X-ALT-DESC;FMTTYPE=text/html: <p>Join a panel of experienced 2Ls and 3Ls to
  discuss tips and tricks to the Open Memo Writing process. Lunch provided. 
 RSVP at the following link to help estimate attendance. This event was made
  possible through the collaborative efforts of La Alianza\, Lambda\, WLA\, 
 and First Class.</p><p>https://docs.google.com/forms/d/e/1FAIpQLSfzf2qt_NiK
 Wry82Ql9e4uqkYsOuhiElZdnVK2LHnDOhXOCFQ/viewform?usp=dialog</p>
LOCATION:WCC\; 1023 Classroom
GEO:0;0
ORGANIZER;CN="API User":MAILTO:api@law.harvard.edu
URL;VALUE=URI:https://hls.harvard.edu/events/open-memo-writing/
END:VEVENT
BEGIN:VTIMEZONE
TZID:America/New_York
BEGIN:DAYLIGHT
TZOFFSETFROM:-0500
TZOFFSETTO:-0400
DTSTART:20250309T070000
TZNAME:EDT
END:DAYLIGHT
END:VTIMEZONE
END:VCALENDAR
