BEGIN:VCALENDAR
VERSION:2.0
PRODID:-//Harvard Law School//NONSGML Events//EN
CALSCALE:GREGORIAN
X-WR-CALNAME:Harvard Law School - Events
X-ORIGINAL-URL:https://hls.harvard.edu/calendar/
X-WR-CALDESC:Harvard Law School - Events
BEGIN:VEVENT
UID:20251113T0133Z-1762997587.8149-EO-732189-1@10.73.7.213
STATUS:CONFIRMED
DTSTAMP:20260423T065920Z
CREATED:20251112T211649Z
LAST-MODIFIED:20251112T211649Z
DTSTART;TZID=America/New_York:20251117T183000
DTEND;TZID=America/New_York:20251117T200000
SUMMARY: Open Inquiry Dinner Discussion: Trump 2.0 Presidency
DESCRIPTION: HLS is home to a wide range of viewpoints. In this dinner seri
 es\, HLS Students for Open Inquiry aims to provide students from all backgr
 ounds with the opportunity to engage with fellow students who have settled\
 , unsettled\, and differing viewpoints in an informal setting. The theme of
  this dinner will be The Second Trump Presidency […]
X-ALT-DESC;FMTTYPE=text/html: <div><p>HLS is home to a wide range of viewpo
 ints. In this dinner series\, HLS Students for Open Inquiry aims to provide
  students from all backgrounds with the opportunity to engage with fellow s
 tudents who have settled\, unsettled\, and differing viewpoints in an infor
 mal setting.</p><p>The theme of this dinner will be The Second Trump Presid
 ency - exploring what’s going well\, what isn’t\, and how it compares to Th
 e Biden Presidency. Please RSVP so we can order the appropriate amount of f
 ood!</p></div><div></div><div><strong>RSVP here</strong>: <a href="http://t
 inyurl.com/openinquirytrump">tinyurl.com/openinquirytrump</a></div>
CATEGORIES:Discussion
LOCATION:WCC\; 3016 Room
GEO:0;0
ORGANIZER;CN="Mr Young Jun Andrew Kim":MAILTO:ykim@jd25.law.harvard.edu
URL;VALUE=URI:https://hls.harvard.edu/events/open-inquiry-dinner-discussion
 -trump-2-0-presidency/
ATTACH;FMTTYPE=image/jpeg:https://hls.harvard.edu/wp-content/uploads/2025/11/11.17-Ope.jpg
END:VEVENT
BEGIN:VTIMEZONE
TZID:America/New_York
BEGIN:STANDARD
TZOFFSETFROM:-0400
TZOFFSETTO:-0500
DTSTART:20251102T060000
TZNAME:EST
END:STANDARD
END:VTIMEZONE
END:VCALENDAR
