BEGIN:VCALENDAR
VERSION:2.0
PRODID:-//Harvard Law School//NONSGML Events//EN
CALSCALE:GREGORIAN
X-WR-CALNAME:Harvard Law School - Events
X-ORIGINAL-URL:https://hls.harvard.edu/calendar/
X-WR-CALDESC:Harvard Law School - Events
BEGIN:VEVENT
UID:20241021T1835Z-1729535722.8395-EO-674843-1@10.73.8.211
STATUS:CONFIRMED
DTSTAMP:20260423T142715Z
CREATED:20241021T141246Z
LAST-MODIFIED:20241021T141246Z
DTSTART;TZID=America/New_York:20241101T143000
DTEND;TZID=America/New_York:20241101T153000
SUMMARY: One Year of Anthropic’s Responsible Scaling Policy with Zac Hatfie
 ld-Dodds (BKC / AISST AI Governance Speaker Series)
DESCRIPTION: Join the Berkman Klein Center and the AI Safety Student Team f
 or a speaker series on AI governance! Free food / snacks will be provided\,
  RSVP here 🙂 About the Event In September 2023\, Anthropic released our Res
 ponsible Scaling Policy (RSP)\, a public commitment not to train or deploy 
 models capable of causing catastrophic harm […]
X-ALT-DESC;FMTTYPE=text/html: <p><strong>Join the Berkman Klein Center and 
 the AI Safety Student Team for a speaker series on AI governance! Free food
  / snacks will be provided\, RSVP <a href="https://docs.google.com/forms/d/
 e/1FAIpQLSdg3FZtCm6JPVNz5QezMegRNDnXwILLQMzjSYIBMApft6KMtQ/viewform?usp=sf_
 link">here</a> 🙂</strong></p><p><strong>About the Event</strong></p><p>In S
 eptember 2023\, Anthropic released our Responsible Scaling Policy (RSP)\, a
  public commitment not to train or deploy models capable of causing catastr
 ophic harm unless we have implemented safety and security measures that wil
 l keep risks below acceptable levels. This October\, we updated it to accou
 nt for the lessons we’ve learned - reflecting our view that risk governance
  in this rapidly evolving domain should be proportional\, iterative\, and e
 xportable.  After a short talk introducing and explaining the RSP\, we'll t
 urn to a fireside chat and take questions from the audience.</p><p><strong>
 About the Speaker</strong></p><p>Zac Hatfield-Dodds has been a Member of Te
 chnical Staff at Anthropic since 2021\, working to make AI safe and unlock 
 the enormous benefits—primarily through research and engineering\, with occ
 asional forays into recruiting\, policy\, and management. He's also a Fello
 w of the Python Software Foundation\, Australian\, chocolate enthusiast\, a
 nd unrepentant bookworm. You can read more at <a href="https://zhd.dev/">zh
 d.dev</a>.</p><p><strong>Event Co-Sponsors</strong>: Harvard Law AI Student
  Association\, Harvard Journal of Law & Technology</p>
CATEGORIES:Speaker/Panel
LOCATION:Berkman Klein Multipurpose Room (Room 515)
GEO:0.000000;0.000000
ORGANIZER;CN="Kevin Wei":MAILTO:kwei@jd26.law.harvard.edu
URL;VALUE=URI:https://hls.harvard.edu/events/one-year-of-anthropics-respons
 ible-scaling-policy-with-zac-hatfield-dodds-bkc-aisst-ai-governance-speaker
 -series/
END:VEVENT
BEGIN:VTIMEZONE
TZID:America/New_York
BEGIN:DAYLIGHT
TZOFFSETFROM:-0500
TZOFFSETTO:-0400
DTSTART:20240310T070000
TZNAME:EDT
END:DAYLIGHT
END:VTIMEZONE
END:VCALENDAR
