BEGIN:VCALENDAR
VERSION:2.0
PRODID:-//Harvard Law School//NONSGML Events//EN
CALSCALE:GREGORIAN
X-WR-CALNAME:Harvard Law School - Events
X-ORIGINAL-URL:https://hls.harvard.edu/calendar/
X-WR-CALDESC:Harvard Law School - Events
BEGIN:VEVENT
UID:20260423T0106Z-1776906395.4373-EO-749728-1@10.73.1.60
STATUS:CONFIRMED
DTSTAMP:20260422T210635Z
CREATED:20260422T205539Z
LAST-MODIFIED:20260422T205539Z
DTSTART;TZID=America/New_York:20260521T120000
DTEND;TZID=America/New_York:20260521T130000
SUMMARY: Old News\, New Evidence: Historical US Newspapers and Legal Resear
 ch
DESCRIPTION: Old News\, New Evidence: Historical US Newspapers and Legal Re
 search Thursday\, May 21 from noon to 1pm ET Zoom Link (no need to register
 ): https://bsy.sh/4PdAt6i   Please join Harvard Law School Library research
 ers to explore the history of newspapers and their uses in legal research. 
 Starting with an overview of newspapers as disseminators of the […]
X-ALT-DESC;FMTTYPE=text/html: <p><span style="font-weight: 400\;"><b>Old Ne
 ws\, New Evidence: Historical US Newspapers and Legal Research</b></span></
 p><p>Thursday\, May 21 from noon to 1pm ET</p><p><span style="font-weight: 
 400\;">Zoom Link (no need to register): </span><a href="https://bsy.sh/4PdA
 t6i"><span style="font-weight: 400\;">https://bsy.sh/4PdAt6i</span></a></p>
 <p> </p><p><span style="font-weight: 400\;">Please join Harvard Law School 
 Library researchers to explore the history of newspapers and their uses in 
 legal research. Starting with an overview of newspapers as disseminators of
  the law and as shapers of the nation\, they will then offer examples and c
 autionary tales about how “the first drafts of history” have been used to p
 rovide evidence\, uncover buried histories\, and offer windows into the pas
 t. Their presentation will cover strategies for using historical newspapers
  in the digital age\, highlighting obstacles and showcasing resources.  </s
 pan></p><p> </p><p><b>Shay Elbaum </b><span style="font-weight: 400\;">is a
  Faculty Research Librarian at the Harvard Law School Library\, where he do
 es a little bit of everything but focuses on supporting law school faculty 
 with their scholarly research. He is working on an article about historical
  newspapers as neglected sources of legislative history. </span></p><p> </p
 ><p><b>Molly Hardy</b><span style="font-weight: 400\;"> currently serves as
  the Project Lead for the </span><a href="https://lil.law.harvard.edu/our-w
 ork/public-data-project/"><span style="font-weight: 400\;">Public Data Proj
 ect</span></a><span style="font-weight: 400\;"> at Harvard Law School’s Lib
 rary Innovation Lab. Previously\, as a senior program officer at the Nation
 al Endowment for the Humanities\, she managed </span><i><span style="font-w
 eight: 400\;">Chronicling America</span></i><span style="font-weight: 400\;
 ">\, a collaboration with the Library of Congress and libraries throughout 
 the country. Her most recent article\, “Newspapers and Memory\,” can be fou
 nd in the </span><i><span style="font-weight: 400\;">Cambridge History of t
 he American Revolution </span></i><span style="font-weight: 400\;">(2026).<
 /span></p><p> </p><p><b>This event is jointly hosted by Harvard Law School 
 Library Innovation Lab and the Association of Boston Law Libraries. </b></p
 >
CATEGORIES:Videoconference
LOCATION:Zoom
GEO:40.712728;-74.006015
ORGANIZER;CN="Harmony Eidolon":MAILTO:heidolon@law.harvard.edu
URL;VALUE=URI:https://hls.harvard.edu/events/old-news-new-evidence-historic
 al-us-newspapers-and-legal-research/
ATTACH;FMTTYPE=image/png:https://hls.harvard.edu/wp-content/uploads/2026/04/ABLL_LIL_DigitalFlyer_QR-1.png
END:VEVENT
BEGIN:VTIMEZONE
TZID:America/New_York
BEGIN:DAYLIGHT
TZOFFSETFROM:-0500
TZOFFSETTO:-0400
DTSTART:20260308T070000
TZNAME:EDT
END:DAYLIGHT
END:VTIMEZONE
END:VCALENDAR
