BEGIN:VCALENDAR
VERSION:2.0
PRODID:-//Harvard Law School//NONSGML Events//EN
CALSCALE:GREGORIAN
X-WR-CALNAME:Harvard Law School - Events
X-ORIGINAL-URL:https://hls.harvard.edu/calendar/
X-WR-CALDESC:Harvard Law School - Events
BEGIN:VEVENT
UID:20251110T2218Z-1762813090.2451-EO-731897-1@10.73.7.213
STATUS:CONFIRMED
DTSTAMP:20260423T175603Z
CREATED:20251110T143220Z
LAST-MODIFIED:20251110T143220Z
DTSTART;TZID=America/New_York:20251112T133000
DTEND;TZID=America/New_York:20251112T163000
SUMMARY: Office Hours with Spencer Pahlke
DESCRIPTION: Want to dig deeper into plaintiff’s side practice?  Have quest
 ions about partnership structures at plaintiffs firms?  About finding your 
 niche?  About the business side of plaintiff’s practice?  Or anything else 
 better-suited for a short meeting?  Inspired by the Weinstein Fellows Progr
 am\, join Spencer Pahlke for office hours to answer any more in-depth quest
 ions you have […]
X-ALT-DESC;FMTTYPE=text/html: <div class="nBzcnc OcVpRe"><div id="xDetDlgDe
 sc" class="toUqff vfzv">Want to dig deeper into plaintiff’s side practice? 
  Have questions about partnership structures at plaintiffs firms?  About fi
 nding your niche?  About the business side of plaintiff’s practice?  Or any
 thing else better-suited for a short meeting?  Inspired by the Weinstein Fe
 llows Program\, join Spencer Pahlke for office hours to answer any more in-
 depth questions you have plaintiff’s practice.  In addition to his catastro
 phic personal injury and wrongful death practice at Walkup Melodia in San F
 rancisco\, Spencer held the founding summit for the NPLA\, is the founder o
 f For the Plaintiff\, and has mentored many dozens of aspiring plaintiff’s 
 attorneys.</div></div>
ORGANIZER;CN="Jenna Boguslavsky":MAILTO:jboguslavsky@jd27.law.harvard.edu
URL;VALUE=URI:https://hls.harvard.edu/events/office-hours-with-spencer-pahl
 ke/
END:VEVENT
BEGIN:VTIMEZONE
TZID:America/New_York
BEGIN:STANDARD
TZOFFSETFROM:-0400
TZOFFSETTO:-0500
DTSTART:20251102T060000
TZNAME:EST
END:STANDARD
END:VTIMEZONE
END:VCALENDAR
