BEGIN:VCALENDAR
VERSION:2.0
PRODID:-//Harvard Law School//NONSGML Events//EN
CALSCALE:GREGORIAN
X-WR-CALNAME:Harvard Law School - Events
X-ORIGINAL-URL:https://hls.harvard.edu/calendar/
X-WR-CALDESC:Harvard Law School - Events
BEGIN:VEVENT
UID:20250925T1738Z-1758821896.3475-EO-724730-1@10.73.9.45
STATUS:CONFIRMED
DTSTAMP:20260423T104951Z
CREATED:20250925T134308Z
LAST-MODIFIED:20250929T183654Z
DTSTART;TZID=America/New_York:20251007T123000
DTEND;TZID=America/New_York:20251007T131500
RDATE;TZID=America/New_York:20251016T123000,20251105T123000
SUMMARY: OCS Peer Adviser Resume and Cover Letter Workshop
DESCRIPTION: Room varies by date. \nIn a small group setting\, 1Ls will wor
 k with OCS’s 3L Peer Advisers on how to draft a professional\, impressive r
 esume and a persuasive cover letter for the private sector. Students can ei
 ther bring their application materials to the workshop or take notes for la
 ter. Feel free to bring your lunch.
X-ALT-DESC;FMTTYPE=text/html: <p>In a small group setting\, 1Ls will work w
 ith OCS’s 3L Peer Advisers on how to draft a professional\, impressive resu
 me and a persuasive cover letter for the private sector. Students can eithe
 r bring their application materials to the workshop or take notes for later
 . Feel free to bring your lunch.</p><p><strong>There are 3 sessions being h
 eld for this event\, each from 12:30-1:15 pm:</strong></p><ul><li><a href="
 https://hls.harvard.edu/events/ocs-peer-adviser-resume-and-cover-letter-wor
 kshop/?occurrence=9850">Tuesday\, October 7:</a> WCC 3038 with Chamberlain<
 /li><li><a href="https://hls.harvard.edu/events/ocs-peer-adviser-resume-and
 -cover-letter-workshop/?occurrence=9851">Thursday\, October 16</a>: WCC 300
 7 with Shaan</li><li><a href="https://hls.harvard.edu/events/ocs-peer-advis
 er-resume-and-cover-letter-workshop/?occurrence=9852">Wednesday\, November 
 5</a>: WCC 3007 with Sarina</li></ul><p>If you are unable to attend a works
 hop\, stop by <a href="https://hls.harvard.edu/ocs/about-ocs/drop-in-hours-
 and-zoom-contact-info/">Peer Adviser drop-in hours</a> to ask questions and
  get help updating your application materials.</p>
CATEGORIES:Career Event
ORGANIZER;CN="Ashli J Black":MAILTO:ablack@law.harvard.edu
URL;VALUE=URI:https://hls.harvard.edu/events/ocs-peer-adviser-resume-and-co
 ver-letter-workshop/
END:VEVENT
BEGIN:VEVENT
UID:20250925T1738Z-1758821896.3475-EO-724730-1@10.73.9.45
STATUS:CONFIRMED
DTSTAMP:20260423T104951Z
CREATED:20250925T134308Z
LAST-MODIFIED:20250929T183654Z
DTSTART;TZID=America/New_York:20251007T123000
DTEND;TZID=America/New_York:20251007T131500
RDATE;TZID=America/New_York:20251016T123000,20251105T123000
SUMMARY: OCS Peer Adviser Resume and Cover Letter Workshop
DESCRIPTION: Room varies by date. \nIn a small group setting\, 1Ls will wor
 k with OCS’s 3L Peer Advisers on how to draft a professional\, impressive r
 esume and a persuasive cover letter for the private sector. Students can ei
 ther bring their application materials to the workshop or take notes for la
 ter. Feel free to bring your lunch.
X-ALT-DESC;FMTTYPE=text/html: <p>In a small group setting\, 1Ls will work w
 ith OCS’s 3L Peer Advisers on how to draft a professional\, impressive resu
 me and a persuasive cover letter for the private sector. Students can eithe
 r bring their application materials to the workshop or take notes for later
 . Feel free to bring your lunch.</p><p><strong>There are 3 sessions being h
 eld for this event\, each from 12:30-1:15 pm:</strong></p><ul><li><a href="
 https://hls.harvard.edu/events/ocs-peer-adviser-resume-and-cover-letter-wor
 kshop/?occurrence=9850">Tuesday\, October 7:</a> WCC 3038 with Chamberlain<
 /li><li><a href="https://hls.harvard.edu/events/ocs-peer-adviser-resume-and
 -cover-letter-workshop/?occurrence=9851">Thursday\, October 16</a>: WCC 300
 7 with Shaan</li><li><a href="https://hls.harvard.edu/events/ocs-peer-advis
 er-resume-and-cover-letter-workshop/?occurrence=9852">Wednesday\, November 
 5</a>: WCC 3007 with Sarina</li></ul><p>If you are unable to attend a works
 hop\, stop by <a href="https://hls.harvard.edu/ocs/about-ocs/drop-in-hours-
 and-zoom-contact-info/">Peer Adviser drop-in hours</a> to ask questions and
  get help updating your application materials.</p>
CATEGORIES:Career Event
ORGANIZER;CN="Ashli J Black":MAILTO:ablack@law.harvard.edu
URL;VALUE=URI:https://hls.harvard.edu/events/ocs-peer-adviser-resume-and-co
 ver-letter-workshop/
END:VEVENT
BEGIN:VEVENT
UID:20250925T1738Z-1758821896.3475-EO-724730-1@10.73.9.45
STATUS:CONFIRMED
DTSTAMP:20260423T104951Z
CREATED:20250925T134308Z
LAST-MODIFIED:20250929T183654Z
DTSTART;TZID=America/New_York:20251007T123000
DTEND;TZID=America/New_York:20251007T131500
RDATE;TZID=America/New_York:20251016T123000,20251105T123000
SUMMARY: OCS Peer Adviser Resume and Cover Letter Workshop
DESCRIPTION: Room varies by date. \nIn a small group setting\, 1Ls will wor
 k with OCS’s 3L Peer Advisers on how to draft a professional\, impressive r
 esume and a persuasive cover letter for the private sector. Students can ei
 ther bring their application materials to the workshop or take notes for la
 ter. Feel free to bring your lunch.
X-ALT-DESC;FMTTYPE=text/html: <p>In a small group setting\, 1Ls will work w
 ith OCS’s 3L Peer Advisers on how to draft a professional\, impressive resu
 me and a persuasive cover letter for the private sector. Students can eithe
 r bring their application materials to the workshop or take notes for later
 . Feel free to bring your lunch.</p><p><strong>There are 3 sessions being h
 eld for this event\, each from 12:30-1:15 pm:</strong></p><ul><li><a href="
 https://hls.harvard.edu/events/ocs-peer-adviser-resume-and-cover-letter-wor
 kshop/?occurrence=9850">Tuesday\, October 7:</a> WCC 3038 with Chamberlain<
 /li><li><a href="https://hls.harvard.edu/events/ocs-peer-adviser-resume-and
 -cover-letter-workshop/?occurrence=9851">Thursday\, October 16</a>: WCC 300
 7 with Shaan</li><li><a href="https://hls.harvard.edu/events/ocs-peer-advis
 er-resume-and-cover-letter-workshop/?occurrence=9852">Wednesday\, November 
 5</a>: WCC 3007 with Sarina</li></ul><p>If you are unable to attend a works
 hop\, stop by <a href="https://hls.harvard.edu/ocs/about-ocs/drop-in-hours-
 and-zoom-contact-info/">Peer Adviser drop-in hours</a> to ask questions and
  get help updating your application materials.</p>
CATEGORIES:Career Event
ORGANIZER;CN="Ashli J Black":MAILTO:ablack@law.harvard.edu
URL;VALUE=URI:https://hls.harvard.edu/events/ocs-peer-adviser-resume-and-co
 ver-letter-workshop/
END:VEVENT
BEGIN:VTIMEZONE
TZID:America/New_York
BEGIN:DAYLIGHT
TZOFFSETFROM:-0500
TZOFFSETTO:-0400
DTSTART:20250309T070000
TZNAME:EDT
END:DAYLIGHT
BEGIN:STANDARD
TZOFFSETFROM:-0400
TZOFFSETTO:-0500
DTSTART:20251102T060000
TZNAME:EST
END:STANDARD
END:VTIMEZONE
END:VCALENDAR
