BEGIN:VCALENDAR
VERSION:2.0
PRODID:-//Harvard Law School//NONSGML Events//EN
CALSCALE:GREGORIAN
X-WR-CALNAME:Harvard Law School - Events
X-ORIGINAL-URL:https://hls.harvard.edu/calendar/
X-WR-CALDESC:Harvard Law School - Events
BEGIN:VEVENT
UID:20251103T1946Z-1762199205.2007-EO-731101-1@10.73.9.43
STATUS:CONFIRMED
DTSTAMP:20260423T083740Z
CREATED:20251103T190510Z
LAST-MODIFIED:20251103T190510Z
DTSTART;TZID=America/New_York:20251119T180000
DTEND;TZID=America/New_York:20251119T193000
SUMMARY: November Interfaith Dinner
DESCRIPTION: Wednesday\, November 19\, 6-7:30pm Location TBA (Harvard Squar
 e Campus) Are you interested in learning about the lived experiences of oth
 er religious\, ethical\, and spiritual students at Harvard? Join us for con
 versation over a delicious meal. Vote for the conversation topic and sugges
 t your favorite dinner options. Open to students from all religious\, spiri
 tual\, and ethical backgrounds. […]
X-ALT-DESC;FMTTYPE=text/html: <div dir="ltr">Wednesday\, November 19\, 6-7:
 30pm</div><div dir="ltr">Location TBA (Harvard Square Campus)</div><div dir
 ="ltr"></div><div dir="ltr">Are you interested in learning about the lived 
 experiences of other religious\, ethical\, and spiritual students at Harvar
 d? Join us for conversation over a delicious meal. <b>Vote for the conversa
 tion topic and suggest your favorite dinner options.</b> Open to students f
 rom all religious\, spiritual\, and ethical backgrounds.</div><div dir="ltr
 "></div><div dir="ltr">RSVP here: <a title="https://docs.google.com/forms/d
 /e/1FAIpQLSeGOAxcI2nTJ8-i34YcKUbLl-OMD8HAIsTdPiv1UJKEPiGzGg/viewform?usp=he
 ader" href="https://docs.google.com/forms/d/e/1FAIpQLSeGOAxcI2nTJ8-i34YcKUb
 Ll-OMD8HAIsTdPiv1UJKEPiGzGg/viewform?usp=header" target="_blank" rel="noope
 ner" data-outlook-id="4d253de4-8e7f-4775-bcda-efd199f56c33">https://docs.go
 ogle.com/forms/d/e/1FAIpQLSeGOAxcI2nTJ8-i34YcKUbLl-OMD8HAIsTdPiv1UJKEPiGzGg
 /viewform?usp=header</a></div>
CATEGORIES:Meal Function
ORGANIZER;CN="Kayla Kaszyca":MAILTO:kkaszyca@law.harvard.edu
URL;VALUE=URI:https://hls.harvard.edu/events/november-interfaith-dinner/
ATTACH;FMTTYPE=image/png:https://hls.harvard.edu/wp-content/uploads/2025/11/Interfaith-Dinner-Poster-Postcard-US-4.png
END:VEVENT
BEGIN:VTIMEZONE
TZID:America/New_York
BEGIN:STANDARD
TZOFFSETFROM:-0400
TZOFFSETTO:-0500
DTSTART:20251102T060000
TZNAME:EST
END:STANDARD
END:VTIMEZONE
END:VCALENDAR
