BEGIN:VCALENDAR
VERSION:2.0
PRODID:-//Harvard Law School//NONSGML Events//EN
CALSCALE:GREGORIAN
X-WR-CALNAME:Harvard Law School - Events
X-ORIGINAL-URL:https://hls.harvard.edu/calendar/
X-WR-CALDESC:Harvard Law School - Events
BEGIN:VEVENT
UID:20260422T1731Z-1776879096.2808-EO-749689-1@10.73.0.38
STATUS:CONFIRMED
DTSTAMP:20260422T133136Z
CREATED:20260422T142739Z
LAST-MODIFIED:20260422T142739Z
DTSTART;TZID=America/New_York:20260507T120000
DTEND;TZID=America/New_York:20260507T133000
SUMMARY: New Findings in the Field of Negotiation: Research from the PON Gr
 aduate Research Fellows
DESCRIPTION: The Program on Negotiation’s 2025-2026 Graduate Research Fello
 ws will present their research on current topics in negotiation\, mediation
 \, and conflict resolution. This session offers an opportunity for three fe
 llows to share and discuss new findings with the negotiation community. Thi
 s webinar will explore topics such as the rehumanization of adversaries in 
 high-level peace negotiations\, how […]
X-ALT-DESC;FMTTYPE=text/html: <p>The Program on Negotiation’s 2025-2026 Gra
 duate Research Fellows will present their research on current topics in neg
 otiation\, mediation\, and conflict resolution. This session offers an oppo
 rtunity for three fellows to share and discuss new findings with the negoti
 ation community.</p><p>This webinar will explore topics such as the rehuman
 ization of adversaries in high-level peace negotiations\, how dispute syste
 ms design can be reimagined in a data-driven world\, and how the micro-dyna
 mics of conversation shape negotiation processes and outcomes.</p>
CATEGORIES:Lecture,Speaker/Panel
LOCATION:Zoom
GEO:40.712728;-74.006015
ORGANIZER;CN="CJ Bigsby":MAILTO:cbigsby@law.harvard.edu
URL;VALUE=URI:https://hls.harvard.edu/events/new-findings-in-the-field-of-n
 egotiation-research-from-the-pon-graduate-research-fellows/
ATTACH;FMTTYPE=image/png:https://hls.harvard.edu/wp-content/uploads/2026/04/May-7-PON-Live-Linked-In-Post.png
END:VEVENT
BEGIN:VTIMEZONE
TZID:America/New_York
BEGIN:DAYLIGHT
TZOFFSETFROM:-0500
TZOFFSETTO:-0400
DTSTART:20260308T070000
TZNAME:EDT
END:DAYLIGHT
END:VTIMEZONE
END:VCALENDAR
