BEGIN:VCALENDAR
VERSION:2.0
PRODID:-//Harvard Law School//NONSGML Events//EN
CALSCALE:GREGORIAN
X-WR-CALNAME:Harvard Law School - Events
X-ORIGINAL-URL:https://hls.harvard.edu/calendar/
X-WR-CALDESC:Harvard Law School - Events
BEGIN:VEVENT
UID:20241203T1802Z-1733248979.1848-EO-680253-1@10.73.11.44
STATUS:CONFIRMED
DTSTAMP:20260422T034946Z
CREATED:20241203T161402Z
LAST-MODIFIED:20241219T212855Z
DTSTART;TZID=America/New_York:20250116T180000
DTEND;TZID=America/New_York:20250116T210000
SUMMARY: EIP Networking Masterclass & Mingle
DESCRIPTION: As you begin to gear up for EIP\, learn the unspoken rules of 
 the legal profession\, including how to successfully network\, then mingle 
 with attorneys at OCS’s largest employer reception of the year.   Part One:
  Presentation on the Unspoken Rules of Professional Success with Gorick Ng 
 Professional success depends on more than just your legal […]
X-ALT-DESC;FMTTYPE=text/html: <p><span data-contrast="none">As you begin to
  gear up for EIP\, learn the unspoken rules of the legal profession\, inclu
 ding how to successfully network\, then mingle with attorneys at OCS’s larg
 est employer reception of the year. </span><span data-ccp-props="{"20134198
 3":0\,"335557856":16777215\,"335559739":0\,"335559740":240}"> </span></p><h
 3>Part One: Presentation on the Unspoken Rules of Professional Success with
  Gorick Ng</h3><p><span data-contrast="none">Professional success depends o
 n more than just your legal work product. In his presentation\, Gorick Ng e
 xplains how to navigate expectations with tips from his </span><i><span dat
 a-contrast="none">Wall Street Journal</span></i><span data-contrast="none">
  Bestselling book\, The Unspoken Rules: Secrets to Starting Your Career Off
  Right. Gorick will demystify the unspoken “code” of professional success a
 nd provide concrete steps for making a favorable impression throughout the 
 recruitment process and on-the-job.</span><span data-ccp-props="{"201341983
 ":0\,"335557856":16777215\,"335559739":0\,"335559740":240}"> </span></p><h3
 >Part Two: Networking Reception with Attorneys from EIP Firms</h3><p><span 
 data-contrast="none">Immediately after the presentation\, put what you have
  learned into action at a fun and festive reception with attorneys from law
  firms around the country who participate in EIP. Practice mingling and eng
 age in networking in a low-stakes professional setting. Heavy hors d’oeuvre
 s will be served\, along with wine\, beer and non-alcoholic drinks. </span>
 <span data-ccp-props="{"201341983":0\,"335557856":16777215\,"335559739":0\,
 "335559740":240}"> </span></p><h3>Register Now</h3><p><span data-contrast="
 none">RSVP today for this important and informative event! Anyone who regis
 ters will receive a printed nametag for the employer reception. You are enc
 ouraged but not required to attend both parts of this 1L-only event.</span>
 <span data-ccp-props="{"201341983":0\,"335557856":16777215\,"335559739":0\,
 "335559740":240}"> </span></p><p><a href="https://law-harvard-csm.symplicit
 y.com/students/?s=event&ss=ws&mode=form&id=9ce45a48ec037b74282534bdb865b9f0
 ">RSVP in (CSM)</a>. This event is for 1Ls only.</p><p>Persons with disabil
 ities who wish to request accommodations or who have questions about access
 \, please contact <a href="mailto:ocs@law.harvard.edu">ocs@law.harvard.edu<
 /a> in advance of this event.</p>
CATEGORIES:Career Event
LOCATION:Milstein East and West
GEO:0.000000;0.000000
ORGANIZER;CN="Cassie Filios":MAILTO:cfilios@law.harvard.edu
URL;VALUE=URI:https://hls.harvard.edu/events/networking-masterclass-mingle/
END:VEVENT
BEGIN:VTIMEZONE
TZID:America/New_York
BEGIN:STANDARD
TZOFFSETFROM:-0400
TZOFFSETTO:-0500
DTSTART:20241103T060000
TZNAME:EST
END:STANDARD
END:VTIMEZONE
END:VCALENDAR
