BEGIN:VCALENDAR
VERSION:2.0
PRODID:-//Harvard Law School//NONSGML Events//EN
CALSCALE:GREGORIAN
X-WR-CALNAME:Harvard Law School - Events
X-ORIGINAL-URL:https://hls.harvard.edu/calendar/
X-WR-CALDESC:Harvard Law School - Events
BEGIN:VEVENT
UID:20250805T0442Z-1754368932.4203-EO-715975-1@10.73.5.249
STATUS:CONFIRMED
DTSTAMP:20260423T102929Z
CREATED:20250804T135503Z
LAST-MODIFIED:20260323T211501Z
DTSTART;TZID=America/New_York:20251021T123000
DTEND;TZID=America/New_York:20251021T131500
SUMMARY: MPRE Presentation
DESCRIPTION: Information session on the MPRE. Please bring your own lunch.
X-ALT-DESC;FMTTYPE=text/html: <p>Information session on the MPRE.<br />Plea
 se bring your own lunch.</p>
LOCATION:WCC\; 1010 Classroom
GEO:0;0
ORGANIZER;CN="API User":MAILTO:api@law.harvard.edu
URL;VALUE=URI:https://hls.harvard.edu/events/mpre-presentation-3/
END:VEVENT
BEGIN:VTIMEZONE
TZID:America/New_York
BEGIN:DAYLIGHT
TZOFFSETFROM:-0500
TZOFFSETTO:-0400
DTSTART:20250309T070000
TZNAME:EDT
END:DAYLIGHT
END:VTIMEZONE
END:VCALENDAR
