BEGIN:VCALENDAR
VERSION:2.0
PRODID:-//Harvard Law School//NONSGML Events//EN
CALSCALE:GREGORIAN
X-WR-CALNAME:Harvard Law School - Events
X-ORIGINAL-URL:https://hls.harvard.edu/calendar/
X-WR-CALDESC:Harvard Law School - Events
BEGIN:VEVENT
UID:20251030T1232Z-1761827539.1517-EO-730534-1@10.73.0.4
STATUS:CONFIRMED
DTSTAMP:20260423T123528Z
CREATED:20251029T174423Z
LAST-MODIFIED:20251029T174423Z
DTSTART;TZID=America/New_York:20251104T173000
DTEND;TZID=America/New_York:20251104T191500
SUMMARY: Mississippi Delta Celebration
DESCRIPTION: The Mississippi Delta Project (MDP) looks forward to seeing yo
 u at our annual Delta Celebration on Tuesday\, November 4\, at 5:30 pm. The
  celebration/reception will be held in Milstein West AB of the Wasserstein 
 building (WCC 2019) on the Harvard Law School campus in Cambridge\, MA. The
  Celebration is an opportunity to meet and reconnect with members of the Ha
 rvard […]
X-ALT-DESC;FMTTYPE=text/html: <p>The Mississippi Delta Project (MDP) looks 
 forward to seeing you at our <strong>annual Delta Celebration on</strong> <
 strong>Tuesday\, November 4\, at 5:30 pm</strong>. The celebration/receptio
 n will be held in Milstein West AB of the Wasserstein building (WCC 2019) o
 n the <a role="link" href="https://hls.harvard.edu/about/campus-map-and-dir
 ections/">Harvard Law School campus</a> in Cambridge\, MA.</p><p>The Celebr
 ation is an opportunity to meet and reconnect with members of the Harvard c
 ommunity\, the Delta Directions Consortium\, MDP student leaders\, and gues
 ts who share a commitment to the Delta region and supporting rural communit
 ies. We will also be joined by the <a role="link" href="https://urldefense.
 proofpoint.com/v2/url?u=https-3A__www.honors.msstate.edu_delta-2Dscholars_&
 d=DwMFAg&c=WO-RGvefibhHBZq3fL85hQ&r=K_ax14GlsrlER6LmIRmXzhTH_MaxCRFwJoEBBHU
 Qooo&m=UQibbaQk2kZGPV7bbRwAUM2IYDPjoPlJa4vhpGUfPJXFO6ROhCQvLxWGM57ZMNhe&s=r
 JMFq_n25Rj_tNxjY0G1XpmSwla4zzfidNCIap-CXiM&e=">Delta Scholars</a>\, who wil
 l be on campus as part of their Boston Conference\, a follow-up to their Su
 mmer Institute program in the Delta.</p><p><strong>We are also excited to i
 nvite you to lunch on November 4 (12:30 pm)\, </strong>where we will enjoy 
 a fireside chat with Dr. Oscar Brookins\, emeritus faculty in the College o
 f Social Sciences and Humanities at Northeastern University. Dr. Brookins\,
  an accomplished economist and a native of Yazoo County\, is currently writ
 ing a memoir about growing up in Mississippi. We will explore themes from h
 is memoir and reflect on why focusing on community-centered work in the Del
 ta is so important in this moment. <em>The fireside chat will also be in Mi
 lstein West (WCC 2019) on the Harvard Law School campus.</em></p>
CATEGORIES:Reception
LOCATION:WCC\; 2019 Milstein West B
GEO:0;0
ORGANIZER;CN="Ada Ezeokoli":MAILTO:aezeokoli@law.harvard.edu
URL;VALUE=URI:https://hls.harvard.edu/events/mississippi-delta-celebration/
ATTACH;FMTTYPE=image/png:https://hls.harvard.edu/wp-content/uploads/2025/10/Delta-Event.png
END:VEVENT
BEGIN:VTIMEZONE
TZID:America/New_York
BEGIN:STANDARD
TZOFFSETFROM:-0400
TZOFFSETTO:-0500
DTSTART:20251102T060000
TZNAME:EST
END:STANDARD
END:VTIMEZONE
END:VCALENDAR
